Workbook

Sheet READ ME

Sheet Vaughan Lewis Longitudinal
A1: PointID | B1: YearSurveyed | C1: Profile | D1: Point | E1: Epoch | F1: Easting_JIRP | G1: Northing_JIRP | H1: Easting_UTM8 | I1: Northing_UTM8 | J1: Height | K1: DateTime | L1: Horizontal_Precision | M1: Vertical_Precision | N1: Comments
A2: =B2 & "-" & C2 & "-" & D2 & "-" & E2 -> 2001-VL Long-1-0 | B2: 2001 | C2: VL Long | D2: 1 | E2: 0 | F2: 482797.78 | G2: 6523674.6 | H2: 540540.83 | I2: 6521239.5 | J2: 1087.788 | K2: 37113.471
A3: =B3 & "-" & C3 & "-" & D3 & "-" & E3 -> 2001-VL Long-2-0 | B3: 2001 | C3: VL Long | D3: 2 | E3: 0 | F3: 482791.09 | G3: 6523675.1 | H3: 540534.14 | I3: 6521239.8 | J3: 1089.255 | K3: 37113.472
A4: =B4 & "-" & C4 & "-" & D4 & "-" & E4 -> 2001-VL Long-3-0 | B4: 2001 | C4: VL Long | D4: 3 | E4: 0 | F4: 482784.46 | G4: 6523675.7 | H4: 540527.5 | I4: 6521240.4 | J4: 1090.146 | K4: 37113.472
A5: =B5 & "-" & C5 & "-" & D5 & "-" & E5 -> 2001-VL Long-4-0 | B5: 2001 | C5: VL Long | D5: 4 | E5: 0 | F5: 482777.91 | G5: 6523676.6 | H5: 540520.94 | I5: 6521241.2 | J5: 1091.2 | K5: 37113.473
A6: =B6 & "-" & C6 & "-" & D6 & "-" & E6 -> 2001-VL Long-5-0 | B6: 2001 | C6: VL Long | D6: 5 | E6: 0 | F6: 482771.47 | G6: 6523676.6 | H6: 540514.51 | I6: 6521241.1 | J6: 1092.668 | K6: 37113.474
A7: =B7 & "-" & C7 & "-" & D7 & "-" & E7 -> 2001-VL Long-6-0 | B7: 2001 | C7: VL Long | D7: 6 | E7: 0 | F7: 482764.95 | G7: 6523676.8 | H7: 540507.98 | I7: 6521241.2 | J7: 1094.185 | K7: 37113.474
A8: =B8 & "-" & C8 & "-" & D8 & "-" & E8 -> 2001-VL Long-7-0 | B8: 2001 | C8: VL Long | D8: 7 | E8: 0 | F8: 482757.81 | G8: 6523676.9 | H8: 540500.85 | I8: 6521241.2 | J8: 1095.297 | K8: 37113.474
A9: =B9 & "-" & C9 & "-" & D9 & "-" & E9 -> 2001-VL Long-8-0 | B9: 2001 | C9: VL Long | D9: 8 | E9: 0 | F9: 482749.91 | G9: 6523677.4 | H9: 540492.94 | I9: 6521241.5 | J9: 1095.93 | K9: 37113.474
A10: =B10 & "-" & C10 & "-" & D10 & "-" & E10 -> 2001-VL Long-9-0 | B10: 2001 | C10: VL Long | D10: 9 | E10: 0 | F10: 482741.91 | G10: 6523677.8 | H10: 540484.95 | I10: 6521241.8 | J10: 1096.412 | K10: 37113.488
A11: =B11 & "-" & C11 & "-" & D11 & "-" & E11 -> 2001-VL Long-10-0 | B11: 2001 | C11: VL Long | D11: 10 | E11: 0 | F11: 482735.82 | G11: 6523678.5 | H11: 540478.85 | I11: 6521242.4 | J11: 1095.357 | K11: 37113.489
A12: =B12 & "-" & C12 & "-" & D12 & "-" & E12 -> 2001-VL Long-11-0 | B12: 2001 | C12: VL Long | D12: 11 | E12: 0 | F12: 482728.56 | G12: 6523678.7 | H12: 540471.58 | I12: 6521242.5 | J12: 1094.624 | K12: 37113.489
A13: =B13 & "-" & C13 & "-" & D13 & "-" & E13 -> 2001-VL Long-12-0 | B13: 2001 | C13: VL Long | D13: 12 | E13: 0 | F13: 482721.56 | G13: 6523679 | H13: 540464.58 | I13: 6521242.7 | J13: 1093.714 | K13: 37113.49
... A187: =B187 & "-" & C187 & "-" & D187 & "-" & E187 -> 2003-VL Long-7-0 | B187: 2003 | C187: VL Long | D187: 7 | E187: 0 | F187: 482757.72 | G187: 6523676.9 | H187: 540500.76 | I187: 6521241.1 | J187: 1084.871 | K187: 37841.496
A188: =B188 & "-" & C188 & "-" & D188 & "-" & E188 -> 2003-VL Long-8-0 | B188: 2003 | C188: VL Long | D188: 8 | E188: 0 | N188: no survey data for Epoch 0
A189: =B189 & "-" & C189 & "-" & D189 & "-" & E189 -> 2003-VL Long-9-0 | B189: 2003 | C189: VL Long | D189: 9 | E189: 0 | F189: 482741.99 | G189: 6523677.8 | H189: 540485.03 | I189: 6521241.8 | J189: 1088.008 | K189: 37841.497
A190: =B190 & "-" & C190 & "-" & D190 & "-" & E190 -> 2003-VL Long-10-0 | B190: 2003 | C190: VL Long | D190: 10 | E190: 0 | F190: 482735.97 | G190: 6523678.5 | H190: 540479 | I190: 6521242.4 | J190: 1088.396 | K190: 37841.499
A191: =B191 & "-" & C191 & "-" & D191 & "-" & E191 -> 2003-VL Long-11-0 | B191: 2003 | C191: VL Long | D191: 11 | E191: 0 | F191: 482728.55 | G191: 6523678.6 | H191: 540471.57 | I191: 6521242.4 | J191: 1088.167 | K191: 37841.501
A192: =B192 & "-" & C192 & "-" & D192 & "-" & E192 -> 2003-VL Long-12-0 | B192: 2003 | C192: VL Long | D192: 12 | E192: 0 | F192: 482721.56 | G192: 6523679 | H192: 540464.58 | I192: 6521242.7 | J192: 1087.577 | K192: 37841.501
A193: =B193 & "-" & C193 & "-" & D193 & "-" & E193 -> 2003-VL Long-13-0 | B193: 2003 | C193: VL Long | D193: 13 | E193: 0 | F193: 482715.07 | G193: 6523678.1 | H193: 540458.11 | I193: 6521241.7 | J193: 1087.12 | K193: 37841.502
A194: =B194 & "-" & C194 & "-" & D194 & "-" & E194 -> 2003-VL Long-14-0 | B194: 2003 | C194: VL Long | D194: 14 | E194: 0 | F194: 482708.41 | G194: 6523677.5 | H194: 540451.46 | I194: 6521241 | J194: 1086.553 | K194: 37841.503
A195: =B195 & "-" & C195 & "-" & D195 & "-" & E195 -> 2003-VL Long-15-0 | B195: 2003 | C195: VL Long | D195: 15 | E195: 0 | F195: 482701.01 | G195: 6523677.1 | H195: 540444.07 | I195: 6521240.5 | J195: 1085.573 | K195: 37841.503
A196: =B196 & "-" & C196 & "-" & D196 & "-" & E196 -> 2003-VL Long-16-0 | B196: 2003 | C196: VL Long | D196: 16 | E196: 0 | F196: 482693.54 | G196: 6523676.9 | H196: 540436.61 | I196: 6521240.2 | J196: 1084.831 | K196: 37841.506
A197: =B197 & "-" & C197 & "-" & D197 & "-" & E197 -> 2003-VL Long-17-0 | B197: 2003 | C197: VL Long | D197: 17 | E197: 0 | F197: 482685.81 | G197: 6523676.8 | H197: 540428.88 | I197: 6521239.9 | J197: 1083.195 | K197: 37841.506
A198: =B198 & "-" & C198 & "-" & D198 & "-" & E198 -> 2003-VL Long-18-0 | B198: 2003 | C198: VL Long | D198: 18 | E198: 0 | F198: 482678.58 | G198: 6523676.9 | H198: 540421.65 | I198: 6521240 | J198: 1081.093 | K198: 37841.507
A199: =B199 & "-" & C199 & "-" & D199 & "-" & E199 -> 2003-VL Long-19-0 | B199: 2003 | C199: VL Long | D199: 19 | E199: 0 | F199: 482670.91 | G199: 6523677.1 | H199: 540413.98 | I199: 6521240 | J199: 1079.393 | K199: 37841.508
A200: =B200 & "-" & C200 & "-" & D200 & "-" & E200 -> 2003-VL Long-20-0 | B200: 2003 | C200: VL Long | D200: 20 | E200: 0 | F200: 482662.77 | G200: 6523676.8 | H200: 540405.85 | I200: 6521239.7 | J200: 1076.83 | K200: 37841.509
... A378: =B378 & "-" & C378 & "-" & D378 & "-" & E378 -> 2004-VL Long-19-0 | B378: 2004 | C378: VL Long | D378: 19 | E378: 0 | F378: 482671.06 | G378: 6523677.1 | H378: 540414.14 | I378: 6521240 | J378: 1071.644 | K378: 38210.605
A379: =B379 & "-" & C379 & "-" & D379 & "-" & E379 -> 2004-VL Long-20-0 | B379: 2004 | C379: VL Long | D379: 20 | E379: 0 | N379: no survey data for Epoch 0
A380: =B380 & "-" & C380 & "-" & D380 & "-" & E380 -> 2004-VL Long-21-0 | B380: 2004 | C380: VL Long | D380: 21 | E380: 0 | N380: no survey data for Epoch 0
A381: =B381 & "-" & C381 & "-" & D381 & "-" & E381 -> 2004-VL Long-22-0 | B381: 2004 | C381: VL Long | D381: 22 | E381: 0 | N381: no survey data for Epoch 0
A382: =B382 & "-" & C382 & "-" & D382 & "-" & E382 -> 2004-VL Long-23-0 | B382: 2004 | C382: VL Long | D382: 23 | E382: 0 | N382: no survey data for Epoch 0
A383: =B383 & "-" & C383 & "-" & D383 & "-" & E383 -> 2004-VL Long-24-0 | B383: 2004 | C383: VL Long | D383: 24 | E383: 0 | N383: no survey data for Epoch 0
A384: =B384 & "-" & C384 & "-" & D384 & "-" & E384 -> 2004-VL Long-25-0 | B384: 2004 | C384: VL Long | D384: 25 | E384: 0 | N384: no survey data for Epoch 0
A385: =B385 & "-" & C385 & "-" & D385 & "-" & E385 -> 2004-VL Long-26-0 | B385: 2004 | C385: VL Long | D385: 26 | E385: 0 | F385: 482619.77 | G385: 6523675.4 | H385: 540362.89 | I385: 6521237.6 | J385: 1072.619 | K385: 38210.599
A386: =B386 & "-" & C386 & "-" & D386 & "-" & E386 -> 2004-VL Long-27-0 | B386: 2004 | C386: VL Long | D386: 27 | E386: 0 | F386: 482611.59 | G386: 6523674.2 | H386: 540354.74 | I386: 6521236.2 | J386: 1074.329 | K386: 38210.599
A387: =B387 & "-" & C387 & "-" & D387 & "-" & E387 -> 2004-VL Long-28-0 | B387: 2004 | C387: VL Long | D387: 28 | E387: 0 | F387: 482603.69 | G387: 6523673.1 | H387: 540346.86 | I387: 6521235.1 | J387: 1075.149 | K387: 38210.597
A388: =B388 & "-" & C388 & "-" & D388 & "-" & E388 -> 2004-VL Long-29-0 | B388: 2004 | C388: VL Long | D388: 29 | E388: 0 | F388: 482596.53 | G388: 6523671.5 | H388: 540339.73 | I388: 6521233.4 | J388: 1075.255 | K388: 38210.597
A389: =B389 & "-" & C389 & "-" & D389 & "-" & E389 -> 2004-VL Long-30-0 | B389: 2004 | C389: VL Long | D389: 30 | E389: 0 | F389: 482588.23 | G389: 6523670.4 | H389: 540331.45 | I389: 6521232.1 | J389: 1074.951 | K389: 38210.596
A390: =B390 & "-" & C390 & "-" & D390 & "-" & E390 -> 2004-VL Long-31-0 | B390: 2004 | C390: VL Long | D390: 31 | E390: 0 | F390: 482580.34 | G390: 6523669.6 | H390: 540323.58 | I390: 6521231.2 | J390: 1074.136 | K390: 38210.595
...

Sheet Annual Heights
A1: Point | B1: Easting Stakeout | C1: Northing Stakeout | D1: Point to Point Distance | E1: Cumulative Distance | F1: 2001 Height | G1: 2003 Height | H1: 2004 Height | I1: 2005 Height | J1: 2006 Height | K1: 2007 Height | L1: 2013 Height | M1: 2017 Height | N1: 2026 Height
A2: 1 | B2: 540540.83 | C2: 6521239.5 | D2: 0 | E2: 0 | F2: 1087.788 | G2: 1085.395 | H2: 1078.049 | I2: 1083.097 | J2: 1077.281 | K2: 1074.241 | M2: 1054.506
A3: 2 | B3: 540534.14 | C3: 6521239.8 | D3: =SQRT((B2-B3)^2 + (C2-C3)^2) -> 6.6976011 | E3: =E2+D3 -> 6.6976011 | F3: 1089.255 | G3: 1082.685 | H3: 1078.551 | I3: 1084.992 | J3: 1079.711 | K3: 1073.434 | L3: 1060.878 | M3: 1055.103
A4: 3 | B4: 540527.5 | C4: 6521240.4 | D4: =SQRT((B3-B4)^2 + (C3-C4)^2) -> 6.6593533 | E4: =E3+D4 -> 13.356954 | F4: 1090.146 | G4: 1082.002 | H4: 1079.435 | I4: 1085.018 | J4: 1080.816 | K4: 1073.683 | L4: 1061.334 | M4: 1055.267
A5: 4 | B5: 540520.94 | C5: 6521241.2 | D5: =SQRT((B4-B5)^2 + (C4-C5)^2) -> 6.612912 | E5: =E4+D5 -> 19.969866 | F5: 1091.2 | G5: 1081.604 | H5: 1080.954 | I5: 1084.963 | J5: 1081.528 | K5: 1074.541 | L5: 1062.913 | M5: 1055.177
A6: 5 | B6: 540514.51 | C6: 6521241.1 | D6: =SQRT((B5-B6)^2 + (C5-C6)^2) -> 6.4326345 | E6: =E5+D6 -> 26.402501 | F6: 1092.668 | G6: 1082.508 | H6: 1082.116 | I6: 1085.266 | J6: 1082.749 | K6: 1075.728 | L6: 1064.54 | M6: 1054.892
A7: 6 | B7: 540507.98 | C7: 6521241.2 | D7: =SQRT((B6-B7)^2 + (C6-C7)^2) -> 6.5272947 | E7: =E6+D7 -> 32.929796 | F7: 1094.185 | G7: 1083.164 | H7: 1083.605 | I7: 1084.762 | J7: 1082.938 | K7: 1077.436 | L7: 1065.396 | M7: 1053.932
A8: 7 | B8: 540500.85 | C8: 6521241.2 | D8: =SQRT((B7-B8)^2 + (C7-C8)^2) -> 7.1310371 | E8: =E7+D8 -> 40.060833 | F8: 1095.297 | G8: 1084.871 | H8: 1084.996 | I8: 1084.032 | J8: 1082.151 | K8: 1077.609 | L8: 1066.216 | M8: 1053.295
A9: 8 | B9: 540492.94 | C9: 6521241.5 | D9: =SQRT((B8-B9)^2 + (C8-C9)^2) -> 7.9219582 | E9: =E8+D9 -> 47.982791 | F9: 1095.93 | H9: 1085.129 | I9: 1082.983 | J9: 1081.201 | K9: 1077.507 | L9: 1067 | M9: 1051.678
A10: 9 | B10: 540484.94 | C10: 6521241.8 | D10: =SQRT((B9-B10)^2 + (C9-C10)^2) -> 7.997877 | E10: =E9+D10 -> 55.980668 | F10: 1096.412 | G10: 1088.008 | H10: 1085.622 | I10: 1081.905 | J10: 1080.128 | K10: 1077.82 | L10: 1067.35 | M10: 1049.962
A11: 10 | B11: 540478.85 | C11: 6521242.4 | D11: =SQRT((B10-B11)^2 + (C10-C11)^2) -> 6.1303544 | E11: =E10+D11 -> 62.111022 | F11: 1095.357 | G11: 1088.396 | H11: 1085.489 | I11: 1081.141 | J11: 1079.353 | K11: 1077.628 | L11: 1067.134 | M11: 1048.009
A12: 11 | B12: 540471.58 | C12: 6521242.5 | D12: =SQRT((B11-B12)^2 + (C11-C12)^2) -> 7.2663296 | E12: =E11+D12 -> 69.377352 | F12: 1094.624 | G12: 1088.167 | H12: 1085.053 | I12: 1080.015 | J12: 1078.119 | K12: 1076.975 | L12: 1066.835 | M12: 1045.75
A13: 12 | B13: 540464.58 | C13: 6521242.7 | D13: =SQRT((B12-B13)^2 + (C12-C13)^2) -> 7.0013602 | E13: =E12+D13 -> 76.378712 | F13: 1093.714 | G13: 1087.577 | H13: 1084.278 | I13: 1078.709 | J13: 1076.525 | K13: 1076.392 | L13: 1066.541 | M13: 1043.64
A14: 13 | B14: 540457.96 | C14: 6521241.8 | D14: =SQRT((B13-B14)^2 + (C13-C14)^2) -> 6.6774453 | E14: =E13+D14 -> 83.056157 | F14: 1092.716 | G14: 1087.12 | H14: 1083.719 | I14: 1077.79 | J14: 1075.186 | K14: 1075.267 | L14: 1066.137 | M14: 1041.691
A15: 14 | B15: 540451.4 | C15: 6521241.1 | D15: =SQRT((B14-B15)^2 + (C14-C15)^2) -> 6.5941993 | E15: =E14+D15 -> 89.650357 | F15: 1091.765 | G15: 1086.553 | H15: 1082.675 | I15: 1075.992 | J15: 1073.507 | K15: 1073.686 | L15: 1065.527 | M15: 1040.329
A16: 15 | B16: 540444.12 | C16: 6521240.5 | D16: =SQRT((B15-B16)^2 + (C15-C16)^2) -> 7.3022025 | E16: =E15+D16 -> 96.952559 | F16: 1090.487 | G16: 1085.573 | H16: 1081.025 | I16: 1074.24 | J16: 1071.044 | K16: 1071.414 | L16: 1064.628 | M16: 1039.159
A17: 16 | B17: 540436.5 | C17: 6521240.2 | D17: =SQRT((B16-B17)^2 + (C16-C17)^2) -> 7.6264052 | E17: =E16+D17 -> 104.57896 | F17: 1088.952 | G17: 1084.831 | H17: 1079.237 | I17: 1071.844 | J17: 1068.604 | K17: 1069.242 | L17: 1063.653 | M17: 1040.495
A18: 17 | B18: 540428.83 | C18: 6521239.9 | D18: =SQRT((B17-B18)^2 + (C17-C18)^2) -> 7.6807823 | E18: =E17+D18 -> 112.25975 | F18: 1087.48 | G18: 1083.195 | H18: 1076.849 | I18: 1070.017 | K18: 1066.696 | L18: 1062.193 | M18: 1041.655
A19: 18 | B19: 540421.62 | C19: 6521240 | D19: =SQRT((B18-B19)^2 + (C18-C19)^2) -> 7.2073596 | E19: =E18+D19 -> 119.46711 | F19: 1085.727 | G19: 1081.093 | H19: 1074.337 | I19: 1068.59 | K19: 1064.444 | L19: 1060.072 | M19: 1042.188
A20: 19 | B20: 540414.1 | C20: 6521240 | D20: =SQRT((B19-B20)^2 + (C19-C20)^2) -> 7.5180293 | E20: =E19+D20 -> 126.98514 | F20: 1083.53 | G20: 1079.393 | H20: 1071.644 | I20: 1067.818 | J20: 1066.364 | K20: 1063.182 | L20: 1058.322 | M20: 1042.539
A21: 20 | B21: 540405.83 | C21: 6521239.7 | D21: =SQRT((B20-B21)^2 + (C20-C21)^2) -> 8.2843545 | E21: =E20+D21 -> 135.26949 | F21: 1081.19 | G21: 1076.83 | I21: 1067.037 | J21: 1069.234 | K21: 1064.882 | L21: 1056.481 | M21: 1042.496
A22: 21 | B22: 540399.26 | C22: 6521240.1 | D22: =SQRT((B21-B22)^2 + (C21-C22)^2) -> 6.5799818 | E22: =E21+D22 -> 141.84947 | F22: 1079.669 | G22: 1074.875 | I22: 1067.494 | J22: 1070.418 | K22: 1066.327 | L22: 1055.179 | M22: 1042.45
A23: 22 | B23: 540393.44 | C23: 6521239.1 | D23: =SQRT((B22-B23)^2 + (C22-C23)^2) -> 5.9049221 | E23: =E22+D23 -> 147.75439 | F23: 1081.198 | G23: 1070.617 | I23: 1068.48 | J23: 1071.744 | K23: 1067.957 | L23: 1054.201 | M23: 1042.901
A24: 23 | B24: 540386.56 | C24: 6521238.7 | D24: =SQRT((B23-B24)^2 + (C23-C24)^2) -> 6.887672 | E24: =E23+D24 -> 154.64207 | F24: 1082.786 | G24: 1067.958 | I24: 1069.318 | J24: 1071.995 | K24: 1069.413 | L24: 1053.697 | M24: 1043.227
A25: 24 | B25: 540378.72 | C25: 6521238.8 | D25: =SQRT((B24-B25)^2 + (C24-C25)^2) -> 7.8361235 | E25: =E24+D25 -> 162.47819 | F25: 1084.185 | G25: 1070.022 | I25: 1070.956 | J25: 1072.103 | K25: 1069.908 | L25: 1055.245 | M25: 1042.961
A26: 25 | B26: 540370.92 | C26: 6521238.6 | D26: =SQRT((B25-B26)^2 + (C25-C26)^2) -> 7.8008964 | E26: =E25+D26 -> 170.27909 | F26: 1085.343 | G26: 1072.908 | I26: 1072.513 | J26: 1072.043 | K26: 1069.663 | L26: 1056.695 | M26: 1041.904
A27: 26 | B27: 540362.9 | C27: 6521237.6 | D27: =SQRT((B26-B27)^2 + (C26-C27)^2) -> 8.0882706 | E27: =E26+D27 -> 178.36736 | F27: 1085.826 | G27: 1075.39 | H27: 1072.619 | I27: 1073.567 | J27: 1071.152 | K27: 1069.187 | L27: 1057.76 | M27: 1041.462
A28: 27 | B28: 540354.76 | C28: 6521236.2 | D28: =SQRT((B27-B28)^2 + (C27-C28)^2) -> 8.2541548 | E28: =E27+D28 -> 186.62151 | F28: 1086.277 | G28: 1076.534 | H28: 1074.329 | I28: 1073.815 | J28: 1070.256 | K28: 1068.344 | L28: 1058.235 | M28: 1040.098
A29: 28 | B29: 540346.95 | C29: 6521235.1 | D29: =SQRT((B28-B29)^2 + (C28-C29)^2) -> 7.8771981 | E29: =E28+D29 -> 194.49871 | F29: 1086.137 | G29: 1077.218 | H29: 1075.149 | I29: 1073.586 | J29: 1069.343 | K29: 1067.709 | L29: 1058.23 | M29: 1038.789
A30: 29 | B30: 540339.74 | C30: 6521233.4 | D30: =SQRT((B29-B30)^2 + (C29-C30)^2) -> 7.4212216 | E30: =E29+D30 -> 201.91993 | F30: 1085.753 | G30: 1077.372 | H30: 1075.255 | I30: 1073.082 | J30: 1068.03 | K30: 1066.69 | L30: 1057.743 | M30: 1037.225
A31: 30 | B31: 540331.44 | C31: 6521232.1 | D31: =SQRT((B30-B31)^2 + (C30-C31)^2) -> 8.4030158 | E31: =E30+D31 -> 210.32295 | F31: 1084.924 | G31: 1077.532 | H31: 1074.951 | I31: 1072.094 | J31: 1066.715 | K31: 1065.052 | L31: 1056.595 | M31: 1034.921
A32: 31 | B32: 540323.51 | C32: 6521231.2 | D32: =SQRT((B31-B32)^2 + (C31-C32)^2) -> 7.987322 | E32: =E31+D32 -> 218.31027 | F32: 1083.894 | G32: 1076.318 | H32: 1074.136 | I32: 1070.685 | J32: 1064.777 | K32: 1063.335 | L32: 1055.457 | M32: 1033.341
A33: 32 | B33: 540314.72 | C33: 6521229.7 | D33: =SQRT((B32-B33)^2 + (C32-C33)^2) -> 8.9168997 | E33: =E32+D33 -> 227.22717 | F33: 1081.954 | G33: 1075.909 | H33: 1073.27 | I33: 1068.778 | J33: 1062.882 | K33: 1060.876 | L33: 1053.653 | M33: 1032.106
A34: 33 | B34: 540307.52 | C34: 6521228.1 | D34: =SQRT((B33-B34)^2 + (C33-C34)^2) -> 7.3615402 | E34: =E33+D34 -> 234.58871 | F34: 1080.184 | G34: 1074.918 | H34: 1072.12 | I34: 1066.708 | J34: 1061.582 | K34: 1059.057 | L34: 1051.761 | M34: 1031.321
A35: 34 | B35: 540301.04 | C35: 6521227.1 | D35: =SQRT((B34-B35)^2 + (C34-C35)^2) -> 6.5602537 | E35: =E34+D35 -> 241.14896 | F35: 1078.427 | G35: 1073.609 | H35: 1071.042 | I35: 1064.542 | J35: 1059.639 | K35: 1056.289 | L35: 1049.81 | M35: 1031.849
A36: 35 | B36: 540297.4 | C36: 6521226.5 | D36: =SQRT((B35-B36)^2 + (C35-C36)^2) -> 3.6899889 | E36: =E35+D36 -> 244.83895 | F36: 1077.271 | G36: 1073.407 | H36: 1070.226 | I36: 1063.466 | L36: 1048.174 | M36: 1032.306
A37: 36 | B37: 540278.82 | C37: 6521224.1 | D37: =SQRT((B36-B37)^2 + (C36-C37)^2) -> 18.731457 | E37: =E36+D37 -> 263.57041 | F37: 1064.992 | G37: 1068.485 | H37: 1066.297 | I37: 1058.647 | J37: 1056.918 | K37: 1059.565 | M37: 1035.181
A38: 37 | B38: 540268.9 | C38: 6521221.1 | D38: =SQRT((B37-B38)^2 + (C37-C38)^2) -> 10.36353 | E38: =E37+D38 -> 273.93394 | F38: 1072.118 | G38: 1063.5 | H38: 1062.912 | J38: 1057.869 | K38: 1061.376 | M38: 1036.552
A39: 38 | B39: 540264.28 | C39: 6521219.3 | D39: =SQRT((B38-B39)^2 + (C38-C39)^2) -> 4.9502538 | E39: =E38+D39 -> 278.88419 | F39: 1073.727 | G39: 1063.073 | H39: 1061.214 | J39: 1058.407 | K39: 1061.941 | L39: 1044.568 | M39: 1036.954
A40: 39 | B40: 540258.63 | C40: 6521217.4 | D40: =SQRT((B39-B40)^2 + (C39-C40)^2) -> 5.9660335 | E40: =E39+D40 -> 284.85023 | F40: 1075.355 | G40: 1062.963 | H40: 1058.742 | I40: 1058.429 | J40: 1060.044 | K40: 1062.529 | L40: 1045.5 | M40: 1036.964
...

Sheet Height Change (Cumulative)
A1: Point | B1: Easting Stakeout | C1: Northing Stakeout | D1: Point to Point Distance | E1: Cumulative Distance | F1: 2001 Height | G1: 2001 Baseline | H1: 01 to 03 | I1: 01 to 04 | J1: 01 to 05 | K1: 01 to 06 | L1: 01 to 07 | M1: 01 to 13 | N1: 01 to 17 | O1: 01 to 26
A2: 1 | B2: 540540.83 | C2: 6521239.5 | D2: 0 | E2: 0 | F2: 1087.788 | G2: 0 | H2: ='Annual Heights'!G2-'Annual Heights'!F2 -> -2.393 | I2: ='Annual Heights'!H2-'Annual Heights'!F2 -> -9.739 | J2: ='Annual Heights'!I2-'Annual Heights'!F2 -> -4.691 | K2: ='Annual Heights'!J2-'Annual Heights'!F2 -> -10.507 | L2: ='Annual Heights'!K2-'Annual Heights'!F2 -> -13.547 | N2: ='Annual Heights'!M2-'Annual Heights'!F2 -> -33.282
A3: 2 | B3: 540534.14 | C3: 6521239.8 | D3: 6.6976011 | E3: 6.6976011 | F3: 1089.255 | G3: 0 | H3: ='Annual Heights'!G3-'Annual Heights'!F3 -> -6.57 | I3: ='Annual Heights'!H3-'Annual Heights'!F3 -> -10.704 | J3: ='Annual Heights'!I3-'Annual Heights'!F3 -> -4.263 | K3: ='Annual Heights'!J3-'Annual Heights'!F3 -> -9.544 | L3: ='Annual Heights'!K3-'Annual Heights'!F3 -> -15.821 | M3: ='Annual Heights'!L3-'Annual Heights'!F3 -> -28.377 | N3: ='Annual Heights'!M3-'Annual Heights'!F3 -> -34.152
A4: 3 | B4: 540527.5 | C4: 6521240.4 | D4: 6.6593533 | E4: 13.356954 | F4: 1090.146 | G4: 0 | H4: ='Annual Heights'!G4-'Annual Heights'!F4 -> -8.144 | I4: ='Annual Heights'!H4-'Annual Heights'!F4 -> -10.711 | J4: ='Annual Heights'!I4-'Annual Heights'!F4 -> -5.128 | K4: ='Annual Heights'!J4-'Annual Heights'!F4 -> -9.33 | L4: ='Annual Heights'!K4-'Annual Heights'!F4 -> -16.463 | M4: ='Annual Heights'!L4-'Annual Heights'!F4 -> -28.812 | N4: ='Annual Heights'!M4-'Annual Heights'!F4 -> -34.879
A5: 4 | B5: 540520.94 | C5: 6521241.2 | D5: 6.612912 | E5: 19.969866 | F5: 1091.2 | G5: 0 | H5: ='Annual Heights'!G5-'Annual Heights'!F5 -> -9.596 | I5: ='Annual Heights'!H5-'Annual Heights'!F5 -> -10.246 | J5: ='Annual Heights'!I5-'Annual Heights'!F5 -> -6.237 | K5: ='Annual Heights'!J5-'Annual Heights'!F5 -> -9.672 | L5: ='Annual Heights'!K5-'Annual Heights'!F5 -> -16.659 | M5: ='Annual Heights'!L5-'Annual Heights'!F5 -> -28.287 | N5: ='Annual Heights'!M5-'Annual Heights'!F5 -> -36.023
A6: 5 | B6: 540514.51 | C6: 6521241.1 | D6: 6.4326345 | E6: 26.402501 | F6: 1092.668 | G6: 0 | H6: ='Annual Heights'!G6-'Annual Heights'!F6 -> -10.16 | I6: ='Annual Heights'!H6-'Annual Heights'!F6 -> -10.552 | J6: ='Annual Heights'!I6-'Annual Heights'!F6 -> -7.402 | K6: ='Annual Heights'!J6-'Annual Heights'!F6 -> -9.919 | L6: ='Annual Heights'!K6-'Annual Heights'!F6 -> -16.94 | M6: ='Annual Heights'!L6-'Annual Heights'!F6 -> -28.128 | N6: ='Annual Heights'!M6-'Annual Heights'!F6 -> -37.776
A7: 6 | B7: 540507.98 | C7: 6521241.2 | D7: 6.5272947 | E7: 32.929796 | F7: 1094.185 | G7: 0 | H7: ='Annual Heights'!G7-'Annual Heights'!F7 -> -11.021 | I7: ='Annual Heights'!H7-'Annual Heights'!F7 -> -10.58 | J7: ='Annual Heights'!I7-'Annual Heights'!F7 -> -9.423 | K7: ='Annual Heights'!J7-'Annual Heights'!F7 -> -11.247 | L7: ='Annual Heights'!K7-'Annual Heights'!F7 -> -16.749 | M7: ='Annual Heights'!L7-'Annual Heights'!F7 -> -28.789 | N7: ='Annual Heights'!M7-'Annual Heights'!F7 -> -40.253
A8: 7 | B8: 540500.85 | C8: 6521241.2 | D8: 7.1310371 | E8: 40.060833 | F8: 1095.297 | G8: 0 | H8: ='Annual Heights'!G8-'Annual Heights'!F8 -> -10.426 | I8: ='Annual Heights'!H8-'Annual Heights'!F8 -> -10.301 | J8: ='Annual Heights'!I8-'Annual Heights'!F8 -> -11.265 | K8: ='Annual Heights'!J8-'Annual Heights'!F8 -> -13.146 | L8: ='Annual Heights'!K8-'Annual Heights'!F8 -> -17.688 | M8: ='Annual Heights'!L8-'Annual Heights'!F8 -> -29.081 | N8: ='Annual Heights'!M8-'Annual Heights'!F8 -> -42.002
A9: 8 | B9: 540492.94 | C9: 6521241.5 | D9: 7.9219582 | E9: 47.982791 | F9: 1095.93 | G9: 0 | I9: ='Annual Heights'!H9-'Annual Heights'!F9 -> -10.801 | J9: ='Annual Heights'!I9-'Annual Heights'!F9 -> -12.947 | K9: ='Annual Heights'!J9-'Annual Heights'!F9 -> -14.729 | L9: ='Annual Heights'!K9-'Annual Heights'!F9 -> -18.423 | M9: ='Annual Heights'!L9-'Annual Heights'!F9 -> -28.93 | N9: ='Annual Heights'!M9-'Annual Heights'!F9 -> -44.252
A10: 9 | B10: 540484.94 | C10: 6521241.8 | D10: 7.997877 | E10: 55.980668 | F10: 1096.412 | G10: 0 | H10: ='Annual Heights'!G10-'Annual Heights'!F10 -> -8.404 | I10: ='Annual Heights'!H10-'Annual Heights'!F10 -> -10.79 | J10: ='Annual Heights'!I10-'Annual Heights'!F10 -> -14.507 | K10: ='Annual Heights'!J10-'Annual Heights'!F10 -> -16.284 | L10: ='Annual Heights'!K10-'Annual Heights'!F10 -> -18.592 | M10: ='Annual Heights'!L10-'Annual Heights'!F10 -> -29.062 | N10: ='Annual Heights'!M10-'Annual Heights'!F10 -> -46.45
A11: 10 | B11: 540478.85 | C11: 6521242.4 | D11: 6.1303544 | E11: 62.111022 | F11: 1095.357 | G11: 0 | H11: ='Annual Heights'!G11-'Annual Heights'!F11 -> -6.961 | I11: ='Annual Heights'!H11-'Annual Heights'!F11 -> -9.868 | J11: ='Annual Heights'!I11-'Annual Heights'!F11 -> -14.216 | K11: ='Annual Heights'!J11-'Annual Heights'!F11 -> -16.004 | L11: ='Annual Heights'!K11-'Annual Heights'!F11 -> -17.729 | M11: ='Annual Heights'!L11-'Annual Heights'!F11 -> -28.223 | N11: ='Annual Heights'!M11-'Annual Heights'!F11 -> -47.348
A12: 11 | B12: 540471.58 | C12: 6521242.5 | D12: 7.2663296 | E12: 69.377352 | F12: 1094.624 | G12: 0 | H12: ='Annual Heights'!G12-'Annual Heights'!F12 -> -6.457 | I12: ='Annual Heights'!H12-'Annual Heights'!F12 -> -9.571 | J12: ='Annual Heights'!I12-'Annual Heights'!F12 -> -14.609 | K12: ='Annual Heights'!J12-'Annual Heights'!F12 -> -16.505 | L12: ='Annual Heights'!K12-'Annual Heights'!F12 -> -17.649 | M12: ='Annual Heights'!L12-'Annual Heights'!F12 -> -27.789 | N12: ='Annual Heights'!M12-'Annual Heights'!F12 -> -48.874
A13: 12 | B13: 540464.58 | C13: 6521242.7 | D13: 7.0013602 | E13: 76.378712 | F13: 1093.714 | G13: 0 | H13: ='Annual Heights'!G13-'Annual Heights'!F13 -> -6.137 | I13: ='Annual Heights'!H13-'Annual Heights'!F13 -> -9.436 | J13: ='Annual Heights'!I13-'Annual Heights'!F13 -> -15.005 | K13: ='Annual Heights'!J13-'Annual Heights'!F13 -> -17.189 | L13: ='Annual Heights'!K13-'Annual Heights'!F13 -> -17.322 | M13: ='Annual Heights'!L13-'Annual Heights'!F13 -> -27.173 | N13: ='Annual Heights'!M13-'Annual Heights'!F13 -> -50.074
A14: 13 | B14: 540457.96 | C14: 6521241.8 | D14: 6.6774453 | E14: 83.056157 | F14: 1092.716 | G14: 0 | H14: ='Annual Heights'!G14-'Annual Heights'!F14 -> -5.596 | I14: ='Annual Heights'!H14-'Annual Heights'!F14 -> -8.997 | J14: ='Annual Heights'!I14-'Annual Heights'!F14 -> -14.926 | K14: ='Annual Heights'!J14-'Annual Heights'!F14 -> -17.53 | L14: ='Annual Heights'!K14-'Annual Heights'!F14 -> -17.449 | M14: ='Annual Heights'!L14-'Annual Heights'!F14 -> -26.579 | N14: ='Annual Heights'!M14-'Annual Heights'!F14 -> -51.025
A15: 14 | B15: 540451.4 | C15: 6521241.1 | D15: 6.5941993 | E15: 89.650357 | F15: 1091.765 | G15: 0 | H15: ='Annual Heights'!G15-'Annual Heights'!F15 -> -5.212 | I15: ='Annual Heights'!H15-'Annual Heights'!F15 -> -9.09 | J15: ='Annual Heights'!I15-'Annual Heights'!F15 -> -15.773 | K15: ='Annual Heights'!J15-'Annual Heights'!F15 -> -18.258 | L15: ='Annual Heights'!K15-'Annual Heights'!F15 -> -18.079 | M15: ='Annual Heights'!L15-'Annual Heights'!F15 -> -26.238 | N15: ='Annual Heights'!M15-'Annual Heights'!F15 -> -51.436
A16: 15 | B16: 540444.12 | C16: 6521240.5 | D16: 7.3022025 | E16: 96.952559 | F16: 1090.487 | G16: 0 | H16: ='Annual Heights'!G16-'Annual Heights'!F16 -> -4.914 | I16: ='Annual Heights'!H16-'Annual Heights'!F16 -> -9.462 | J16: ='Annual Heights'!I16-'Annual Heights'!F16 -> -16.247 | K16: ='Annual Heights'!J16-'Annual Heights'!F16 -> -19.443 | L16: ='Annual Heights'!K16-'Annual Heights'!F16 -> -19.073 | M16: ='Annual Heights'!L16-'Annual Heights'!F16 -> -25.859 | N16: ='Annual Heights'!M16-'Annual Heights'!F16 -> -51.328
A17: 16 | B17: 540436.5 | C17: 6521240.2 | D17: 7.6264052 | E17: 104.57896 | F17: 1088.952 | G17: 0 | H17: ='Annual Heights'!G17-'Annual Heights'!F17 -> -4.121 | I17: ='Annual Heights'!H17-'Annual Heights'!F17 -> -9.715 | J17: ='Annual Heights'!I17-'Annual Heights'!F17 -> -17.108 | K17: ='Annual Heights'!J17-'Annual Heights'!F17 -> -20.348 | L17: ='Annual Heights'!K17-'Annual Heights'!F17 -> -19.71 | M17: ='Annual Heights'!L17-'Annual Heights'!F17 -> -25.299 | N17: ='Annual Heights'!M17-'Annual Heights'!F17 -> -48.457
A18: 17 | B18: 540428.83 | C18: 6521239.9 | D18: 7.6807823 | E18: 112.25975 | F18: 1087.48 | G18: 0 | H18: ='Annual Heights'!G18-'Annual Heights'!F18 -> -4.285 | I18: ='Annual Heights'!H18-'Annual Heights'!F18 -> -10.631 | J18: ='Annual Heights'!I18-'Annual Heights'!F18 -> -17.463 | L18: ='Annual Heights'!K18-'Annual Heights'!F18 -> -20.784 | M18: ='Annual Heights'!L18-'Annual Heights'!F18 -> -25.287 | N18: ='Annual Heights'!M18-'Annual Heights'!F18 -> -45.825
A19: 18 | B19: 540421.62 | C19: 6521240 | D19: 7.2073596 | E19: 119.46711 | F19: 1085.727 | G19: 0 | H19: ='Annual Heights'!G19-'Annual Heights'!F19 -> -4.634 | I19: ='Annual Heights'!H19-'Annual Heights'!F19 -> -11.39 | J19: ='Annual Heights'!I19-'Annual Heights'!F19 -> -17.137 | L19: ='Annual Heights'!K19-'Annual Heights'!F19 -> -21.283 | M19: ='Annual Heights'!L19-'Annual Heights'!F19 -> -25.655 | N19: ='Annual Heights'!M19-'Annual Heights'!F19 -> -43.539
A20: 19 | B20: 540414.1 | C20: 6521240 | D20: 7.5180293 | E20: 126.98514 | F20: 1083.53 | G20: 0 | H20: ='Annual Heights'!G20-'Annual Heights'!F20 -> -4.137 | I20: ='Annual Heights'!H20-'Annual Heights'!F20 -> -11.886 | J20: ='Annual Heights'!I20-'Annual Heights'!F20 -> -15.712 | K20: ='Annual Heights'!J20-'Annual Heights'!F20 -> -17.166 | L20: ='Annual Heights'!K20-'Annual Heights'!F20 -> -20.348 | M20: ='Annual Heights'!L20-'Annual Heights'!F20 -> -25.208 | N20: ='Annual Heights'!M20-'Annual Heights'!F20 -> -40.991
A21: 20 | B21: 540405.83 | C21: 6521239.7 | D21: 8.2843545 | E21: 135.26949 | F21: 1081.19 | G21: 0 | H21: ='Annual Heights'!G21-'Annual Heights'!F21 -> -4.36 | J21: ='Annual Heights'!I21-'Annual Heights'!F21 -> -14.153 | K21: ='Annual Heights'!J21-'Annual Heights'!F21 -> -11.956 | L21: ='Annual Heights'!K21-'Annual Heights'!F21 -> -16.308 | M21: ='Annual Heights'!L21-'Annual Heights'!F21 -> -24.709 | N21: ='Annual Heights'!M21-'Annual Heights'!F21 -> -38.694
A22: 21 | B22: 540399.26 | C22: 6521240.1 | D22: 6.5799818 | E22: 141.84947 | F22: 1079.669 | G22: 0 | H22: ='Annual Heights'!G22-'Annual Heights'!F22 -> -4.794 | J22: ='Annual Heights'!I22-'Annual Heights'!F22 -> -12.175 | K22: ='Annual Heights'!J22-'Annual Heights'!F22 -> -9.251 | L22: ='Annual Heights'!K22-'Annual Heights'!F22 -> -13.342 | M22: ='Annual Heights'!L22-'Annual Heights'!F22 -> -24.49 | N22: ='Annual Heights'!M22-'Annual Heights'!F22 -> -37.219
A23: 22 | B23: 540393.44 | C23: 6521239.1 | D23: 5.9049221 | E23: 147.75439 | F23: 1081.198 | G23: 0 | H23: ='Annual Heights'!G23-'Annual Heights'!F23 -> -10.581 | J23: ='Annual Heights'!I23-'Annual Heights'!F23 -> -12.718 | K23: ='Annual Heights'!J23-'Annual Heights'!F23 -> -9.454 | L23: ='Annual Heights'!K23-'Annual Heights'!F23 -> -13.241 | M23: ='Annual Heights'!L23-'Annual Heights'!F23 -> -26.997 | N23: ='Annual Heights'!M23-'Annual Heights'!F23 -> -38.297
A24: 23 | B24: 540386.56 | C24: 6521238.7 | D24: 6.887672 | E24: 154.64207 | F24: 1082.786 | G24: 0 | H24: ='Annual Heights'!G24-'Annual Heights'!F24 -> -14.828 | J24: ='Annual Heights'!I24-'Annual Heights'!F24 -> -13.468 | K24: ='Annual Heights'!J24-'Annual Heights'!F24 -> -10.791 | L24: ='Annual Heights'!K24-'Annual Heights'!F24 -> -13.373 | M24: ='Annual Heights'!L24-'Annual Heights'!F24 -> -29.089 | N24: ='Annual Heights'!M24-'Annual Heights'!F24 -> -39.559
A25: 24 | B25: 540378.72 | C25: 6521238.8 | D25: 7.8361235 | E25: 162.47819 | F25: 1084.185 | G25: 0 | H25: ='Annual Heights'!G25-'Annual Heights'!F25 -> -14.163 | J25: ='Annual Heights'!I25-'Annual Heights'!F25 -> -13.229 | K25: ='Annual Heights'!J25-'Annual Heights'!F25 -> -12.082 | L25: ='Annual Heights'!K25-'Annual Heights'!F25 -> -14.277 | M25: ='Annual Heights'!L25-'Annual Heights'!F25 -> -28.94 | N25: ='Annual Heights'!M25-'Annual Heights'!F25 -> -41.224
A26: 25 | B26: 540370.92 | C26: 6521238.6 | D26: 7.8008964 | E26: 170.27909 | F26: 1085.343 | G26: 0 | H26: ='Annual Heights'!G26-'Annual Heights'!F26 -> -12.435 | J26: ='Annual Heights'!I26-'Annual Heights'!F26 -> -12.83 | K26: ='Annual Heights'!J26-'Annual Heights'!F26 -> -13.3 | L26: ='Annual Heights'!K26-'Annual Heights'!F26 -> -15.68 | M26: ='Annual Heights'!L26-'Annual Heights'!F26 -> -28.648 | N26: ='Annual Heights'!M26-'Annual Heights'!F26 -> -43.439
A27: 26 | B27: 540362.9 | C27: 6521237.6 | D27: 8.0882706 | E27: 178.36736 | F27: 1085.826 | G27: 0 | H27: ='Annual Heights'!G27-'Annual Heights'!F27 -> -10.436 | I27: ='Annual Heights'!H27-'Annual Heights'!F27 -> -13.207 | J27: ='Annual Heights'!I27-'Annual Heights'!F27 -> -12.259 | K27: ='Annual Heights'!J27-'Annual Heights'!F27 -> -14.674 | L27: ='Annual Heights'!K27-'Annual Heights'!F27 -> -16.639 | M27: ='Annual Heights'!L27-'Annual Heights'!F27 -> -28.066 | N27: ='Annual Heights'!M27-'Annual Heights'!F27 -> -44.364
A28: 27 | B28: 540354.76 | C28: 6521236.2 | D28: 8.2541548 | E28: 186.62151 | F28: 1086.277 | G28: 0 | H28: ='Annual Heights'!G28-'Annual Heights'!F28 -> -9.743 | I28: ='Annual Heights'!H28-'Annual Heights'!F28 -> -11.948 | J28: ='Annual Heights'!I28-'Annual Heights'!F28 -> -12.462 | K28: ='Annual Heights'!J28-'Annual Heights'!F28 -> -16.021 | L28: ='Annual Heights'!K28-'Annual Heights'!F28 -> -17.933 | M28: ='Annual Heights'!L28-'Annual Heights'!F28 -> -28.042 | N28: ='Annual Heights'!M28-'Annual Heights'!F28 -> -46.179
A29: 28 | B29: 540346.95 | C29: 6521235.1 | D29: 7.8771981 | E29: 194.49871 | F29: 1086.137 | G29: 0 | H29: ='Annual Heights'!G29-'Annual Heights'!F29 -> -8.919 | I29: ='Annual Heights'!H29-'Annual Heights'!F29 -> -10.988 | J29: ='Annual Heights'!I29-'Annual Heights'!F29 -> -12.551 | K29: ='Annual Heights'!J29-'Annual Heights'!F29 -> -16.794 | L29: ='Annual Heights'!K29-'Annual Heights'!F29 -> -18.428 | M29: ='Annual Heights'!L29-'Annual Heights'!F29 -> -27.907 | N29: ='Annual Heights'!M29-'Annual Heights'!F29 -> -47.348
A30: 29 | B30: 540339.74 | C30: 6521233.4 | D30: 7.4212216 | E30: 201.91993 | F30: 1085.753 | G30: 0 | H30: ='Annual Heights'!G30-'Annual Heights'!F30 -> -8.381 | I30: ='Annual Heights'!H30-'Annual Heights'!F30 -> -10.498 | J30: ='Annual Heights'!I30-'Annual Heights'!F30 -> -12.671 | K30: ='Annual Heights'!J30-'Annual Heights'!F30 -> -17.723 | L30: ='Annual Heights'!K30-'Annual Heights'!F30 -> -19.063 | M30: ='Annual Heights'!L30-'Annual Heights'!F30 -> -28.01 | N30: ='Annual Heights'!M30-'Annual Heights'!F30 -> -48.528
A31: 30 | B31: 540331.44 | C31: 6521232.1 | D31: 8.4030158 | E31: 210.32295 | F31: 1084.924 | G31: 0 | H31: ='Annual Heights'!G31-'Annual Heights'!F31 -> -7.392 | I31: ='Annual Heights'!H31-'Annual Heights'!F31 -> -9.973 | J31: ='Annual Heights'!I31-'Annual Heights'!F31 -> -12.83 | K31: ='Annual Heights'!J31-'Annual Heights'!F31 -> -18.209 | L31: ='Annual Heights'!K31-'Annual Heights'!F31 -> -19.872 | M31: ='Annual Heights'!L31-'Annual Heights'!F31 -> -28.329 | N31: ='Annual Heights'!M31-'Annual Heights'!F31 -> -50.003
A32: 31 | B32: 540323.51 | C32: 6521231.2 | D32: 7.987322 | E32: 218.31027 | F32: 1083.894 | G32: 0 | H32: ='Annual Heights'!G32-'Annual Heights'!F32 -> -7.576 | I32: ='Annual Heights'!H32-'Annual Heights'!F32 -> -9.758 | J32: ='Annual Heights'!I32-'Annual Heights'!F32 -> -13.209 | K32: ='Annual Heights'!J32-'Annual Heights'!F32 -> -19.117 | L32: ='Annual Heights'!K32-'Annual Heights'!F32 -> -20.559 | M32: ='Annual Heights'!L32-'Annual Heights'!F32 -> -28.437 | N32: ='Annual Heights'!M32-'Annual Heights'!F32 -> -50.553
A33: 32 | B33: 540314.72 | C33: 6521229.7 | D33: 8.9168997 | E33: 227.22717 | F33: 1081.954 | G33: 0 | H33: ='Annual Heights'!G33-'Annual Heights'!F33 -> -6.045 | I33: ='Annual Heights'!H33-'Annual Heights'!F33 -> -8.684 | J33: ='Annual Heights'!I33-'Annual Heights'!F33 -> -13.176 | K33: ='Annual Heights'!J33-'Annual Heights'!F33 -> -19.072 | L33: ='Annual Heights'!K33-'Annual Heights'!F33 -> -21.078 | M33: ='Annual Heights'!L33-'Annual Heights'!F33 -> -28.301 | N33: ='Annual Heights'!M33-'Annual Heights'!F33 -> -49.848
A34: 33 | B34: 540307.52 | C34: 6521228.1 | D34: 7.3615402 | E34: 234.58871 | F34: 1080.184 | G34: 0 | H34: ='Annual Heights'!G34-'Annual Heights'!F34 -> -5.266 | I34: ='Annual Heights'!H34-'Annual Heights'!F34 -> -8.064 | J34: ='Annual Heights'!I34-'Annual Heights'!F34 -> -13.476 | K34: ='Annual Heights'!J34-'Annual Heights'!F34 -> -18.602 | L34: ='Annual Heights'!K34-'Annual Heights'!F34 -> -21.127 | M34: ='Annual Heights'!L34-'Annual Heights'!F34 -> -28.423 | N34: ='Annual Heights'!M34-'Annual Heights'!F34 -> -48.863
A35: 34 | B35: 540301.04 | C35: 6521227.1 | D35: 6.5602537 | E35: 241.14896 | F35: 1078.427 | G35: 0 | H35: ='Annual Heights'!G35-'Annual Heights'!F35 -> -4.818 | I35: ='Annual Heights'!H35-'Annual Heights'!F35 -> -7.385 | J35: ='Annual Heights'!I35-'Annual Heights'!F35 -> -13.885 | K35: ='Annual Heights'!J35-'Annual Heights'!F35 -> -18.788 | L35: ='Annual Heights'!K35-'Annual Heights'!F35 -> -22.138 | M35: ='Annual Heights'!L35-'Annual Heights'!F35 -> -28.617 | N35: ='Annual Heights'!M35-'Annual Heights'!F35 -> -46.578
A36: 35 | B36: 540297.4 | C36: 6521226.5 | D36: 3.6899889 | E36: 244.83895 | F36: 1077.271 | G36: 0 | H36: ='Annual Heights'!G36-'Annual Heights'!F36 -> -3.864 | I36: ='Annual Heights'!H36-'Annual Heights'!F36 -> -7.045 | J36: ='Annual Heights'!I36-'Annual Heights'!F36 -> -13.805 | M36: ='Annual Heights'!L36-'Annual Heights'!F36 -> -29.097 | N36: ='Annual Heights'!M36-'Annual Heights'!F36 -> -44.965
A37: 36 | B37: 540278.82 | C37: 6521224.1 | D37: 18.731457 | E37: 263.57041 | F37: 1064.992 | G37: 0 | H37: ='Annual Heights'!G37-'Annual Heights'!F37 -> 3.493 | I37: ='Annual Heights'!H37-'Annual Heights'!F37 -> 1.305 | J37: ='Annual Heights'!I37-'Annual Heights'!F37 -> -6.345 | K37: ='Annual Heights'!J37-'Annual Heights'!F37 -> -8.074 | L37: ='Annual Heights'!K37-'Annual Heights'!F37 -> -5.427 | N37: ='Annual Heights'!M37-'Annual Heights'!F37 -> -29.811
A38: 37 | B38: 540268.9 | C38: 6521221.1 | D38: 10.36353 | E38: 273.93394 | F38: 1072.118 | G38: 0 | H38: ='Annual Heights'!G38-'Annual Heights'!F38 -> -8.618 | I38: ='Annual Heights'!H38-'Annual Heights'!F38 -> -9.206 | K38: ='Annual Heights'!J38-'Annual Heights'!F38 -> -14.249 | L38: ='Annual Heights'!K38-'Annual Heights'!F38 -> -10.742 | N38: ='Annual Heights'!M38-'Annual Heights'!F38 -> -35.566
A39: 38 | B39: 540264.28 | C39: 6521219.3 | D39: 4.9502538 | E39: 278.88419 | F39: 1073.727 | G39: 0 | H39: ='Annual Heights'!G39-'Annual Heights'!F39 -> -10.654 | I39: ='Annual Heights'!H39-'Annual Heights'!F39 -> -12.513 | K39: ='Annual Heights'!J39-'Annual Heights'!F39 -> -15.32 | L39: ='Annual Heights'!K39-'Annual Heights'!F39 -> -11.786 | M39: ='Annual Heights'!L39-'Annual Heights'!F39 -> -29.159 | N39: ='Annual Heights'!M39-'Annual Heights'!F39 -> -36.773
A40: 39 | B40: 540258.63 | C40: 6521217.4 | D40: 5.9660335 | E40: 284.85023 | F40: 1075.355 | G40: 0 | H40: ='Annual Heights'!G40-'Annual Heights'!F40 -> -12.392 | I40: ='Annual Heights'!H40-'Annual Heights'!F40 -> -16.613 | J40: ='Annual Heights'!I40-'Annual Heights'!F40 -> -16.926 | K40: ='Annual Heights'!J40-'Annual Heights'!F40 -> -15.311 | L40: ='Annual Heights'!K40-'Annual Heights'!F40 -> -12.826 | M40: ='Annual Heights'!L40-'Annual Heights'!F40 -> -29.855 | N40: ='Annual Heights'!M40-'Annual Heights'!F40 -> -38.391
...

Sheet Height Change (Annual)
A1: Point | B1: Easting Stakeout | C1: Northing Stakeout | D1: Point to Point Distance | E1: Cumulative Distance | F1: 01 to 03 | G1: 03 to 04 | H1: 04 to 05 | I1: 05 to 06 | J1: 06 to 07 | K1: 07 to 13 | L1: 13 to 17 | M1: 17 to 26
A2: 1 | B2: 540540.83 | C2: 6521239.5 | D2: 0 | E2: 0 | F2: ='Annual Heights'!G2-'Annual Heights'!F2 -> -2.393 | G2: ='Annual Heights'!H2-'Annual Heights'!G2 -> -7.346 | H2: ='Annual Heights'!I2-'Annual Heights'!H2 -> 5.048 | I2: ='Annual Heights'!J2-'Annual Heights'!I2 -> -5.816 | J2: ='Annual Heights'!K2-'Annual Heights'!J2 -> -3.04
A3: 2 | B3: 540534.14 | C3: 6521239.8 | D3: 6.6976011 | E3: 6.6976011 | F3: ='Annual Heights'!G3-'Annual Heights'!F3 -> -6.57 | G3: ='Annual Heights'!H3-'Annual Heights'!G3 -> -4.134 | H3: ='Annual Heights'!I3-'Annual Heights'!H3 -> 6.441 | I3: ='Annual Heights'!J3-'Annual Heights'!I3 -> -5.281 | J3: ='Annual Heights'!K3-'Annual Heights'!J3 -> -6.277 | K3: ='Annual Heights'!L3-'Annual Heights'!K3 -> -12.556 | L3: ='Annual Heights'!M3-'Annual Heights'!L3 -> -5.775
A4: 3 | B4: 540527.5 | C4: 6521240.4 | D4: 6.6593533 | E4: 13.356954 | F4: ='Annual Heights'!G4-'Annual Heights'!F4 -> -8.144 | G4: ='Annual Heights'!H4-'Annual Heights'!G4 -> -2.567 | H4: ='Annual Heights'!I4-'Annual Heights'!H4 -> 5.583 | I4: ='Annual Heights'!J4-'Annual Heights'!I4 -> -4.202 | J4: ='Annual Heights'!K4-'Annual Heights'!J4 -> -7.133 | K4: ='Annual Heights'!L4-'Annual Heights'!K4 -> -12.349 | L4: ='Annual Heights'!M4-'Annual Heights'!L4 -> -6.067
A5: 4 | B5: 540520.94 | C5: 6521241.2 | D5: 6.612912 | E5: 19.969866 | F5: ='Annual Heights'!G5-'Annual Heights'!F5 -> -9.596 | G5: ='Annual Heights'!H5-'Annual Heights'!G5 -> -0.65 | H5: ='Annual Heights'!I5-'Annual Heights'!H5 -> 4.009 | I5: ='Annual Heights'!J5-'Annual Heights'!I5 -> -3.435 | J5: ='Annual Heights'!K5-'Annual Heights'!J5 -> -6.987 | K5: ='Annual Heights'!L5-'Annual Heights'!K5 -> -11.628 | L5: ='Annual Heights'!M5-'Annual Heights'!L5 -> -7.736
A6: 5 | B6: 540514.51 | C6: 6521241.1 | D6: 6.4326345 | E6: 26.402501 | F6: ='Annual Heights'!G6-'Annual Heights'!F6 -> -10.16 | G6: ='Annual Heights'!H6-'Annual Heights'!G6 -> -0.392 | H6: ='Annual Heights'!I6-'Annual Heights'!H6 -> 3.15 | I6: ='Annual Heights'!J6-'Annual Heights'!I6 -> -2.517 | J6: ='Annual Heights'!K6-'Annual Heights'!J6 -> -7.021 | K6: ='Annual Heights'!L6-'Annual Heights'!K6 -> -11.188 | L6: ='Annual Heights'!M6-'Annual Heights'!L6 -> -9.648
A7: 6 | B7: 540507.98 | C7: 6521241.2 | D7: 6.5272947 | E7: 32.929796 | F7: ='Annual Heights'!G7-'Annual Heights'!F7 -> -11.021 | G7: ='Annual Heights'!H7-'Annual Heights'!G7 -> 0.441 | H7: ='Annual Heights'!I7-'Annual Heights'!H7 -> 1.157 | I7: ='Annual Heights'!J7-'Annual Heights'!I7 -> -1.824 | J7: ='Annual Heights'!K7-'Annual Heights'!J7 -> -5.502 | K7: ='Annual Heights'!L7-'Annual Heights'!K7 -> -12.04 | L7: ='Annual Heights'!M7-'Annual Heights'!L7 -> -11.464
A8: 7 | B8: 540500.85 | C8: 6521241.2 | D8: 7.1310371 | E8: 40.060833 | F8: ='Annual Heights'!G8-'Annual Heights'!F8 -> -10.426 | G8: ='Annual Heights'!H8-'Annual Heights'!G8 -> 0.125 | H8: ='Annual Heights'!I8-'Annual Heights'!H8 -> -0.964 | I8: ='Annual Heights'!J8-'Annual Heights'!I8 -> -1.881 | J8: ='Annual Heights'!K8-'Annual Heights'!J8 -> -4.542 | K8: ='Annual Heights'!L8-'Annual Heights'!K8 -> -11.393 | L8: ='Annual Heights'!M8-'Annual Heights'!L8 -> -12.921
A9: 8 | B9: 540492.94 | C9: 6521241.5 | D9: 7.9219582 | E9: 47.982791 | H9: ='Annual Heights'!I9-'Annual Heights'!H9 -> -2.146 | I9: ='Annual Heights'!J9-'Annual Heights'!I9 -> -1.782 | J9: ='Annual Heights'!K9-'Annual Heights'!J9 -> -3.694 | K9: ='Annual Heights'!L9-'Annual Heights'!K9 -> -10.507 | L9: ='Annual Heights'!M9-'Annual Heights'!L9 -> -15.322
A10: 9 | B10: 540484.94 | C10: 6521241.8 | D10: 7.997877 | E10: 55.980668 | F10: ='Annual Heights'!G10-'Annual Heights'!F10 -> -8.404 | G10: ='Annual Heights'!H10-'Annual Heights'!G10 -> -2.386 | H10: ='Annual Heights'!I10-'Annual Heights'!H10 -> -3.717 | I10: ='Annual Heights'!J10-'Annual Heights'!I10 -> -1.777 | J10: ='Annual Heights'!K10-'Annual Heights'!J10 -> -2.308 | K10: ='Annual Heights'!L10-'Annual Heights'!K10 -> -10.47 | L10: ='Annual Heights'!M10-'Annual Heights'!L10 -> -17.388
A11: 10 | B11: 540478.85 | C11: 6521242.4 | D11: 6.1303544 | E11: 62.111022 | F11: ='Annual Heights'!G11-'Annual Heights'!F11 -> -6.961 | G11: ='Annual Heights'!H11-'Annual Heights'!G11 -> -2.907 | H11: ='Annual Heights'!I11-'Annual Heights'!H11 -> -4.348 | I11: ='Annual Heights'!J11-'Annual Heights'!I11 -> -1.788 | J11: ='Annual Heights'!K11-'Annual Heights'!J11 -> -1.725 | K11: ='Annual Heights'!L11-'Annual Heights'!K11 -> -10.494 | L11: ='Annual Heights'!M11-'Annual Heights'!L11 -> -19.125
A12: 11 | B12: 540471.58 | C12: 6521242.5 | D12: 7.2663296 | E12: 69.377352 | F12: ='Annual Heights'!G12-'Annual Heights'!F12 -> -6.457 | G12: ='Annual Heights'!H12-'Annual Heights'!G12 -> -3.114 | H12: ='Annual Heights'!I12-'Annual Heights'!H12 -> -5.038 | I12: ='Annual Heights'!J12-'Annual Heights'!I12 -> -1.896 | J12: ='Annual Heights'!K12-'Annual Heights'!J12 -> -1.144 | K12: ='Annual Heights'!L12-'Annual Heights'!K12 -> -10.14 | L12: ='Annual Heights'!M12-'Annual Heights'!L12 -> -21.085
A13: 12 | B13: 540464.58 | C13: 6521242.7 | D13: 7.0013602 | E13: 76.378712 | F13: ='Annual Heights'!G13-'Annual Heights'!F13 -> -6.137 | G13: ='Annual Heights'!H13-'Annual Heights'!G13 -> -3.299 | H13: ='Annual Heights'!I13-'Annual Heights'!H13 -> -5.569 | I13: ='Annual Heights'!J13-'Annual Heights'!I13 -> -2.184 | J13: ='Annual Heights'!K13-'Annual Heights'!J13 -> -0.133 | K13: ='Annual Heights'!L13-'Annual Heights'!K13 -> -9.851 | L13: ='Annual Heights'!M13-'Annual Heights'!L13 -> -22.901
A14: 13 | B14: 540457.96 | C14: 6521241.8 | D14: 6.6774453 | E14: 83.056157 | F14: ='Annual Heights'!G14-'Annual Heights'!F14 -> -5.596 | G14: ='Annual Heights'!H14-'Annual Heights'!G14 -> -3.401 | H14: ='Annual Heights'!I14-'Annual Heights'!H14 -> -5.929 | I14: ='Annual Heights'!J14-'Annual Heights'!I14 -> -2.604 | J14: ='Annual Heights'!K14-'Annual Heights'!J14 -> 0.081 | K14: ='Annual Heights'!L14-'Annual Heights'!K14 -> -9.13 | L14: ='Annual Heights'!M14-'Annual Heights'!L14 -> -24.446
A15: 14 | B15: 540451.4 | C15: 6521241.1 | D15: 6.5941993 | E15: 89.650357 | F15: ='Annual Heights'!G15-'Annual Heights'!F15 -> -5.212 | G15: ='Annual Heights'!H15-'Annual Heights'!G15 -> -3.878 | H15: ='Annual Heights'!I15-'Annual Heights'!H15 -> -6.683 | I15: ='Annual Heights'!J15-'Annual Heights'!I15 -> -2.485 | J15: ='Annual Heights'!K15-'Annual Heights'!J15 -> 0.179 | K15: ='Annual Heights'!L15-'Annual Heights'!K15 -> -8.159 | L15: ='Annual Heights'!M15-'Annual Heights'!L15 -> -25.198
A16: 15 | B16: 540444.12 | C16: 6521240.5 | D16: 7.3022025 | E16: 96.952559 | F16: ='Annual Heights'!G16-'Annual Heights'!F16 -> -4.914 | G16: ='Annual Heights'!H16-'Annual Heights'!G16 -> -4.548 | H16: ='Annual Heights'!I16-'Annual Heights'!H16 -> -6.785 | I16: ='Annual Heights'!J16-'Annual Heights'!I16 -> -3.196 | J16: ='Annual Heights'!K16-'Annual Heights'!J16 -> 0.37 | K16: ='Annual Heights'!L16-'Annual Heights'!K16 -> -6.786 | L16: ='Annual Heights'!M16-'Annual Heights'!L16 -> -25.469
A17: 16 | B17: 540436.5 | C17: 6521240.2 | D17: 7.6264052 | E17: 104.57896 | F17: ='Annual Heights'!G17-'Annual Heights'!F17 -> -4.121 | G17: ='Annual Heights'!H17-'Annual Heights'!G17 -> -5.594 | H17: ='Annual Heights'!I17-'Annual Heights'!H17 -> -7.393 | I17: ='Annual Heights'!J17-'Annual Heights'!I17 -> -3.24 | J17: ='Annual Heights'!K17-'Annual Heights'!J17 -> 0.638 | K17: ='Annual Heights'!L17-'Annual Heights'!K17 -> -5.589 | L17: ='Annual Heights'!M17-'Annual Heights'!L17 -> -23.158
A18: 17 | B18: 540428.83 | C18: 6521239.9 | D18: 7.6807823 | E18: 112.25975 | F18: ='Annual Heights'!G18-'Annual Heights'!F18 -> -4.285 | G18: ='Annual Heights'!H18-'Annual Heights'!G18 -> -6.346 | H18: ='Annual Heights'!I18-'Annual Heights'!H18 -> -6.832 | K18: ='Annual Heights'!L18-'Annual Heights'!K18 -> -4.503 | L18: ='Annual Heights'!M18-'Annual Heights'!L18 -> -20.538
A19: 18 | B19: 540421.62 | C19: 6521240 | D19: 7.2073596 | E19: 119.46711 | F19: ='Annual Heights'!G19-'Annual Heights'!F19 -> -4.634 | G19: ='Annual Heights'!H19-'Annual Heights'!G19 -> -6.756 | H19: ='Annual Heights'!I19-'Annual Heights'!H19 -> -5.747 | K19: ='Annual Heights'!L19-'Annual Heights'!K19 -> -4.372 | L19: ='Annual Heights'!M19-'Annual Heights'!L19 -> -17.884
A20: 19 | B20: 540414.1 | C20: 6521240 | D20: 7.5180293 | E20: 126.98514 | F20: ='Annual Heights'!G20-'Annual Heights'!F20 -> -4.137 | G20: ='Annual Heights'!H20-'Annual Heights'!G20 -> -7.749 | H20: ='Annual Heights'!I20-'Annual Heights'!H20 -> -3.826 | I20: ='Annual Heights'!J20-'Annual Heights'!I20 -> -1.454 | J20: ='Annual Heights'!K20-'Annual Heights'!J20 -> -3.182 | K20: ='Annual Heights'!L20-'Annual Heights'!K20 -> -4.86 | L20: ='Annual Heights'!M20-'Annual Heights'!L20 -> -15.783
A21: 20 | B21: 540405.83 | C21: 6521239.7 | D21: 8.2843545 | E21: 135.26949 | F21: ='Annual Heights'!G21-'Annual Heights'!F21 -> -4.36 | I21: ='Annual Heights'!J21-'Annual Heights'!I21 -> 2.197 | J21: ='Annual Heights'!K21-'Annual Heights'!J21 -> -4.352 | K21: ='Annual Heights'!L21-'Annual Heights'!K21 -> -8.401 | L21: ='Annual Heights'!M21-'Annual Heights'!L21 -> -13.985
A22: 21 | B22: 540399.26 | C22: 6521240.1 | D22: 6.5799818 | E22: 141.84947 | F22: ='Annual Heights'!G22-'Annual Heights'!F22 -> -4.794 | I22: ='Annual Heights'!J22-'Annual Heights'!I22 -> 2.924 | J22: ='Annual Heights'!K22-'Annual Heights'!J22 -> -4.091 | K22: ='Annual Heights'!L22-'Annual Heights'!K22 -> -11.148 | L22: ='Annual Heights'!M22-'Annual Heights'!L22 -> -12.729
A23: 22 | B23: 540393.44 | C23: 6521239.1 | D23: 5.9049221 | E23: 147.75439 | F23: ='Annual Heights'!G23-'Annual Heights'!F23 -> -10.581 | I23: ='Annual Heights'!J23-'Annual Heights'!I23 -> 3.264 | J23: ='Annual Heights'!K23-'Annual Heights'!J23 -> -3.787 | K23: ='Annual Heights'!L23-'Annual Heights'!K23 -> -13.756 | L23: ='Annual Heights'!M23-'Annual Heights'!L23 -> -11.3
A24: 23 | B24: 540386.56 | C24: 6521238.7 | D24: 6.887672 | E24: 154.64207 | F24: ='Annual Heights'!G24-'Annual Heights'!F24 -> -14.828 | I24: ='Annual Heights'!J24-'Annual Heights'!I24 -> 2.677 | J24: ='Annual Heights'!K24-'Annual Heights'!J24 -> -2.582 | K24: ='Annual Heights'!L24-'Annual Heights'!K24 -> -15.716 | L24: ='Annual Heights'!M24-'Annual Heights'!L24 -> -10.47
A25: 24 | B25: 540378.72 | C25: 6521238.8 | D25: 7.8361235 | E25: 162.47819 | F25: ='Annual Heights'!G25-'Annual Heights'!F25 -> -14.163 | I25: ='Annual Heights'!J25-'Annual Heights'!I25 -> 1.147 | J25: ='Annual Heights'!K25-'Annual Heights'!J25 -> -2.195 | K25: ='Annual Heights'!L25-'Annual Heights'!K25 -> -14.663 | L25: ='Annual Heights'!M25-'Annual Heights'!L25 -> -12.284
A26: 25 | B26: 540370.92 | C26: 6521238.6 | D26: 7.8008964 | E26: 170.27909 | F26: ='Annual Heights'!G26-'Annual Heights'!F26 -> -12.435 | I26: ='Annual Heights'!J26-'Annual Heights'!I26 -> -0.47 | J26: ='Annual Heights'!K26-'Annual Heights'!J26 -> -2.38 | K26: ='Annual Heights'!L26-'Annual Heights'!K26 -> -12.968 | L26: ='Annual Heights'!M26-'Annual Heights'!L26 -> -14.791
A27: 26 | B27: 540362.9 | C27: 6521237.6 | D27: 8.0882706 | E27: 178.36736 | F27: ='Annual Heights'!G27-'Annual Heights'!F27 -> -10.436 | G27: ='Annual Heights'!H27-'Annual Heights'!G27 -> -2.771 | H27: ='Annual Heights'!I27-'Annual Heights'!H27 -> 0.948 | I27: ='Annual Heights'!J27-'Annual Heights'!I27 -> -2.415 | J27: ='Annual Heights'!K27-'Annual Heights'!J27 -> -1.965 | K27: ='Annual Heights'!L27-'Annual Heights'!K27 -> -11.427 | L27: ='Annual Heights'!M27-'Annual Heights'!L27 -> -16.298
A28: 27 | B28: 540354.76 | C28: 6521236.2 | D28: 8.2541548 | E28: 186.62151 | F28: ='Annual Heights'!G28-'Annual Heights'!F28 -> -9.743 | G28: ='Annual Heights'!H28-'Annual Heights'!G28 -> -2.205 | H28: ='Annual Heights'!I28-'Annual Heights'!H28 -> -0.514 | I28: ='Annual Heights'!J28-'Annual Heights'!I28 -> -3.559 | J28: ='Annual Heights'!K28-'Annual Heights'!J28 -> -1.912 | K28: ='Annual Heights'!L28-'Annual Heights'!K28 -> -10.109 | L28: ='Annual Heights'!M28-'Annual Heights'!L28 -> -18.137
A29: 28 | B29: 540346.95 | C29: 6521235.1 | D29: 7.8771981 | E29: 194.49871 | F29: ='Annual Heights'!G29-'Annual Heights'!F29 -> -8.919 | G29: ='Annual Heights'!H29-'Annual Heights'!G29 -> -2.069 | H29: ='Annual Heights'!I29-'Annual Heights'!H29 -> -1.563 | I29: ='Annual Heights'!J29-'Annual Heights'!I29 -> -4.243 | J29: ='Annual Heights'!K29-'Annual Heights'!J29 -> -1.634 | K29: ='Annual Heights'!L29-'Annual Heights'!K29 -> -9.479 | L29: ='Annual Heights'!M29-'Annual Heights'!L29 -> -19.441
A30: 29 | B30: 540339.74 | C30: 6521233.4 | D30: 7.4212216 | E30: 201.91993 | F30: ='Annual Heights'!G30-'Annual Heights'!F30 -> -8.381 | G30: ='Annual Heights'!H30-'Annual Heights'!G30 -> -2.117 | H30: ='Annual Heights'!I30-'Annual Heights'!H30 -> -2.173 | I30: ='Annual Heights'!J30-'Annual Heights'!I30 -> -5.052 | J30: ='Annual Heights'!K30-'Annual Heights'!J30 -> -1.34 | K30: ='Annual Heights'!L30-'Annual Heights'!K30 -> -8.947 | L30: ='Annual Heights'!M30-'Annual Heights'!L30 -> -20.518
A31: 30 | B31: 540331.44 | C31: 6521232.1 | D31: 8.4030158 | E31: 210.32295 | F31: ='Annual Heights'!G31-'Annual Heights'!F31 -> -7.392 | G31: ='Annual Heights'!H31-'Annual Heights'!G31 -> -2.581 | H31: ='Annual Heights'!I31-'Annual Heights'!H31 -> -2.857 | I31: ='Annual Heights'!J31-'Annual Heights'!I31 -> -5.379 | J31: ='Annual Heights'!K31-'Annual Heights'!J31 -> -1.663 | K31: ='Annual Heights'!L31-'Annual Heights'!K31 -> -8.457 | L31: ='Annual Heights'!M31-'Annual Heights'!L31 -> -21.674
A32: 31 | B32: 540323.51 | C32: 6521231.2 | D32: 7.987322 | E32: 218.31027 | F32: ='Annual Heights'!G32-'Annual Heights'!F32 -> -7.576 | G32: ='Annual Heights'!H32-'Annual Heights'!G32 -> -2.182 | H32: ='Annual Heights'!I32-'Annual Heights'!H32 -> -3.451 | I32: ='Annual Heights'!J32-'Annual Heights'!I32 -> -5.908 | J32: ='Annual Heights'!K32-'Annual Heights'!J32 -> -1.442 | K32: ='Annual Heights'!L32-'Annual Heights'!K32 -> -7.878 | L32: ='Annual Heights'!M32-'Annual Heights'!L32 -> -22.116
A33: 32 | B33: 540314.72 | C33: 6521229.7 | D33: 8.9168997 | E33: 227.22717 | F33: ='Annual Heights'!G33-'Annual Heights'!F33 -> -6.045 | G33: ='Annual Heights'!H33-'Annual Heights'!G33 -> -2.639 | H33: ='Annual Heights'!I33-'Annual Heights'!H33 -> -4.492 | I33: ='Annual Heights'!J33-'Annual Heights'!I33 -> -5.896 | J33: ='Annual Heights'!K33-'Annual Heights'!J33 -> -2.006 | K33: ='Annual Heights'!L33-'Annual Heights'!K33 -> -7.223 | L33: ='Annual Heights'!M33-'Annual Heights'!L33 -> -21.547
A34: 33 | B34: 540307.52 | C34: 6521228.1 | D34: 7.3615402 | E34: 234.58871 | F34: ='Annual Heights'!G34-'Annual Heights'!F34 -> -5.266 | G34: ='Annual Heights'!H34-'Annual Heights'!G34 -> -2.798 | H34: ='Annual Heights'!I34-'Annual Heights'!H34 -> -5.412 | I34: ='Annual Heights'!J34-'Annual Heights'!I34 -> -5.126 | J34: ='Annual Heights'!K34-'Annual Heights'!J34 -> -2.525 | K34: ='Annual Heights'!L34-'Annual Heights'!K34 -> -7.296 | L34: ='Annual Heights'!M34-'Annual Heights'!L34 -> -20.44
A35: 34 | B35: 540301.04 | C35: 6521227.1 | D35: 6.5602537 | E35: 241.14896 | F35: ='Annual Heights'!G35-'Annual Heights'!F35 -> -4.818 | G35: ='Annual Heights'!H35-'Annual Heights'!G35 -> -2.567 | H35: ='Annual Heights'!I35-'Annual Heights'!H35 -> -6.5 | I35: ='Annual Heights'!J35-'Annual Heights'!I35 -> -4.903 | J35: ='Annual Heights'!K35-'Annual Heights'!J35 -> -3.35 | K35: ='Annual Heights'!L35-'Annual Heights'!K35 -> -6.479 | L35: ='Annual Heights'!M35-'Annual Heights'!L35 -> -17.961
A36: 35 | B36: 540297.4 | C36: 6521226.5 | D36: 3.6899889 | E36: 244.83895 | F36: ='Annual Heights'!G36-'Annual Heights'!F36 -> -3.864 | G36: ='Annual Heights'!H36-'Annual Heights'!G36 -> -3.181 | H36: ='Annual Heights'!I36-'Annual Heights'!H36 -> -6.76 | L36: ='Annual Heights'!M36-'Annual Heights'!L36 -> -15.868
A37: 36 | B37: 540278.82 | C37: 6521224.1 | D37: 18.731457 | E37: 263.57041 | F37: ='Annual Heights'!G37-'Annual Heights'!F37 -> 3.493 | G37: ='Annual Heights'!H37-'Annual Heights'!G37 -> -2.188 | H37: ='Annual Heights'!I37-'Annual Heights'!H37 -> -7.65 | I37: ='Annual Heights'!J37-'Annual Heights'!I37 -> -1.729 | J37: ='Annual Heights'!K37-'Annual Heights'!J37 -> 2.647
A38: 37 | B38: 540268.9 | C38: 6521221.1 | D38: 10.36353 | E38: 273.93394 | F38: ='Annual Heights'!G38-'Annual Heights'!F38 -> -8.618 | G38: ='Annual Heights'!H38-'Annual Heights'!G38 -> -0.588 | J38: ='Annual Heights'!K38-'Annual Heights'!J38 -> 3.507
A39: 38 | B39: 540264.28 | C39: 6521219.3 | D39: 4.9502538 | E39: 278.88419 | F39: ='Annual Heights'!G39-'Annual Heights'!F39 -> -10.654 | G39: ='Annual Heights'!H39-'Annual Heights'!G39 -> -1.859 | J39: ='Annual Heights'!K39-'Annual Heights'!J39 -> 3.534 | K39: ='Annual Heights'!L39-'Annual Heights'!K39 -> -17.373 | L39: ='Annual Heights'!M39-'Annual Heights'!L39 -> -7.614
A40: 39 | B40: 540258.63 | C40: 6521217.4 | D40: 5.9660335 | E40: 284.85023 | F40: ='Annual Heights'!G40-'Annual Heights'!F40 -> -12.392 | G40: ='Annual Heights'!H40-'Annual Heights'!G40 -> -4.221 | H40: ='Annual Heights'!I40-'Annual Heights'!H40 -> -0.313 | I40: ='Annual Heights'!J40-'Annual Heights'!I40 -> 1.615 | J40: ='Annual Heights'!K40-'Annual Heights'!J40 -> 2.485 | K40: ='Annual Heights'!L40-'Annual Heights'!K40 -> -17.029 | L40: ='Annual Heights'!M40-'Annual Heights'!L40 -> -8.536
...
