Workbook

Sheet READ ME

Sheet Vaughan Lewis Longitudinal
A1: PointID | B1: YearSurveyed | C1: Profile | D1: Point | E1: Epoch | F1: Easting_JIRP | G1: Northing_JIRP | H1: Easting_UTM8 | I1: Northing_UTM8 | J1: Height | K1: DateTime | L1: Horizontal_Precision | M1: Vertical_Precision | N1: Comments
A2: =B2 & "-" & C2 & "-" & D2 & "-" & E2 -> 2001-VL Long-1-0 | B2: 2001 | C2: VL Long | D2: 1 | E2: 0 | F2: 482797.78 | G2: 6523674.6 | H2: 540540.83 | I2: 6521239.5 | J2: 1087.788 | K2: 37113.471
A3: =B3 & "-" & C3 & "-" & D3 & "-" & E3 -> 2001-VL Long-2-0 | B3: 2001 | C3: VL Long | D3: 2 | E3: 0 | F3: 482791.09 | G3: 6523675.1 | H3: 540534.14 | I3: 6521239.8 | J3: 1089.255 | K3: 37113.472
A4: =B4 & "-" & C4 & "-" & D4 & "-" & E4 -> 2001-VL Long-3-0 | B4: 2001 | C4: VL Long | D4: 3 | E4: 0 | F4: 482784.46 | G4: 6523675.7 | H4: 540527.5 | I4: 6521240.4 | J4: 1090.146 | K4: 37113.472
A5: =B5 & "-" & C5 & "-" & D5 & "-" & E5 -> 2001-VL Long-4-0 | B5: 2001 | C5: VL Long | D5: 4 | E5: 0 | F5: 482777.91 | G5: 6523676.6 | H5: 540520.94 | I5: 6521241.2 | J5: 1091.2 | K5: 37113.473
A6: =B6 & "-" & C6 & "-" & D6 & "-" & E6 -> 2001-VL Long-5-0 | B6: 2001 | C6: VL Long | D6: 5 | E6: 0 | F6: 482771.47 | G6: 6523676.6 | H6: 540514.51 | I6: 6521241.1 | J6: 1092.668 | K6: 37113.474
A7: =B7 & "-" & C7 & "-" & D7 & "-" & E7 -> 2001-VL Long-6-0 | B7: 2001 | C7: VL Long | D7: 6 | E7: 0 | F7: 482764.95 | G7: 6523676.8 | H7: 540507.98 | I7: 6521241.2 | J7: 1094.185 | K7: 37113.474
A8: =B8 & "-" & C8 & "-" & D8 & "-" & E8 -> 2001-VL Long-7-0 | B8: 2001 | C8: VL Long | D8: 7 | E8: 0 | F8: 482757.81 | G8: 6523676.9 | H8: 540500.85 | I8: 6521241.2 | J8: 1095.297 | K8: 37113.474
A9: =B9 & "-" & C9 & "-" & D9 & "-" & E9 -> 2001-VL Long-8-0 | B9: 2001 | C9: VL Long | D9: 8 | E9: 0 | F9: 482749.91 | G9: 6523677.4 | H9: 540492.94 | I9: 6521241.5 | J9: 1095.93 | K9: 37113.474
A10: =B10 & "-" & C10 & "-" & D10 & "-" & E10 -> 2001-VL Long-9-0 | B10: 2001 | C10: VL Long | D10: 9 | E10: 0 | F10: 482741.91 | G10: 6523677.8 | H10: 540484.95 | I10: 6521241.8 | J10: 1096.412 | K10: 37113.488
A11: =B11 & "-" & C11 & "-" & D11 & "-" & E11 -> 2001-VL Long-10-0 | B11: 2001 | C11: VL Long | D11: 10 | E11: 0 | F11: 482735.82 | G11: 6523678.5 | H11: 540478.85 | I11: 6521242.4 | J11: 1095.357 | K11: 37113.489
A12: =B12 & "-" & C12 & "-" & D12 & "-" & E12 -> 2001-VL Long-11-0 | B12: 2001 | C12: VL Long | D12: 11 | E12: 0 | F12: 482728.56 | G12: 6523678.7 | H12: 540471.58 | I12: 6521242.5 | J12: 1094.624 | K12: 37113.489
A13: =B13 & "-" & C13 & "-" & D13 & "-" & E13 -> 2001-VL Long-12-0 | B13: 2001 | C13: VL Long | D13: 12 | E13: 0 | F13: 482721.56 | G13: 6523679 | H13: 540464.58 | I13: 6521242.7 | J13: 1093.714 | K13: 37113.49
... A187: =B187 & "-" & C187 & "-" & D187 & "-" & E187 -> 2003-VL Long-7-0 | B187: 2003 | C187: VL Long | D187: 7 | E187: 0 | F187: 482757.72 | G187: 6523676.9 | H187: 540500.76 | I187: 6521241.1 | J187: 1084.871 | K187: 37841.496
A188: =B188 & "-" & C188 & "-" & D188 & "-" & E188 -> 2003-VL Long-8-0 | B188: 2003 | C188: VL Long | D188: 8 | E188: 0 | N188: no survey data for Epoch 0
A189: =B189 & "-" & C189 & "-" & D189 & "-" & E189 -> 2003-VL Long-9-0 | B189: 2003 | C189: VL Long | D189: 9 | E189: 0 | F189: 482741.99 | G189: 6523677.8 | H189: 540485.03 | I189: 6521241.8 | J189: 1088.008 | K189: 37841.497
A190: =B190 & "-" & C190 & "-" & D190 & "-" & E190 -> 2003-VL Long-10-0 | B190: 2003 | C190: VL Long | D190: 10 | E190: 0 | F190: 482735.97 | G190: 6523678.5 | H190: 540479 | I190: 6521242.4 | J190: 1088.396 | K190: 37841.499
A191: =B191 & "-" & C191 & "-" & D191 & "-" & E191 -> 2003-VL Long-11-0 | B191: 2003 | C191: VL Long | D191: 11 | E191: 0 | F191: 482728.55 | G191: 6523678.6 | H191: 540471.57 | I191: 6521242.4 | J191: 1088.167 | K191: 37841.501
A192: =B192 & "-" & C192 & "-" & D192 & "-" & E192 -> 2003-VL Long-12-0 | B192: 2003 | C192: VL Long | D192: 12 | E192: 0 | F192: 482721.56 | G192: 6523679 | H192: 540464.58 | I192: 6521242.7 | J192: 1087.577 | K192: 37841.501
A193: =B193 & "-" & C193 & "-" & D193 & "-" & E193 -> 2003-VL Long-13-0 | B193: 2003 | C193: VL Long | D193: 13 | E193: 0 | F193: 482715.07 | G193: 6523678.1 | H193: 540458.11 | I193: 6521241.7 | J193: 1087.12 | K193: 37841.502
A194: =B194 & "-" & C194 & "-" & D194 & "-" & E194 -> 2003-VL Long-14-0 | B194: 2003 | C194: VL Long | D194: 14 | E194: 0 | F194: 482708.41 | G194: 6523677.5 | H194: 540451.46 | I194: 6521241 | J194: 1086.553 | K194: 37841.503
A195: =B195 & "-" & C195 & "-" & D195 & "-" & E195 -> 2003-VL Long-15-0 | B195: 2003 | C195: VL Long | D195: 15 | E195: 0 | F195: 482701.01 | G195: 6523677.1 | H195: 540444.07 | I195: 6521240.5 | J195: 1085.573 | K195: 37841.503
A196: =B196 & "-" & C196 & "-" & D196 & "-" & E196 -> 2003-VL Long-16-0 | B196: 2003 | C196: VL Long | D196: 16 | E196: 0 | F196: 482693.54 | G196: 6523676.9 | H196: 540436.61 | I196: 6521240.2 | J196: 1084.831 | K196: 37841.506
A197: =B197 & "-" & C197 & "-" & D197 & "-" & E197 -> 2003-VL Long-17-0 | B197: 2003 | C197: VL Long | D197: 17 | E197: 0 | F197: 482685.81 | G197: 6523676.8 | H197: 540428.88 | I197: 6521239.9 | J197: 1083.195 | K197: 37841.506
A198: =B198 & "-" & C198 & "-" & D198 & "-" & E198 -> 2003-VL Long-18-0 | B198: 2003 | C198: VL Long | D198: 18 | E198: 0 | F198: 482678.58 | G198: 6523676.9 | H198: 540421.65 | I198: 6521240 | J198: 1081.093 | K198: 37841.507
A199: =B199 & "-" & C199 & "-" & D199 & "-" & E199 -> 2003-VL Long-19-0 | B199: 2003 | C199: VL Long | D199: 19 | E199: 0 | F199: 482670.91 | G199: 6523677.1 | H199: 540413.98 | I199: 6521240 | J199: 1079.393 | K199: 37841.508
A200: =B200 & "-" & C200 & "-" & D200 & "-" & E200 -> 2003-VL Long-20-0 | B200: 2003 | C200: VL Long | D200: 20 | E200: 0 | F200: 482662.77 | G200: 6523676.8 | H200: 540405.85 | I200: 6521239.7 | J200: 1076.83 | K200: 37841.509
... A378: =B378 & "-" & C378 & "-" & D378 & "-" & E378 -> 2004-VL Long-19-0 | B378: 2004 | C378: VL Long | D378: 19 | E378: 0 | F378: 482671.06 | G378: 6523677.1 | H378: 540414.14 | I378: 6521240 | J378: 1071.644 | K378: 38210.605
A379: =B379 & "-" & C379 & "-" & D379 & "-" & E379 -> 2004-VL Long-20-0 | B379: 2004 | C379: VL Long | D379: 20 | E379: 0 | N379: no survey data for Epoch 0
A380: =B380 & "-" & C380 & "-" & D380 & "-" & E380 -> 2004-VL Long-21-0 | B380: 2004 | C380: VL Long | D380: 21 | E380: 0 | N380: no survey data for Epoch 0
A381: =B381 & "-" & C381 & "-" & D381 & "-" & E381 -> 2004-VL Long-22-0 | B381: 2004 | C381: VL Long | D381: 22 | E381: 0 | N381: no survey data for Epoch 0
A382: =B382 & "-" & C382 & "-" & D382 & "-" & E382 -> 2004-VL Long-23-0 | B382: 2004 | C382: VL Long | D382: 23 | E382: 0 | N382: no survey data for Epoch 0
A383: =B383 & "-" & C383 & "-" & D383 & "-" & E383 -> 2004-VL Long-24-0 | B383: 2004 | C383: VL Long | D383: 24 | E383: 0 | N383: no survey data for Epoch 0
A384: =B384 & "-" & C384 & "-" & D384 & "-" & E384 -> 2004-VL Long-25-0 | B384: 2004 | C384: VL Long | D384: 25 | E384: 0 | N384: no survey data for Epoch 0
A385: =B385 & "-" & C385 & "-" & D385 & "-" & E385 -> 2004-VL Long-26-0 | B385: 2004 | C385: VL Long | D385: 26 | E385: 0 | F385: 482619.77 | G385: 6523675.4 | H385: 540362.89 | I385: 6521237.6 | J385: 1072.619 | K385: 38210.599
A386: =B386 & "-" & C386 & "-" & D386 & "-" & E386 -> 2004-VL Long-27-0 | B386: 2004 | C386: VL Long | D386: 27 | E386: 0 | F386: 482611.59 | G386: 6523674.2 | H386: 540354.74 | I386: 6521236.2 | J386: 1074.329 | K386: 38210.599
A387: =B387 & "-" & C387 & "-" & D387 & "-" & E387 -> 2004-VL Long-28-0 | B387: 2004 | C387: VL Long | D387: 28 | E387: 0 | F387: 482603.69 | G387: 6523673.1 | H387: 540346.86 | I387: 6521235.1 | J387: 1075.149 | K387: 38210.597
A388: =B388 & "-" & C388 & "-" & D388 & "-" & E388 -> 2004-VL Long-29-0 | B388: 2004 | C388: VL Long | D388: 29 | E388: 0 | F388: 482596.53 | G388: 6523671.5 | H388: 540339.73 | I388: 6521233.4 | J388: 1075.255 | K388: 38210.597
A389: =B389 & "-" & C389 & "-" & D389 & "-" & E389 -> 2004-VL Long-30-0 | B389: 2004 | C389: VL Long | D389: 30 | E389: 0 | F389: 482588.23 | G389: 6523670.4 | H389: 540331.45 | I389: 6521232.1 | J389: 1074.951 | K389: 38210.596
A390: =B390 & "-" & C390 & "-" & D390 & "-" & E390 -> 2004-VL Long-31-0 | B390: 2004 | C390: VL Long | D390: 31 | E390: 0 | F390: 482580.34 | G390: 6523669.6 | H390: 540323.58 | I390: 6521231.2 | J390: 1074.136 | K390: 38210.595
A391: =B391 & "-" & C391 & "-" & D391 & "-" & E391 -> 2004-VL Long-32-0 | B391: 2004 | C391: VL Long | D391: 32 | E391: 0 | F391: 482571.43 | G391: 6523668.1 | H391: 540314.69 | I391: 6521229.6 | J391: 1073.27 | K391: 38210.594
A392: =B392 & "-" & C392 & "-" & D392 & "-" & E392 -> 2004-VL Long-33-0 | B392: 2004 | C392: VL Long | D392: 33 | E392: 0 | F392: 482564.2 | G392: 6523666.8 | H392: 540307.49 | I392: 6521228.2 | J392: 1072.12 | K392: 38210.593
A393: =B393 & "-" & C393 & "-" & D393 & "-" & E393 -> 2004-VL Long-34-0 | B393: 2004 | C393: VL Long | D393: 34 | E393: 0 | F393: 482557.78 | G393: 6523665.7 | H393: 540301.08 | I393: 6521227 | J393: 1071.042 | K393: 38210.592
A394: =B394 & "-" & C394 & "-" & D394 & "-" & E394 -> 2004-VL Long-35-0 | B394: 2004 | C394: VL Long | D394: 35 | E394: 0 | F394: 482554.08 | G394: 6523665.2 | H394: 540297.39 | I394: 6521226.5 | J394: 1070.226 | K394: 38210.592
A395: =B395 & "-" & C395 & "-" & D395 & "-" & E395 -> 2004-VL Long-36-0 | B395: 2004 | C395: VL Long | D395: 36 | E395: 0 | F395: 482535.41 | G395: 6523663.2 | H395: 540278.77 | I395: 6521224.1 | J395: 1066.297 | K395: 38210.591
A396: =B396 & "-" & C396 & "-" & D396 & "-" & E396 -> 2004-VL Long-37-0 | B396: 2004 | C396: VL Long | D396: 37 | E396: 0 | F396: 482525.56 | G396: 6523660.3 | H396: 540268.96 | I396: 6521221.1 | J396: 1062.912 | K396: 38210.59
... A501: =B501 & "-" & C501 & "-" & D501 & "-" & E501 -> 2005-VL Long-36-0 | B501: 2005 | C501: VL Long | D501: 36 | E501: 0 | F501: 482535.82 | G501: 6523663.6 | H501: 540279.16 | I501: 6521224.5 | J501: 1058.647 | K501: 38573.652
A502: =B502 & "-" & C502 & "-" & D502 & "-" & E502 -> 2005-VL Long-37-0 | B502: 2005 | C502: VL Long | D502: 37 | E502: 0 | N502: no survey data for Epoch 0
A503: =B503 & "-" & C503 & "-" & D503 & "-" & E503 -> 2005-VL Long-38-0 | B503: 2005 | C503: VL Long | D503: 38 | E503: 0 | N503: no survey data for Epoch 0
A504: =B504 & "-" & C504 & "-" & D504 & "-" & E504 -> 2005-VL Long-39-0 | B504: 2005 | C504: VL Long | D504: 39 | E504: 0 | F504: 482515.65 | G504: 6523656.9 | H504: 540259.11 | I504: 6521217.5 | J504: 1058.429 | K504: 38573.665
A505: =B505 & "-" & C505 & "-" & D505 & "-" & E505 -> 2005-VL Long-40-0 | B505: 2005 | C505: VL Long | D505: 40 | E505: 0 | F505: 482509.33 | G505: 6523655.2 | H505: 540252.81 | I505: 6521215.7 | J505: 1060.955 | K505: 38573.668
A506: =B506 & "-" & C506 & "-" & D506 & "-" & E506 -> 2005-VL Long-41-0 | B506: 2005 | C506: VL Long | D506: 41 | E506: 0 | F506: 482502.63 | G506: 6523652.7 | H506: 540246.15 | I506: 6521213.1 | J506: 1061.388 | K506: 38573.669
A507: =B507 & "-" & C507 & "-" & D507 & "-" & E507 -> 2005-VL Long-42-0 | B507: 2005 | C507: VL Long | D507: 42 | E507: 0 | F507: 482494.33 | G507: 6523650.2 | H507: 540237.9 | I507: 6521210.5 | J507: 1063.522 | K507: 38573.67
A508: =B508 & "-" & C508 & "-" & D508 & "-" & E508 -> 2005-VL Long-43-0 | B508: 2005 | C508: VL Long | D508: 43 | E508: 0 | F508: 482486.85 | G508: 6523647.3 | H508: 540230.46 | I508: 6521207.5 | J508: 1064.899 | K508: 38573.672
A509: =B509 & "-" & C509 & "-" & D509 & "-" & E509 -> 2005-VL Long-44-0 | B509: 2005 | C509: VL Long | D509: 44 | E509: 0 | F509: 482479.27 | G509: 6523643.8 | H509: 540222.94 | I509: 6521203.9 | J509: 1065.348 | K509: 38573.676
A510: =B510 & "-" & C510 & "-" & D510 & "-" & E510 -> 2005-VL Long-45-0 | B510: 2005 | C510: VL Long | D510: 45 | E510: 0 | F510: 482471.42 | G510: 6523641.2 | H510: 540215.13 | I510: 6521201.2 | J510: 1065.751 | K510: 38573.677
A511: =B511 & "-" & C511 & "-" & D511 & "-" & E511 -> 2005-VL Long-46-0 | B511: 2005 | C511: VL Long | D511: 46 | E511: 0 | F511: 482463.93 | G511: 6523640.4 | H511: 540207.66 | I511: 6521200.3 | J511: 1065.339 | K511: 38573.678
A512: =B512 & "-" & C512 & "-" & D512 & "-" & E512 -> 2005-VL Long-47-0 | B512: 2005 | C512: VL Long | D512: 47 | E512: 0 | F512: 482456.27 | G512: 6523639.8 | H512: 540200.01 | I512: 6521199.6 | J512: 1064.989 | K512: 38573.68
A513: =B513 & "-" & C513 & "-" & D513 & "-" & E513 -> 2005-VL Long-48-0 | B513: 2005 | C513: VL Long | D513: 48 | E513: 0 | F513: 482448.47 | G513: 6523639 | H513: 540192.22 | I513: 6521198.7 | J513: 1063.863 | K513: 38573.681
A514: =B514 & "-" & C514 & "-" & D514 & "-" & E514 -> 2005-VL Long-49-0 | B514: 2005 | C514: VL Long | D514: 49 | E514: 0 | F514: 482440.93 | G514: 6523637.4 | H514: 540184.72 | I514: 6521197 | J514: 1062.592 | K514: 38573.682
A515: =B515 & "-" & C515 & "-" & D515 & "-" & E515 -> 2005-VL Long-50-0 | B515: 2005 | C515: VL Long | D515: 50 | E515: 0 | F515: 482434.7 | G515: 6523636.6 | H515: 540178.5 | I515: 6521196 | J515: 1061.464 | K515: 38573.683
... A522: =B522 & "-" & C522 & "-" & D522 & "-" & E522 -> 2005-VL Long-57-0 | B522: 2005 | C522: VL Long | D522: 57 | E522: 0 | F522: 482385.29 | G522: 6523626.2 | H522: 540129.27 | I522: 6521185 | J522: 1050.163 | K522: 38573.695
A523: =B523 & "-" & C523 & "-" & D523 & "-" & E523 -> 2005-VL Long-58-0 | B523: 2005 | C523: VL Long | D523: 58 | E523: 0 | N523: no survey data for Epoch 0
A524: =B524 & "-" & C524 & "-" & D524 & "-" & E524 -> 2005-VL Long-59-0 | B524: 2005 | C524: VL Long | D524: 59 | E524: 0 | F524: 482370.53 | G524: 6523621.8 | H524: 540114.58 | I524: 6521180.3 | J524: 1052.818 | K524: 38573.699
A525: =B525 & "-" & C525 & "-" & D525 & "-" & E525 -> 2005-VL Long-60-0 | B525: 2005 | C525: VL Long | D525: 60 | E525: 0 | F525: 482363.23 | G525: 6523618.8 | H525: 540107.33 | I525: 6521177.2 | J525: 1053.674 | K525: 38573.701
A526: =B526 & "-" & C526 & "-" & D526 & "-" & E526 -> 2005-VL Long-61-0 | B526: 2005 | C526: VL Long | D526: 61 | E526: 0 | F526: 482354.98 | G526: 6523616.5 | H526: 540099.12 | I526: 6521174.8 | J526: 1055.094 | K526: 38573.701
A527: =B527 & "-" & C527 & "-" & D527 & "-" & E527 -> 2005-VL Long-62-0 | B527: 2005 | C527: VL Long | D527: 62 | E527: 0 | F527: 482347.89 | G527: 6523614.5 | H527: 540092.06 | I527: 6521172.7 | J527: 1055.815 | K527: 38573.703
A528: =B528 & "-" & C528 & "-" & D528 & "-" & E528 -> 2005-VL Long-63-0 | B528: 2005 | C528: VL Long | D528: 63 | E528: 0 | F528: 482340.36 | G528: 6523612.2 | H528: 540084.57 | I528: 6521170.3 | J528: 1056.425 | K528: 38573.703
A529: =B529 & "-" & C529 & "-" & D529 & "-" & E529 -> 2005-VL Long-64-0 | B529: 2005 | C529: VL Long | D529: 64 | E529: 0 | F529: 482332.82 | G529: 6523608.9 | H529: 540077.08 | I529: 6521166.9 | J529: 1056.575 | K529: 38573.704
A530: =B530 & "-" & C530 & "-" & D530 & "-" & E530 -> 2005-VL Long-65-0 | B530: 2005 | C530: VL Long | D530: 65 | E530: 0 | F530: 482326.29 | G530: 6523606.8 | H530: 540070.59 | I530: 6521164.7 | J530: 1056.542 | K530: 38573.706
A531: =B531 & "-" & C531 & "-" & D531 & "-" & E531 -> 2005-VL Long-66-0 | B531: 2005 | C531: VL Long | D531: 66 | E531: 0 | F531: 482319.6 | G531: 6523604.6 | H531: 540063.93 | I531: 6521162.3 | J531: 1055.905 | K531: 38573.706
A532: =B532 & "-" & C532 & "-" & D532 & "-" & E532 -> 2005-VL Long-67-0 | B532: 2005 | C532: VL Long | D532: 67 | E532: 0 | F532: 482311.96 | G532: 6523602.6 | H532: 540056.33 | I532: 6521160.2 | J532: 1055.118 | K532: 38573.708
A533: =B533 & "-" & C533 & "-" & D533 & "-" & E533 -> 2005-VL Long-68-0 | B533: 2005 | C533: VL Long | D533: 68 | E533: 0 | F533: 482304.86 | G533: 6523600.2 | H533: 540049.27 | I533: 6521157.7 | J533: 1053.866 | K533: 38573.711
A534: =B534 & "-" & C534 & "-" & D534 & "-" & E534 -> 2005-VL Long-69-0 | B534: 2005 | C534: VL Long | D534: 69 | E534: 0 | F534: 482297.49 | G534: 6523597.8 | H534: 540041.93 | I534: 6521155.2 | J534: 1052.929 | K534: 38573.713
A535: =B535 & "-" & C535 & "-" & D535 & "-" & E535 -> 2005-VL Long-70-0 | B535: 2005 | C535: VL Long | D535: 70 | E535: 0 | F535: 482290.76 | G535: 6523595.9 | H535: 540035.24 | I535: 6521153.2 | J535: 1051.876 | K535: 38573.713
... A593: =B593 & "-" & C593 & "-" & D593 & "-" & E593 -> 2005-VL Long-128-0 | B593: 2005 | C593: VL Long | D593: 128 | E593: 0 | F593: 481836.49 | G593: 6523425.4 | H593: 539583.74 | I593: 6520976 | J593: 1022.689 | K593: 38574.467
A594: =B594 & "-" & C594 & "-" & D594 & "-" & E594 -> 2005-VL Long-129-0 | B594: 2005 | C594: VL Long | D594: 129 | E594: 0 | N594: no survey data for Epoch 0
A595: =B595 & "-" & C595 & "-" & D595 & "-" & E595 -> 2005-VL Long-130-0 | B595: 2005 | C595: VL Long | D595: 130 | E595: 0 | F595: 481818.58 | G595: 6523419.9 | H595: 539565.91 | I595: 6520970.3 | J595: 1020.047 | K595: 38575.597
A596: =B596 & "-" & C596 & "-" & D596 & "-" & E596 -> 2005-VL Long-131-0 | B596: 2005 | C596: VL Long | D596: 131 | E596: 0 | F596: 481808.26 | G596: 6523419.8 | H596: 539555.61 | I596: 6520970 | J596: 1018.046 | K596: 38575.598
A597: =B597 & "-" & C597 & "-" & D597 & "-" & E597 -> 2005-VL Long-132-0 | B597: 2005 | C597: VL Long | D597: 132 | E597: 0 | F597: 481800.45 | G597: 6523417.2 | H597: 539547.84 | I597: 6520967.3 | J597: 1015.879 | K597: 38575.599
A598: =B598 & "-" & C598 & "-" & D598 & "-" & E598 -> 2005-VL Long-133-0 | B598: 2005 | C598: VL Long | D598: 133 | E598: 0 | F598: 481790.59 | G598: 6523414.8 | H598: 539538.02 | I598: 6520964.7 | J598: 1014.96 | K598: 38575.601
A599: =B599 & "-" & C599 & "-" & D599 & "-" & E599 -> 2005-VL Long-134-0 | B599: 2005 | C599: VL Long | D599: 134 | E599: 0 | F599: 481782.25 | G599: 6523408.2 | H599: 539529.78 | I599: 6520958 | J599: 1016.592 | K599: 38575.603
A600: =B600 & "-" & C600 & "-" & D600 & "-" & E600 -> 2005-VL Long-135-0 | B600: 2005 | C600: VL Long | D600: 135 | E600: 0 | F600: 481772.99 | G600: 6523402 | H600: 539520.62 | I600: 6520951.6 | J600: 1018.167 | K600: 38575.604
A601: =B601 & "-" & C601 & "-" & D601 & "-" & E601 -> 2005-VL Long-136-0 | B601: 2005 | C601: VL Long | D601: 136 | E601: 0 | F601: 481765.05 | G601: 6523408.6 | H601: 539512.58 | I601: 6520958.2 | J601: 1013.458 | K601: 38575.609
A602: =B602 & "-" & C602 & "-" & D602 & "-" & E602 -> 2005-VL Long-137-0 | B602: 2005 | C602: VL Long | D602: 137 | E602: 0 | F602: 481756.51 | G602: 6523407 | H602: 539504.07 | I602: 6520956.5 | J602: 1015.486 | K602: 38575.61
A603: =B603 & "-" & C603 & "-" & D603 & "-" & E603 -> 2005-VL Long-138-0 | B603: 2005 | C603: VL Long | D603: 138 | E603: 0 | F603: 481748.54 | G603: 6523406.1 | H603: 539496.12 | I603: 6520955.4 | J603: 1017.114 | K603: 38575.611
A604: =B604 & "-" & C604 & "-" & D604 & "-" & E604 -> 2005-VL Long-139-0 | B604: 2005 | C604: VL Long | D604: 139 | E604: 0 | F604: 481739.86 | G604: 6523405.7 | H604: 539487.45 | I604: 6520954.9 | J604: 1017.996 | K604: 38575.612
A605: =B605 & "-" & C605 & "-" & D605 & "-" & E605 -> 2005-VL Long-140-0 | B605: 2005 | C605: VL Long | D605: 140 | E605: 0 | F605: 481726.15 | G605: 6523405.2 | H605: 539473.75 | I605: 6520954.2 | J605: 1018.768 | K605: 38575.614
A606: =B606 & "-" & C606 & "-" & D606 & "-" & E606 -> 2005-VL Long-141-0 | B606: 2005 | C606: VL Long | D606: 141 | E606: 0 | F606: 481718.72 | G606: 6523402.4 | H606: 539466.37 | I606: 6520951.3 | J606: 1018.719 | K606: 38575.616
... A644: =B644 & "-" & C644 & "-" & D644 & "-" & E644 -> 2005-VL Long-179-0 | B644: 2005 | C644: VL Long | D644: 179 | E644: 0 | F644: 481167.03 | G644: 6523194.6 | H644: 538918.06 | I644: 6520735.4 | J644: 994.838 | K644: 38575.661
A645: =B645 & "-" & C645 & "-" & D645 & "-" & E645 -> 2005-VL Long-1-1 | B645: 2005 | C645: VL Long | D645: 1 | E645: 1 | F645: 482797.09 | G645: 6523675.3 | H645: 540540.13 | I645: 6521240.1 | J645: 1082.422 | K645: 38576.378 | N645: calculate velocity from 8-11 to 8-12
A646: =B646 & "-" & C646 & "-" & D646 & "-" & E646 -> 2005-VL Long-6-1 | B646: 2005 | C646: VL Long | D646: 6 | E646: 1 | F646: 482763.93 | G646: 6523676.8 | H646: 540506.96 | I646: 6521241.2 | J646: 1084.419 | K646: 38576.38 | N646: calculate velocity from 8-11 to 8-12
A647: =B647 & "-" & C647 & "-" & D647 & "-" & E647 -> 2005-VL Long-23-1 | B647: 2005 | C647: VL Long | D647: 23 | E647: 1 | F647: 482642.77 | G647: 6523676.5 | H647: 540385.86 | I647: 6521239.1 | J647: 1069.012 | K647: 38576.385 | N647: calculate velocity from 8-11 to 8-12
A648: =B648 & "-" & C648 & "-" & D648 & "-" & E648 -> 2005-VL Long-27-1 | B648: 2005 | C648: VL Long | D648: 27 | E648: 1 | F648: 482610.03 | G648: 6523674.5 | H648: 540353.17 | I648: 6521236.5 | J648: 1073.441 | K648: 38576.386 | N648: calculate velocity from 8-11 to 8-12
A649: =B649 & "-" & C649 & "-" & D649 & "-" & E649 -> 2005-VL Long-31-1 | B649: 2005 | C649: VL Long | D649: 31 | E649: 1 | F649: 482579.26 | G649: 6523669.6 | H649: 540322.49 | I649: 6521231.2 | J649: 1070.452 | K649: 38576.387 | N649: calculate velocity from 8-11 to 8-12
A650: =B650 & "-" & C650 & "-" & D650 & "-" & E650 -> 2005-VL Long-34-1 | B650: 2005 | C650: VL Long | D650: 34 | E650: 1 | F650: 482556.58 | G650: 6523665.3 | H650: 540299.89 | I650: 6521226.5 | J650: 1064.263 | K650: 38576.388 | N650: calculate velocity from 8-11 to 8-12
A651: =B651 & "-" & C651 & "-" & D651 & "-" & E651 -> 2005-VL Long-39-1 | B651: 2005 | C651: VL Long | D651: 39 | E651: 1 | F651: 482514.73 | G651: 6523657.1 | H651: 540258.18 | I651: 6521217.7 | J651: 1057.993 | K651: 38576.392 | N651: calculate velocity from 8-11 to 8-12
A652: =B652 & "-" & C652 & "-" & D652 & "-" & E652 -> 2005-VL Long-42-1 | B652: 2005 | C652: VL Long | D652: 42 | E652: 1 | F652: 482493.4 | G652: 6523650.2 | H652: 540236.97 | I652: 6521210.5 | J652: 1063.245 | K652: 38576.396 | N652: calculate velocity from 8-11 to 8-12
A653: =B653 & "-" & C653 & "-" & D653 & "-" & E653 -> 2005-VL Long-45-1 | B653: 2005 | C653: VL Long | D653: 45 | E653: 1 | F653: 482470.16 | G653: 6523641.3 | H653: 540213.87 | I653: 6521201.3 | J653: 1065.364 | K653: 38576.397 | N653: calculate velocity from 8-11 to 8-12
A654: =B654 & "-" & C654 & "-" & D654 & "-" & E654 -> 2005-VL Long-51-1 | B654: 2005 | C654: VL Long | D654: 51 | E654: 1 | F654: 482428.19 | G654: 6523634.8 | H654: 540172.02 | I654: 6521194.2 | J654: 1060.002 | K654: 38576.398 | N654: calculate velocity from 8-11 to 8-12
...

Sheet Annual Heights
A1: Point | B1: Easting Stakeout | C1: Northing Stakeout | D1: Point to Point Distance | E1: Cumulative Distance | F1: 2001 Height | G1: 2003 Height | H1: 2004 Height | I1: 2005 Height | J1: 2006 Height | K1: 2007 Height | L1: 2013 Height | M1: 2017 Height | N1: 2026 Height
A2: 1 | B2: 540540.83 | C2: 6521239.5 | D2: 0 | E2: 0 | F2: 1087.788 | G2: 1085.395 | H2: 1078.049 | I2: 1083.097 | J2: 1077.281 | K2: 1074.241 | M2: 1054.506
A3: 2 | B3: 540534.14 | C3: 6521239.8 | D3: =SQRT((B2-B3)^2 + (C2-C3)^2) -> 6.6976011 | E3: =E2+D3 -> 6.6976011 | F3: 1089.255 | G3: 1082.685 | H3: 1078.551 | I3: 1084.992 | J3: 1079.711 | K3: 1073.434 | L3: 1060.878 | M3: 1055.103
A4: 3 | B4: 540527.5 | C4: 6521240.4 | D4: =SQRT((B3-B4)^2 + (C3-C4)^2) -> 6.6593533 | E4: =E3+D4 -> 13.356954 | F4: 1090.146 | G4: 1082.002 | H4: 1079.435 | I4: 1085.018 | J4: 1080.816 | K4: 1073.683 | L4: 1061.334 | M4: 1055.267
A5: 4 | B5: 540520.94 | C5: 6521241.2 | D5: =SQRT((B4-B5)^2 + (C4-C5)^2) -> 6.612912 | E5: =E4+D5 -> 19.969866 | F5: 1091.2 | G5: 1081.604 | H5: 1080.954 | I5: 1084.963 | J5: 1081.528 | K5: 1074.541 | L5: 1062.913 | M5: 1055.177
A6: 5 | B6: 540514.51 | C6: 6521241.1 | D6: =SQRT((B5-B6)^2 + (C5-C6)^2) -> 6.4326345 | E6: =E5+D6 -> 26.402501 | F6: 1092.668 | G6: 1082.508 | H6: 1082.116 | I6: 1085.266 | J6: 1082.749 | K6: 1075.728 | L6: 1064.54 | M6: 1054.892
A7: 6 | B7: 540507.98 | C7: 6521241.2 | D7: =SQRT((B6-B7)^2 + (C6-C7)^2) -> 6.5272947 | E7: =E6+D7 -> 32.929796 | F7: 1094.185 | G7: 1083.164 | H7: 1083.605 | I7: 1084.762 | J7: 1082.938 | K7: 1077.436 | L7: 1065.396 | M7: 1053.932
A8: 7 | B8: 540500.85 | C8: 6521241.2 | D8: =SQRT((B7-B8)^2 + (C7-C8)^2) -> 7.1310371 | E8: =E7+D8 -> 40.060833 | F8: 1095.297 | G8: 1084.871 | H8: 1084.996 | I8: 1084.032 | J8: 1082.151 | K8: 1077.609 | L8: 1066.216 | M8: 1053.295
A9: 8 | B9: 540492.94 | C9: 6521241.5 | D9: =SQRT((B8-B9)^2 + (C8-C9)^2) -> 7.9219582 | E9: =E8+D9 -> 47.982791 | F9: 1095.93 | H9: 1085.129 | I9: 1082.983 | J9: 1081.201 | K9: 1077.507 | L9: 1067 | M9: 1051.678
A10: 9 | B10: 540484.94 | C10: 6521241.8 | D10: =SQRT((B9-B10)^2 + (C9-C10)^2) -> 7.997877 | E10: =E9+D10 -> 55.980668 | F10: 1096.412 | G10: 1088.008 | H10: 1085.622 | I10: 1081.905 | J10: 1080.128 | K10: 1077.82 | L10: 1067.35 | M10: 1049.962
A11: 10 | B11: 540478.85 | C11: 6521242.4 | D11: =SQRT((B10-B11)^2 + (C10-C11)^2) -> 6.1303544 | E11: =E10+D11 -> 62.111022 | F11: 1095.357 | G11: 1088.396 | H11: 1085.489 | I11: 1081.141 | J11: 1079.353 | K11: 1077.628 | L11: 1067.134 | M11: 1048.009
A12: 11 | B12: 540471.58 | C12: 6521242.5 | D12: =SQRT((B11-B12)^2 + (C11-C12)^2) -> 7.2663296 | E12: =E11+D12 -> 69.377352 | F12: 1094.624 | G12: 1088.167 | H12: 1085.053 | I12: 1080.015 | J12: 1078.119 | K12: 1076.975 | L12: 1066.835 | M12: 1045.75
A13: 12 | B13: 540464.58 | C13: 6521242.7 | D13: =SQRT((B12-B13)^2 + (C12-C13)^2) -> 7.0013602 | E13: =E12+D13 -> 76.378712 | F13: 1093.714 | G13: 1087.577 | H13: 1084.278 | I13: 1078.709 | J13: 1076.525 | K13: 1076.392 | L13: 1066.541 | M13: 1043.64
A14: 13 | B14: 540457.96 | C14: 6521241.8 | D14: =SQRT((B13-B14)^2 + (C13-C14)^2) -> 6.6774453 | E14: =E13+D14 -> 83.056157 | F14: 1092.716 | G14: 1087.12 | H14: 1083.719 | I14: 1077.79 | J14: 1075.186 | K14: 1075.267 | L14: 1066.137 | M14: 1041.691
A15: 14 | B15: 540451.4 | C15: 6521241.1 | D15: =SQRT((B14-B15)^2 + (C14-C15)^2) -> 6.5941993 | E15: =E14+D15 -> 89.650357 | F15: 1091.765 | G15: 1086.553 | H15: 1082.675 | I15: 1075.992 | J15: 1073.507 | K15: 1073.686 | L15: 1065.527 | M15: 1040.329
A16: 15 | B16: 540444.12 | C16: 6521240.5 | D16: =SQRT((B15-B16)^2 + (C15-C16)^2) -> 7.3022025 | E16: =E15+D16 -> 96.952559 | F16: 1090.487 | G16: 1085.573 | H16: 1081.025 | I16: 1074.24 | J16: 1071.044 | K16: 1071.414 | L16: 1064.628 | M16: 1039.159
A17: 16 | B17: 540436.5 | C17: 6521240.2 | D17: =SQRT((B16-B17)^2 + (C16-C17)^2) -> 7.6264052 | E17: =E16+D17 -> 104.57896 | F17: 1088.952 | G17: 1084.831 | H17: 1079.237 | I17: 1071.844 | J17: 1068.604 | K17: 1069.242 | L17: 1063.653 | M17: 1040.495
A18: 17 | B18: 540428.83 | C18: 6521239.9 | D18: =SQRT((B17-B18)^2 + (C17-C18)^2) -> 7.6807823 | E18: =E17+D18 -> 112.25975 | F18: 1087.48 | G18: 1083.195 | H18: 1076.849 | I18: 1070.017 | K18: 1066.696 | L18: 1062.193 | M18: 1041.655
A19: 18 | B19: 540421.62 | C19: 6521240 | D19: =SQRT((B18-B19)^2 + (C18-C19)^2) -> 7.2073596 | E19: =E18+D19 -> 119.46711 | F19: 1085.727 | G19: 1081.093 | H19: 1074.337 | I19: 1068.59 | K19: 1064.444 | L19: 1060.072 | M19: 1042.188
A20: 19 | B20: 540414.1 | C20: 6521240 | D20: =SQRT((B19-B20)^2 + (C19-C20)^2) -> 7.5180293 | E20: =E19+D20 -> 126.98514 | F20: 1083.53 | G20: 1079.393 | H20: 1071.644 | I20: 1067.818 | J20: 1066.364 | K20: 1063.182 | L20: 1058.322 | M20: 1042.539
A21: 20 | B21: 540405.83 | C21: 6521239.7 | D21: =SQRT((B20-B21)^2 + (C20-C21)^2) -> 8.2843545 | E21: =E20+D21 -> 135.26949 | F21: 1081.19 | G21: 1076.83 | I21: 1067.037 | J21: 1069.234 | K21: 1064.882 | L21: 1056.481 | M21: 1042.496
A22: 21 | B22: 540399.26 | C22: 6521240.1 | D22: =SQRT((B21-B22)^2 + (C21-C22)^2) -> 6.5799818 | E22: =E21+D22 -> 141.84947 | F22: 1079.669 | G22: 1074.875 | I22: 1067.494 | J22: 1070.418 | K22: 1066.327 | L22: 1055.179 | M22: 1042.45
A23: 22 | B23: 540393.44 | C23: 6521239.1 | D23: =SQRT((B22-B23)^2 + (C22-C23)^2) -> 5.9049221 | E23: =E22+D23 -> 147.75439 | F23: 1081.198 | G23: 1070.617 | I23: 1068.48 | J23: 1071.744 | K23: 1067.957 | L23: 1054.201 | M23: 1042.901
A24: 23 | B24: 540386.56 | C24: 6521238.7 | D24: =SQRT((B23-B24)^2 + (C23-C24)^2) -> 6.887672 | E24: =E23+D24 -> 154.64207 | F24: 1082.786 | G24: 1067.958 | I24: 1069.318 | J24: 1071.995 | K24: 1069.413 | L24: 1053.697 | M24: 1043.227
A25: 24 | B25: 540378.72 | C25: 6521238.8 | D25: =SQRT((B24-B25)^2 + (C24-C25)^2) -> 7.8361235 | E25: =E24+D25 -> 162.47819 | F25: 1084.185 | G25: 1070.022 | I25: 1070.956 | J25: 1072.103 | K25: 1069.908 | L25: 1055.245 | M25: 1042.961
A26: 25 | B26: 540370.92 | C26: 6521238.6 | D26: =SQRT((B25-B26)^2 + (C25-C26)^2) -> 7.8008964 | E26: =E25+D26 -> 170.27909 | F26: 1085.343 | G26: 1072.908 | I26: 1072.513 | J26: 1072.043 | K26: 1069.663 | L26: 1056.695 | M26: 1041.904
A27: 26 | B27: 540362.9 | C27: 6521237.6 | D27: =SQRT((B26-B27)^2 + (C26-C27)^2) -> 8.0882706 | E27: =E26+D27 -> 178.36736 | F27: 1085.826 | G27: 1075.39 | H27: 1072.619 | I27: 1073.567 | J27: 1071.152 | K27: 1069.187 | L27: 1057.76 | M27: 1041.462
A28: 27 | B28: 540354.76 | C28: 6521236.2 | D28: =SQRT((B27-B28)^2 + (C27-C28)^2) -> 8.2541548 | E28: =E27+D28 -> 186.62151 | F28: 1086.277 | G28: 1076.534 | H28: 1074.329 | I28: 1073.815 | J28: 1070.256 | K28: 1068.344 | L28: 1058.235 | M28: 1040.098
A29: 28 | B29: 540346.95 | C29: 6521235.1 | D29: =SQRT((B28-B29)^2 + (C28-C29)^2) -> 7.8771981 | E29: =E28+D29 -> 194.49871 | F29: 1086.137 | G29: 1077.218 | H29: 1075.149 | I29: 1073.586 | J29: 1069.343 | K29: 1067.709 | L29: 1058.23 | M29: 1038.789
A30: 29 | B30: 540339.74 | C30: 6521233.4 | D30: =SQRT((B29-B30)^2 + (C29-C30)^2) -> 7.4212216 | E30: =E29+D30 -> 201.91993 | F30: 1085.753 | G30: 1077.372 | H30: 1075.255 | I30: 1073.082 | J30: 1068.03 | K30: 1066.69 | L30: 1057.743 | M30: 1037.225
A31: 30 | B31: 540331.44 | C31: 6521232.1 | D31: =SQRT((B30-B31)^2 + (C30-C31)^2) -> 8.4030158 | E31: =E30+D31 -> 210.32295 | F31: 1084.924 | G31: 1077.532 | H31: 1074.951 | I31: 1072.094 | J31: 1066.715 | K31: 1065.052 | L31: 1056.595 | M31: 1034.921
A32: 31 | B32: 540323.51 | C32: 6521231.2 | D32: =SQRT((B31-B32)^2 + (C31-C32)^2) -> 7.987322 | E32: =E31+D32 -> 218.31027 | F32: 1083.894 | G32: 1076.318 | H32: 1074.136 | I32: 1070.685 | J32: 1064.777 | K32: 1063.335 | L32: 1055.457 | M32: 1033.341
A33: 32 | B33: 540314.72 | C33: 6521229.7 | D33: =SQRT((B32-B33)^2 + (C32-C33)^2) -> 8.9168997 | E33: =E32+D33 -> 227.22717 | F33: 1081.954 | G33: 1075.909 | H33: 1073.27 | I33: 1068.778 | J33: 1062.882 | K33: 1060.876 | L33: 1053.653 | M33: 1032.106
A34: 33 | B34: 540307.52 | C34: 6521228.1 | D34: =SQRT((B33-B34)^2 + (C33-C34)^2) -> 7.3615402 | E34: =E33+D34 -> 234.58871 | F34: 1080.184 | G34: 1074.918 | H34: 1072.12 | I34: 1066.708 | J34: 1061.582 | K34: 1059.057 | L34: 1051.761 | M34: 1031.321
A35: 34 | B35: 540301.04 | C35: 6521227.1 | D35: =SQRT((B34-B35)^2 + (C34-C35)^2) -> 6.5602537 | E35: =E34+D35 -> 241.14896 | F35: 1078.427 | G35: 1073.609 | H35: 1071.042 | I35: 1064.542 | J35: 1059.639 | K35: 1056.289 | L35: 1049.81 | M35: 1031.849
A36: 35 | B36: 540297.4 | C36: 6521226.5 | D36: =SQRT((B35-B36)^2 + (C35-C36)^2) -> 3.6899889 | E36: =E35+D36 -> 244.83895 | F36: 1077.271 | G36: 1073.407 | H36: 1070.226 | I36: 1063.466 | L36: 1048.174 | M36: 1032.306
A37: 36 | B37: 540278.82 | C37: 6521224.1 | D37: =SQRT((B36-B37)^2 + (C36-C37)^2) -> 18.731457 | E37: =E36+D37 -> 263.57041 | F37: 1064.992 | G37: 1068.485 | H37: 1066.297 | I37: 1058.647 | J37: 1056.918 | K37: 1059.565 | M37: 1035.181
A38: 37 | B38: 540268.9 | C38: 6521221.1 | D38: =SQRT((B37-B38)^2 + (C37-C38)^2) -> 10.36353 | E38: =E37+D38 -> 273.93394 | F38: 1072.118 | G38: 1063.5 | H38: 1062.912 | J38: 1057.869 | K38: 1061.376 | M38: 1036.552
A39: 38 | B39: 540264.28 | C39: 6521219.3 | D39: =SQRT((B38-B39)^2 + (C38-C39)^2) -> 4.9502538 | E39: =E38+D39 -> 278.88419 | F39: 1073.727 | G39: 1063.073 | H39: 1061.214 | J39: 1058.407 | K39: 1061.941 | L39: 1044.568 | M39: 1036.954
A40: 39 | B40: 540258.63 | C40: 6521217.4 | D40: =SQRT((B39-B40)^2 + (C39-C40)^2) -> 5.9660335 | E40: =E39+D40 -> 284.85023 | F40: 1075.355 | G40: 1062.963 | H40: 1058.742 | I40: 1058.429 | J40: 1060.044 | K40: 1062.529 | L40: 1045.5 | M40: 1036.964
A41: 40 | B41: 540252.87 | C41: 6521215.6 | D41: =SQRT((B40-B41)^2 + (C40-C41)^2) -> 6.0374462 | E41: =E40+D41 -> 290.88767 | F41: 1076.453 | G41: 1064.759 | H41: 1058.043 | I41: 1060.955 | J41: 1060.821 | K41: 1063.349 | L41: 1046.481 | M41: 1036.498
A42: 41 | B42: 540245.95 | C42: 6521213.1 | D42: =SQRT((B41-B42)^2 + (C41-C42)^2) -> 7.3693661 | E42: =E41+D42 -> 298.25704 | F42: 1077.418 | G42: 1066.376 | H42: 1061.562 | I42: 1061.388 | J42: 1061.366 | K42: 1063.222 | L42: 1048.544 | M42: 1035.99
A43: 42 | B43: 540238.14 | C43: 6521210.6 | D43: =SQRT((B42-B43)^2 + (C42-C43)^2) -> 8.20064 | E43: =E42+D43 -> 306.45768 | F43: 1078.416 | G43: 1068.107 | H43: 1063.494 | I43: 1063.522 | J43: 1062.008 | K43: 1062.46 | L43: 1050.045 | M43: 1035.432
A44: 43 | B44: 540230.52 | C44: 6521207.5 | D44: =SQRT((B43-B44)^2 + (C43-C44)^2) -> 8.1914856 | E44: =E43+D44 -> 314.64916 | F44: 1079.077 | G44: 1069.011 | H44: 1064.13 | I44: 1064.899 | J44: 1061.735 | K44: 1062.373 | L44: 1051.057 | M44: 1034.578
A45: 44 | B45: 540222.74 | C45: 6521204.1 | D45: =SQRT((B44-B45)^2 + (C44-C45)^2) -> 8.4982201 | E45: =E44+D45 -> 323.14738 | F45: 1078.855 | G45: 1070.086 | H45: 1065.272 | I45: 1065.348 | J45: 1060.822 | K45: 1061.701 | L45: 1051.645 | M45: 1033.174
A46: 45 | B46: 540215.13 | C46: 6521201.2 | D46: =SQRT((B45-B46)^2 + (C45-C46)^2) -> 8.1552504 | E46: =E45+D46 -> 331.30263 | F46: 1078.702 | G46: 1071.176 | H46: 1065.855 | I46: 1065.751 | J46: 1062.478 | K46: 1060.605 | L46: 1051.444 | M46: 1031.482
A47: 46 | B47: 540207.78 | C47: 6521200.2 | D47: =SQRT((B46-B47)^2 + (C46-C47)^2) -> 7.4194277 | E47: =E46+D47 -> 338.72206 | F47: 1077.694 | G47: 1071.169 | H47: 1066.224 | I47: 1065.339 | J47: 1062.377 | K47: 1059.495 | L47: 1050.718 | M47: 1029.953
A48: 47 | B48: 540199.97 | C48: 6521199.4 | D48: =SQRT((B47-B48)^2 + (C47-C48)^2) -> 7.852144 | E48: =E47+D48 -> 346.57421 | F48: 1076.533 | G48: 1071.137 | H48: 1065.975 | I48: 1064.989 | J48: 1061.606 | K48: 1057.978 | L48: 1049.574 | M48: 1028.33
A49: 48 | B49: 540191.85 | C49: 6521198.5 | D49: =SQRT((B48-B49)^2 + (C48-C49)^2) -> 8.1687554 | E49: =E48+D49 -> 354.74296 | F49: 1075.027 | G49: 1070.391 | H49: 1065.779 | I49: 1063.863 | K49: 1055.979 | L49: 1048.788 | M49: 1026.279
A50: 49 | B50: 540184.53 | C50: 6521197.1 | D50: =SQRT((B49-B50)^2 + (C49-C50)^2) -> 7.4549078 | E50: =E49+D50 -> 362.19787 | F50: 1073.375 | G50: 1070.288 | H50: 1064.873 | I50: 1062.592 | K50: 1053.936 | L50: 1047.241 | M50: 1025.941
A51: 50 | B51: 540178.3 | C51: 6521196 | D51: =SQRT((B50-B51)^2 + (C50-C51)^2) -> 6.3308894 | E51: =E50+D51 -> 368.52876 | F51: 1071.551 | G51: 1069.05 | H51: 1064.278 | I51: 1061.464 | K51: 1052.319 | L51: 1046.233 | M51: 1024.922
A52: 51 | B52: 540173.46 | C52: 6521194.1 | D52: =SQRT((B51-B52)^2 + (C51-C52)^2) -> 5.1954881 | E52: =E51+D52 -> 373.72425 | F52: 1069.946 | G52: 1068.372 | H52: 1063.2 | I52: 1060.34 | K52: 1050.857 | L52: 1045.057 | M52: 1024.825
A53: 52 | B53: 540166.16 | C53: 6521192 | D53: =SQRT((B52-B53)^2 + (C52-C53)^2) -> 7.6035603 | E53: =E52+D53 -> 381.32781 | F53: 1063.783 | G53: 1067.866 | H53: 1061.798 | I53: 1058.855 | J53: 1054.763 | K53: 1049.149 | L53: 1043.552 | M53: 1026.071
A54: 53 | B54: 540161.12 | C54: 6521189.7 | D54: =SQRT((B53-B54)^2 + (C53-C54)^2) -> 5.519361 | E54: =E53+D54 -> 386.84717 | F54: 1060.629 | G54: 1066.094 | H54: 1061.02 | I54: 1057.668 | J54: 1053.935 | K54: 1048.508 | L54: 1042.628 | M54: 1026.726
A55: 54 | B55: 540146.33 | C55: 6521191.1 | D55: =SQRT((B54-B55)^2 + (C54-C55)^2) -> 14.852856 | E55: =E54+D55 -> 401.70002 | F55: 1063.986 | G55: 1063.975 | H55: 1058.352 | I55: 1054.779 | J55: 1050.462 | K55: 1048.374 | L55: 1040.237 | M55: 1028.171
A56: 55 | B56: 540140.25 | C56: 6521189.1 | D56: =SQRT((B55-B56)^2 + (C55-C56)^2) -> 6.3966805 | E56: =E55+D56 -> 408.0967 | F56: 1065.564 | G56: 1063.408 | H56: 1056.421 | I56: 1053.704 | J56: 1049.483 | K56: 1049.022 | L56: 1039.884 | M56: 1028.792
A57: 56 | B57: 540134.41 | C57: 6521187 | D57: =SQRT((B56-B57)^2 + (C56-C57)^2) -> 6.2213137 | E57: =E56+D57 -> 414.31802 | F57: 1066.836 | G57: 1062.683 | H57: 1055.682 | I57: 1052.708 | J57: 1050.261 | K57: 1049.604 | L57: 1040.656 | M57: 1028.596
A58: 57 | B58: 540129.25 | C58: 6521185.2 | D58: =SQRT((B57-B58)^2 + (C57-C58)^2) -> 5.4595631 | E58: =E57+D58 -> 419.77758 | F58: 1068.184 | G58: 1061.332 | H58: 1055.004 | I58: 1050.163 | J58: 1051.633 | K58: 1050.369 | L58: 1040.881 | M58: 1029.093
A59: 58 | B59: 540122.6 | C59: 6521182.2 | D59: =SQRT((B58-B59)^2 + (C58-C59)^2) -> 7.2747805 | E59: =E58+D59 -> 427.05236 | F59: 1069.435 | G59: 1060.777 | H59: 1054.103 | J59: 1052.143 | K59: 1051.255 | L59: 1041.62 | M59: 1028.493
A60: 59 | B60: 540114.54 | C60: 6521180.3 | D60: =SQRT((B59-B60)^2 + (C59-C60)^2) -> 8.293183 | E60: =E59+D60 -> 435.34554 | F60: 1070.115 | G60: 1060.818 | H60: 1054.969 | I60: 1052.818 | J60: 1054.023 | K60: 1053.463 | L60: 1042.196 | M60: 1028.004
A61: 60 | B61: 540107.12 | C61: 6521177.1 | D61: =SQRT((B60-B61)^2 + (C60-C61)^2) -> 8.0526679 | E61: =E60+D61 -> 443.39821 | F61: 1070.853 | G61: 1061.856 | H61: 1056.479 | I61: 1053.674 | J61: 1055.21 | K61: 1053.88 | L61: 1041.88 | M61: 1027.145
A62: 61 | B62: 540099.33 | C62: 6521174.8 | D62: =SQRT((B61-B62)^2 + (C61-C62)^2) -> 8.143254 | E62: =E61+D62 -> 451.54147 | F62: 1071.269 | G62: 1062.696 | H62: 1058.679 | I62: 1055.094 | J62: 1055.72 | K62: 1054.177 | L62: 1042.417 | M62: 1026.074
A63: 62 | B63: 540092.15 | C63: 6521172.6 | D63: =SQRT((B62-B63)^2 + (C62-C63)^2) -> 7.4831082 | E63: =E62+D63 -> 459.02457 | F63: 1071.147 | G63: 1063.188 | H63: 1060.019 | I63: 1055.815 | J63: 1055.866 | K63: 1054.679 | L63: 1042.384 | M63: 1025.052
A64: 63 | B64: 540084.41 | C64: 6521170 | D64: =SQRT((B63-B64)^2 + (C63-C64)^2) -> 8.1653498 | E64: =E63+D64 -> 467.18992 | F64: 1071.048 | G64: 1063.822 | H64: 1060.102 | I64: 1056.425 | J64: 1056.103 | K64: 1054.628 | L64: 1041.913 | M64: 1023.754
A65: 64 | B65: 540077.03 | C65: 6521167 | D65: =SQRT((B64-B65)^2 + (C64-C65)^2) -> 7.9623439 | E65: =E64+D65 -> 475.15227 | F65: 1070.812 | G65: 1064.019 | H65: 1060.08 | I65: 1056.575 | J65: 1055.793 | K65: 1054.367 | L65: 1041.935 | M65: 1022.132
A66: 65 | B66: 540070.29 | C66: 6521164.5 | D66: =SQRT((B65-B66)^2 + (C65-C66)^2) -> 7.2029525 | E66: =E65+D66 -> 482.35522 | F66: 1070.224 | G66: 1063.736 | H66: 1060.048 | I66: 1056.542 | J66: 1055.49 | K66: 1053.714 | L66: 1041.173 | M66: 1020.648
A67: 66 | B67: 540064.09 | C67: 6521162.3 | D67: =SQRT((B66-B67)^2 + (C66-C67)^2) -> 6.5853998 | E67: =E66+D67 -> 488.94062 | F67: 1069.398 | G67: 1063.111 | H67: 1059.817 | I67: 1055.905 | J67: 1054.78 | K67: 1053.177 | L67: 1040.695 | M67: 1019.387
A68: 67 | B68: 540056.14 | C68: 6521159.9 | D68: =SQRT((B67-B68)^2 + (C67-C68)^2) -> 8.2992156 | E68: =E67+D68 -> 497.23984 | F68: 1068.318 | G68: 1063.501 | H68: 1059.418 | I68: 1055.118 | J68: 1053.715 | K68: 1051.351 | L68: 1039.704 | M68: 1017.923
A69: 68 | B69: 540049.03 | C69: 6521157.7 | D69: =SQRT((B68-B69)^2 + (C68-C69)^2) -> 7.4343532 | E69: =E68+D69 -> 504.67419 | F69: 1066.789 | G69: 1062.787 | H69: 1058.552 | I69: 1053.866 | J69: 1052.722 | K69: 1050.449 | L69: 1038.274 | M69: 1016.474
A70: 69 | B70: 540042.06 | C70: 6521155.2 | D70: =SQRT((B69-B70)^2 + (C69-C70)^2) -> 7.4144665 | E70: =E69+D70 -> 512.08866 | F70: 1065.509 | G70: 1061.613 | H70: 1057.629 | I70: 1052.929 | J70: 1051.594 | K70: 1048.782 | L70: 1036.846 | M70: 1015.86
A71: 70 | B71: 540035.31 | C71: 6521153 | D71: =SQRT((B70-B71)^2 + (C70-C71)^2) -> 7.1157574 | E71: =E70+D71 -> 519.20441 | F71: 1064.087 | G71: 1060.305 | H71: 1056.078 | I71: 1051.876 | J71: 1050.318 | K71: 1047.131 | L71: 1035.617 | M71: 1015.743
... A81: 80 | B81: 539962.99 | C81: 6521129.5 | D81: =SQRT((B80-B81)^2 + (C80-C81)^2) -> 8.2211825 | E81: =E80+D81 -> 596.26051 | F81: 1061.932 | G81: 1052.726 | H81: 1050.563 | I81: 1047.859 | J81: 1044.403 | K81: 1045.663 | L81: 1033.661 | M81: 1018.926
A82: 81 | B82: 539956.17 | C82: 6521126.6 | D82: =SQRT((B81-B82)^2 + (C81-C82)^2) -> 7.4236719 | E82: =E81+D82 -> 603.68418 | F82: 1062.244 | G82: 1054.172 | H82: 1051.227 | I82: 1048.653 | J82: 1044.988 | K82: 1045.827 | L82: 1033.666 | M82: 1018.662 | N82: 988.118
A83: 82 | B83: 539947.84 | C83: 6521124.9 | D83: =SQRT((B82-B83)^2 + (C82-C83)^2) -> 8.5050616 | E83: =E82+D83 -> 612.18924 | F83: 1062.213 | G83: 1054.321 | H83: 1051.406 | I83: 1048.379 | J83: 1045.114 | K83: 1045.72 | L83: 1033.208 | M83: 1017.479 | N83: 987.458
A84: 83 | B84: 539939.57 | C84: 6521123.8 | D84: =SQRT((B83-B84)^2 + (C83-C84)^2) -> 8.3404006 | E84: =E83+D84 -> 620.52964 | F84: 1062.003 | G84: 1054.566 | H84: 1051.298 | I84: 1048.088 | J84: 1045.254 | K84: 1045.149 | L84: 1033.042 | M84: 1016.596
A85: 84 | B85: 539931.55 | C85: 6521121.2 | D85: =SQRT((B84-B85)^2 + (C84-C85)^2) -> 8.4333064 | E85: =E84+D85 -> 628.96295 | F85: 1061.63 | G85: 1054.124 | H85: 1050.769 | I85: 1047.675 | J85: 1044.71 | K85: 1044.463 | L85: 1032.353 | M85: 1015.386
A86: 85 | B86: 539923.34 | C86: 6521118.3 | D86: =SQRT((B85-B86)^2 + (C85-C86)^2) -> 8.7048003 | E86: =E85+D86 -> 637.66775 | F86: 1061.238 | G86: 1053.451 | H86: 1050.315 | I86: 1047.074 | J86: 1044.282 | K86: 1043.982 | L86: 1030.849 | M86: 1014.062
A87: 86 | B87: 539915.98 | C87: 6521115.2 | D87: =SQRT((B86-B87)^2 + (C86-C87)^2) -> 7.9734615 | E87: =E86+D87 -> 645.64121 | F87: 1060.48 | G87: 1053.536 | H87: 1049.553 | I87: 1046.327 | J87: 1043.317 | K87: 1043.092 | L87: 1029.4 | M87: 1012.686
A88: 87 | B88: 539908.66 | C88: 6521112.1 | D88: =SQRT((B87-B88)^2 + (C87-C88)^2) -> 7.9604734 | E88: =E87+D88 -> 653.60168 | F88: 1059.441 | G88: 1053.046 | H88: 1049.036 | I88: 1045.8 | J88: 1042.505 | K88: 1042.019 | L88: 1028.165 | M88: 1011.591
A89: 88 | B89: 539901.7 | C89: 6521107.9 | D89: =SQRT((B88-B89)^2 + (C88-C89)^2) -> 8.1560471 | E89: =E88+D89 -> 661.75773 | F89: 1058.227 | G89: 1051.883 | H89: 1048.665 | I89: 1044.809 | J89: 1041.482 | K89: 1040.878 | L89: 1026.85 | M89: 1010.532
A90: 89 | B90: 539895.71 | C90: 6521104.1 | D90: =SQRT((B89-B90)^2 + (C89-C90)^2) -> 7.0622363 | E90: =E89+D90 -> 668.81996 | F90: 1057.001 | G90: 1050.777 | H90: 1047.496 | I90: 1043.806 | J90: 1040.416 | K90: 1040.134 | L90: 1025.678 | M90: 1009.951 | N90: 981.401
A91: 90 | B91: 539889.45 | C91: 6521100.2 | D91: =SQRT((B90-B91)^2 + (C90-C91)^2) -> 7.3719811 | E91: =E90+D91 -> 676.19195 | F91: 1055.601 | G91: 1050.117 | H91: 1045.575 | I91: 1042.84 | J91: 1039.399 | K91: 1038.766 | L91: 1024.647 | M91: 1009.411
A92: 91 | B92: 539881.72 | C92: 6521097.4 | D92: =SQRT((B91-B92)^2 + (C91-C92)^2) -> 8.2179365 | E92: =E91+D92 -> 684.40988 | F92: 1054.059 | G92: 1048.388 | H92: 1044.099 | I92: 1041.575 | J92: 1037.942 | K92: 1037.32 | L92: 1023.841 | M92: 1008.753
A93: 92 | B93: 539874.85 | C93: 6521097.2 | D93: =SQRT((B92-B93)^2 + (C92-C93)^2) -> 6.8668264 | E93: =E92+D93 -> 691.27671 | F93: 1052.85 | G93: 1046.803 | H93: 1044.237 | I93: 1041.336 | J93: 1036.02 | K93: 1035.866 | L93: 1023.304 | M93: 1008.265
A94: 93 | B94: 539867.17 | C94: 6521096.4 | D94: =SQRT((B93-B94)^2 + (C93-C94)^2) -> 7.7271673 | E94: =E93+D94 -> 699.00388 | F94: 1051.51 | G94: 1044.89 | H94: 1043.326 | I94: 1039.888 | K94: 1033.926 | L94: 1022.609 | M94: 1008.126
A95: 94 | B95: 539859.87 | C95: 6521092.9 | D95: =SQRT((B94-B95)^2 + (C94-C95)^2) -> 8.1014109 | E95: =E94+D95 -> 707.10529 | F95: 1050.337 | G95: 1042.442 | H95: 1041.141 | I95: 1039.058 | K95: 1032.872 | L95: 1022.09 | M95: 1008.366
A96: 95 | B96: 539853.36 | C96: 6521089.5 | D96: =SQRT((B95-B96)^2 + (C95-C96)^2) -> 7.3558636 | E96: =E95+D96 -> 714.46115 | F96: 1049.527 | G96: 1040.406 | H96: 1039.808 | I96: 1038.178 | K96: 1031.838 | L96: 1022.057 | M96: 1008.302
A97: 96 | B97: 539847.11 | C97: 6521087.3 | D97: =SQRT((B96-B97)^2 + (C96-C97)^2) -> 6.6260315 | E97: =E96+D97 -> 721.08718 | F97: 1049.075 | G97: 1039.775 | H97: 1037.866 | I97: 1037.324 | K97: 1030.882 | L97: 1022.004 | M97: 1008.098
A98: 97 | B98: 539839.58 | C98: 6521086.4 | D98: =SQRT((B97-B98)^2 + (C97-C98)^2) -> 7.5913008 | E98: =E97+D98 -> 728.67848 | F98: 1048.069 | G98: 1040.328 | H98: 1038.375 | I98: 1036.404 | K98: 1029.455 | L98: 1021.861 | M98: 1007.682
A99: 98 | B99: 539831.26 | C99: 6521085.5 | D99: =SQRT((B98-B99)^2 + (C98-C99)^2) -> 8.3553482 | E99: =E98+D99 -> 737.03383 | F99: 1047.02 | G99: 1041.46 | H99: 1038.132 | I99: 1035.86 | J99: 1030.613 | K99: 1028.833 | L99: 1021.677 | M99: 1007.051
A100: 99 | B100: 539823.86 | C100: 6521083.3 | D100: =SQRT((B99-B100)^2 + (C99-C100)^2) -> 7.747991 | E100: =E99+D100 -> 744.78182 | F100: 1047.176 | G100: 1042.459 | H100: 1036.749 | I100: 1035.104 | J100: 1030.936 | L100: 1021.582 | M100: 1006.846
A101: 100 | B101: 539817.6 | C101: 6521078.3 | D101: =SQRT((B100-B101)^2 + (C100-C101)^2) -> 8.0117164 | E101: =E100+D101 -> 752.79354 | F101: 1047.711 | G101: 1043.261 | H101: 1036.725 | I101: 1036.147 | J101: 1033.023 | K101: 1030.374 | L101: 1021.466 | M101: 1006.438
A102: 101 | B102: 539810.12 | C102: 6521074.1 | D102: =SQRT((B101-B102)^2 + (C101-C102)^2) -> 8.5415054 | E102: =E101+D102 -> 761.33504 | F102: 1048.636 | G102: 1043.625 | H102: 1038.455 | I102: 1036.7 | J102: 1033.77 | K102: 1031.494 | L102: 1021.507 | M102: 1005.635
A103: 102 | B103: 539802.02 | C103: 6521072.1 | D103: =SQRT((B102-B103)^2 + (C102-C103)^2) -> 8.3642145 | E103: =E102+D103 -> 769.69926 | F103: 1049.012 | G103: 1043.566 | H103: 1039.325 | I103: 1036.626 | J103: 1033.727 | K103: 1031.554 | L103: 1021.239 | M103: 1004.808
A104: 103 | B104: 539794.02 | C104: 6521068.5 | D104: =SQRT((B103-B104)^2 + (C103-C104)^2) -> 8.7512772 | E104: =E103+D104 -> 778.45054 | F104: 1049.32 | G104: 1043.497 | H104: 1039.277 | I104: 1036.587 | J104: 1033.579 | K104: 1031.663 | L104: 1020.866 | M104: 1003.709 | N104: 972.583
A105: 104 | B105: 539784.57 | C105: 6521066.8 | D105: =SQRT((B104-B105)^2 + (C104-C105)^2) -> 9.6081986 | E105: =E104+D105 -> 788.05873 | F105: 1049.282 | G105: 1043.023 | H105: 1039.456 | I105: 1036.034 | K105: 1031.309 | L105: 1019.733 | M105: 1002.22
A106: 105 | B106: 539775.98 | C106: 6521062.3 | D106: =SQRT((B105-B106)^2 + (C105-C106)^2) -> 9.6875223 | E106: =E105+D106 -> 797.74626 | F106: 1049.135 | G106: 1041.438 | H106: 1038.945 | I106: 1035.803 | J106: 1031.793 | K106: 1030.519 | L106: 1019.246 | M106: 1000.15
A107: 106 | B107: 539768.08 | C107: 6521060.6 | D107: =SQRT((B106-B107)^2 + (C106-C107)^2) -> 8.0769299 | E107: =E106+D107 -> 805.82319 | F107: 1048.777 | G107: 1041.351 | H107: 1038.353 | I107: 1034.954 | L107: 1018.591 | M107: 1000.507 | N107: 969.196
A108: 107 | B108: 539760.55 | C108: 6521057.3 | D108: =SQRT((B107-B108)^2 + (C107-C108)^2) -> 8.2134795 | E108: =E107+D108 -> 814.03667 | F108: 1048.441 | G108: 1040.627 | I108: 1034.49 | L108: 1017.508 | M108: 999.3
A109: 108 | B109: 539752.57 | C109: 6521053.3 | D109: =SQRT((B108-B109)^2 + (C108-C109)^2) -> 8.9520904 | E109: =E108+D109 -> 822.98876 | F109: 1047.883 | G109: 1039.995 | I109: 1033.812 | J109: 1030.799 | K109: 1027.914 | L109: 1016.339 | M109: 998.165
...

Sheet Height Change (Cumulative)
A1: Point | B1: Easting Stakeout | C1: Northing Stakeout | D1: Point to Point Distance | E1: Cumulative Distance | F1: 2001 Height | G1: 2001 Baseline | H1: 01 to 03 | I1: 01 to 04 | J1: 01 to 05 | K1: 01 to 06 | L1: 01 to 07 | M1: 01 to 13 | N1: 01 to 17 | O1: 01 to 26
A2: 1 | B2: 540540.83 | C2: 6521239.5 | D2: 0 | E2: 0 | F2: 1087.788 | G2: 0 | H2: ='Annual Heights'!G2-'Annual Heights'!F2 -> -2.393 | I2: ='Annual Heights'!H2-'Annual Heights'!F2 -> -9.739 | J2: ='Annual Heights'!I2-'Annual Heights'!F2 -> -4.691 | K2: ='Annual Heights'!J2-'Annual Heights'!F2 -> -10.507 | L2: ='Annual Heights'!K2-'Annual Heights'!F2 -> -13.547 | N2: ='Annual Heights'!M2-'Annual Heights'!F2 -> -33.282
A3: 2 | B3: 540534.14 | C3: 6521239.8 | D3: 6.6976011 | E3: 6.6976011 | F3: 1089.255 | G3: 0 | H3: ='Annual Heights'!G3-'Annual Heights'!F3 -> -6.57 | I3: ='Annual Heights'!H3-'Annual Heights'!F3 -> -10.704 | J3: ='Annual Heights'!I3-'Annual Heights'!F3 -> -4.263 | K3: ='Annual Heights'!J3-'Annual Heights'!F3 -> -9.544 | L3: ='Annual Heights'!K3-'Annual Heights'!F3 -> -15.821 | M3: ='Annual Heights'!L3-'Annual Heights'!F3 -> -28.377 | N3: ='Annual Heights'!M3-'Annual Heights'!F3 -> -34.152
A4: 3 | B4: 540527.5 | C4: 6521240.4 | D4: 6.6593533 | E4: 13.356954 | F4: 1090.146 | G4: 0 | H4: ='Annual Heights'!G4-'Annual Heights'!F4 -> -8.144 | I4: ='Annual Heights'!H4-'Annual Heights'!F4 -> -10.711 | J4: ='Annual Heights'!I4-'Annual Heights'!F4 -> -5.128 | K4: ='Annual Heights'!J4-'Annual Heights'!F4 -> -9.33 | L4: ='Annual Heights'!K4-'Annual Heights'!F4 -> -16.463 | M4: ='Annual Heights'!L4-'Annual Heights'!F4 -> -28.812 | N4: ='Annual Heights'!M4-'Annual Heights'!F4 -> -34.879
A5: 4 | B5: 540520.94 | C5: 6521241.2 | D5: 6.612912 | E5: 19.969866 | F5: 1091.2 | G5: 0 | H5: ='Annual Heights'!G5-'Annual Heights'!F5 -> -9.596 | I5: ='Annual Heights'!H5-'Annual Heights'!F5 -> -10.246 | J5: ='Annual Heights'!I5-'Annual Heights'!F5 -> -6.237 | K5: ='Annual Heights'!J5-'Annual Heights'!F5 -> -9.672 | L5: ='Annual Heights'!K5-'Annual Heights'!F5 -> -16.659 | M5: ='Annual Heights'!L5-'Annual Heights'!F5 -> -28.287 | N5: ='Annual Heights'!M5-'Annual Heights'!F5 -> -36.023
A6: 5 | B6: 540514.51 | C6: 6521241.1 | D6: 6.4326345 | E6: 26.402501 | F6: 1092.668 | G6: 0 | H6: ='Annual Heights'!G6-'Annual Heights'!F6 -> -10.16 | I6: ='Annual Heights'!H6-'Annual Heights'!F6 -> -10.552 | J6: ='Annual Heights'!I6-'Annual Heights'!F6 -> -7.402 | K6: ='Annual Heights'!J6-'Annual Heights'!F6 -> -9.919 | L6: ='Annual Heights'!K6-'Annual Heights'!F6 -> -16.94 | M6: ='Annual Heights'!L6-'Annual Heights'!F6 -> -28.128 | N6: ='Annual Heights'!M6-'Annual Heights'!F6 -> -37.776
A7: 6 | B7: 540507.98 | C7: 6521241.2 | D7: 6.5272947 | E7: 32.929796 | F7: 1094.185 | G7: 0 | H7: ='Annual Heights'!G7-'Annual Heights'!F7 -> -11.021 | I7: ='Annual Heights'!H7-'Annual Heights'!F7 -> -10.58 | J7: ='Annual Heights'!I7-'Annual Heights'!F7 -> -9.423 | K7: ='Annual Heights'!J7-'Annual Heights'!F7 -> -11.247 | L7: ='Annual Heights'!K7-'Annual Heights'!F7 -> -16.749 | M7: ='Annual Heights'!L7-'Annual Heights'!F7 -> -28.789 | N7: ='Annual Heights'!M7-'Annual Heights'!F7 -> -40.253
A8: 7 | B8: 540500.85 | C8: 6521241.2 | D8: 7.1310371 | E8: 40.060833 | F8: 1095.297 | G8: 0 | H8: ='Annual Heights'!G8-'Annual Heights'!F8 -> -10.426 | I8: ='Annual Heights'!H8-'Annual Heights'!F8 -> -10.301 | J8: ='Annual Heights'!I8-'Annual Heights'!F8 -> -11.265 | K8: ='Annual Heights'!J8-'Annual Heights'!F8 -> -13.146 | L8: ='Annual Heights'!K8-'Annual Heights'!F8 -> -17.688 | M8: ='Annual Heights'!L8-'Annual Heights'!F8 -> -29.081 | N8: ='Annual Heights'!M8-'Annual Heights'!F8 -> -42.002
A9: 8 | B9: 540492.94 | C9: 6521241.5 | D9: 7.9219582 | E9: 47.982791 | F9: 1095.93 | G9: 0 | I9: ='Annual Heights'!H9-'Annual Heights'!F9 -> -10.801 | J9: ='Annual Heights'!I9-'Annual Heights'!F9 -> -12.947 | K9: ='Annual Heights'!J9-'Annual Heights'!F9 -> -14.729 | L9: ='Annual Heights'!K9-'Annual Heights'!F9 -> -18.423 | M9: ='Annual Heights'!L9-'Annual Heights'!F9 -> -28.93 | N9: ='Annual Heights'!M9-'Annual Heights'!F9 -> -44.252
A10: 9 | B10: 540484.94 | C10: 6521241.8 | D10: 7.997877 | E10: 55.980668 | F10: 1096.412 | G10: 0 | H10: ='Annual Heights'!G10-'Annual Heights'!F10 -> -8.404 | I10: ='Annual Heights'!H10-'Annual Heights'!F10 -> -10.79 | J10: ='Annual Heights'!I10-'Annual Heights'!F10 -> -14.507 | K10: ='Annual Heights'!J10-'Annual Heights'!F10 -> -16.284 | L10: ='Annual Heights'!K10-'Annual Heights'!F10 -> -18.592 | M10: ='Annual Heights'!L10-'Annual Heights'!F10 -> -29.062 | N10: ='Annual Heights'!M10-'Annual Heights'!F10 -> -46.45
A11: 10 | B11: 540478.85 | C11: 6521242.4 | D11: 6.1303544 | E11: 62.111022 | F11: 1095.357 | G11: 0 | H11: ='Annual Heights'!G11-'Annual Heights'!F11 -> -6.961 | I11: ='Annual Heights'!H11-'Annual Heights'!F11 -> -9.868 | J11: ='Annual Heights'!I11-'Annual Heights'!F11 -> -14.216 | K11: ='Annual Heights'!J11-'Annual Heights'!F11 -> -16.004 | L11: ='Annual Heights'!K11-'Annual Heights'!F11 -> -17.729 | M11: ='Annual Heights'!L11-'Annual Heights'!F11 -> -28.223 | N11: ='Annual Heights'!M11-'Annual Heights'!F11 -> -47.348
A12: 11 | B12: 540471.58 | C12: 6521242.5 | D12: 7.2663296 | E12: 69.377352 | F12: 1094.624 | G12: 0 | H12: ='Annual Heights'!G12-'Annual Heights'!F12 -> -6.457 | I12: ='Annual Heights'!H12-'Annual Heights'!F12 -> -9.571 | J12: ='Annual Heights'!I12-'Annual Heights'!F12 -> -14.609 | K12: ='Annual Heights'!J12-'Annual Heights'!F12 -> -16.505 | L12: ='Annual Heights'!K12-'Annual Heights'!F12 -> -17.649 | M12: ='Annual Heights'!L12-'Annual Heights'!F12 -> -27.789 | N12: ='Annual Heights'!M12-'Annual Heights'!F12 -> -48.874
A13: 12 | B13: 540464.58 | C13: 6521242.7 | D13: 7.0013602 | E13: 76.378712 | F13: 1093.714 | G13: 0 | H13: ='Annual Heights'!G13-'Annual Heights'!F13 -> -6.137 | I13: ='Annual Heights'!H13-'Annual Heights'!F13 -> -9.436 | J13: ='Annual Heights'!I13-'Annual Heights'!F13 -> -15.005 | K13: ='Annual Heights'!J13-'Annual Heights'!F13 -> -17.189 | L13: ='Annual Heights'!K13-'Annual Heights'!F13 -> -17.322 | M13: ='Annual Heights'!L13-'Annual Heights'!F13 -> -27.173 | N13: ='Annual Heights'!M13-'Annual Heights'!F13 -> -50.074
A14: 13 | B14: 540457.96 | C14: 6521241.8 | D14: 6.6774453 | E14: 83.056157 | F14: 1092.716 | G14: 0 | H14: ='Annual Heights'!G14-'Annual Heights'!F14 -> -5.596 | I14: ='Annual Heights'!H14-'Annual Heights'!F14 -> -8.997 | J14: ='Annual Heights'!I14-'Annual Heights'!F14 -> -14.926 | K14: ='Annual Heights'!J14-'Annual Heights'!F14 -> -17.53 | L14: ='Annual Heights'!K14-'Annual Heights'!F14 -> -17.449 | M14: ='Annual Heights'!L14-'Annual Heights'!F14 -> -26.579 | N14: ='Annual Heights'!M14-'Annual Heights'!F14 -> -51.025
A15: 14 | B15: 540451.4 | C15: 6521241.1 | D15: 6.5941993 | E15: 89.650357 | F15: 1091.765 | G15: 0 | H15: ='Annual Heights'!G15-'Annual Heights'!F15 -> -5.212 | I15: ='Annual Heights'!H15-'Annual Heights'!F15 -> -9.09 | J15: ='Annual Heights'!I15-'Annual Heights'!F15 -> -15.773 | K15: ='Annual Heights'!J15-'Annual Heights'!F15 -> -18.258 | L15: ='Annual Heights'!K15-'Annual Heights'!F15 -> -18.079 | M15: ='Annual Heights'!L15-'Annual Heights'!F15 -> -26.238 | N15: ='Annual Heights'!M15-'Annual Heights'!F15 -> -51.436
A16: 15 | B16: 540444.12 | C16: 6521240.5 | D16: 7.3022025 | E16: 96.952559 | F16: 1090.487 | G16: 0 | H16: ='Annual Heights'!G16-'Annual Heights'!F16 -> -4.914 | I16: ='Annual Heights'!H16-'Annual Heights'!F16 -> -9.462 | J16: ='Annual Heights'!I16-'Annual Heights'!F16 -> -16.247 | K16: ='Annual Heights'!J16-'Annual Heights'!F16 -> -19.443 | L16: ='Annual Heights'!K16-'Annual Heights'!F16 -> -19.073 | M16: ='Annual Heights'!L16-'Annual Heights'!F16 -> -25.859 | N16: ='Annual Heights'!M16-'Annual Heights'!F16 -> -51.328
A17: 16 | B17: 540436.5 | C17: 6521240.2 | D17: 7.6264052 | E17: 104.57896 | F17: 1088.952 | G17: 0 | H17: ='Annual Heights'!G17-'Annual Heights'!F17 -> -4.121 | I17: ='Annual Heights'!H17-'Annual Heights'!F17 -> -9.715 | J17: ='Annual Heights'!I17-'Annual Heights'!F17 -> -17.108 | K17: ='Annual Heights'!J17-'Annual Heights'!F17 -> -20.348 | L17: ='Annual Heights'!K17-'Annual Heights'!F17 -> -19.71 | M17: ='Annual Heights'!L17-'Annual Heights'!F17 -> -25.299 | N17: ='Annual Heights'!M17-'Annual Heights'!F17 -> -48.457
A18: 17 | B18: 540428.83 | C18: 6521239.9 | D18: 7.6807823 | E18: 112.25975 | F18: 1087.48 | G18: 0 | H18: ='Annual Heights'!G18-'Annual Heights'!F18 -> -4.285 | I18: ='Annual Heights'!H18-'Annual Heights'!F18 -> -10.631 | J18: ='Annual Heights'!I18-'Annual Heights'!F18 -> -17.463 | L18: ='Annual Heights'!K18-'Annual Heights'!F18 -> -20.784 | M18: ='Annual Heights'!L18-'Annual Heights'!F18 -> -25.287 | N18: ='Annual Heights'!M18-'Annual Heights'!F18 -> -45.825
A19: 18 | B19: 540421.62 | C19: 6521240 | D19: 7.2073596 | E19: 119.46711 | F19: 1085.727 | G19: 0 | H19: ='Annual Heights'!G19-'Annual Heights'!F19 -> -4.634 | I19: ='Annual Heights'!H19-'Annual Heights'!F19 -> -11.39 | J19: ='Annual Heights'!I19-'Annual Heights'!F19 -> -17.137 | L19: ='Annual Heights'!K19-'Annual Heights'!F19 -> -21.283 | M19: ='Annual Heights'!L19-'Annual Heights'!F19 -> -25.655 | N19: ='Annual Heights'!M19-'Annual Heights'!F19 -> -43.539
A20: 19 | B20: 540414.1 | C20: 6521240 | D20: 7.5180293 | E20: 126.98514 | F20: 1083.53 | G20: 0 | H20: ='Annual Heights'!G20-'Annual Heights'!F20 -> -4.137 | I20: ='Annual Heights'!H20-'Annual Heights'!F20 -> -11.886 | J20: ='Annual Heights'!I20-'Annual Heights'!F20 -> -15.712 | K20: ='Annual Heights'!J20-'Annual Heights'!F20 -> -17.166 | L20: ='Annual Heights'!K20-'Annual Heights'!F20 -> -20.348 | M20: ='Annual Heights'!L20-'Annual Heights'!F20 -> -25.208 | N20: ='Annual Heights'!M20-'Annual Heights'!F20 -> -40.991
A21: 20 | B21: 540405.83 | C21: 6521239.7 | D21: 8.2843545 | E21: 135.26949 | F21: 1081.19 | G21: 0 | H21: ='Annual Heights'!G21-'Annual Heights'!F21 -> -4.36 | J21: ='Annual Heights'!I21-'Annual Heights'!F21 -> -14.153 | K21: ='Annual Heights'!J21-'Annual Heights'!F21 -> -11.956 | L21: ='Annual Heights'!K21-'Annual Heights'!F21 -> -16.308 | M21: ='Annual Heights'!L21-'Annual Heights'!F21 -> -24.709 | N21: ='Annual Heights'!M21-'Annual Heights'!F21 -> -38.694
A22: 21 | B22: 540399.26 | C22: 6521240.1 | D22: 6.5799818 | E22: 141.84947 | F22: 1079.669 | G22: 0 | H22: ='Annual Heights'!G22-'Annual Heights'!F22 -> -4.794 | J22: ='Annual Heights'!I22-'Annual Heights'!F22 -> -12.175 | K22: ='Annual Heights'!J22-'Annual Heights'!F22 -> -9.251 | L22: ='Annual Heights'!K22-'Annual Heights'!F22 -> -13.342 | M22: ='Annual Heights'!L22-'Annual Heights'!F22 -> -24.49 | N22: ='Annual Heights'!M22-'Annual Heights'!F22 -> -37.219
A23: 22 | B23: 540393.44 | C23: 6521239.1 | D23: 5.9049221 | E23: 147.75439 | F23: 1081.198 | G23: 0 | H23: ='Annual Heights'!G23-'Annual Heights'!F23 -> -10.581 | J23: ='Annual Heights'!I23-'Annual Heights'!F23 -> -12.718 | K23: ='Annual Heights'!J23-'Annual Heights'!F23 -> -9.454 | L23: ='Annual Heights'!K23-'Annual Heights'!F23 -> -13.241 | M23: ='Annual Heights'!L23-'Annual Heights'!F23 -> -26.997 | N23: ='Annual Heights'!M23-'Annual Heights'!F23 -> -38.297
A24: 23 | B24: 540386.56 | C24: 6521238.7 | D24: 6.887672 | E24: 154.64207 | F24: 1082.786 | G24: 0 | H24: ='Annual Heights'!G24-'Annual Heights'!F24 -> -14.828 | J24: ='Annual Heights'!I24-'Annual Heights'!F24 -> -13.468 | K24: ='Annual Heights'!J24-'Annual Heights'!F24 -> -10.791 | L24: ='Annual Heights'!K24-'Annual Heights'!F24 -> -13.373 | M24: ='Annual Heights'!L24-'Annual Heights'!F24 -> -29.089 | N24: ='Annual Heights'!M24-'Annual Heights'!F24 -> -39.559
A25: 24 | B25: 540378.72 | C25: 6521238.8 | D25: 7.8361235 | E25: 162.47819 | F25: 1084.185 | G25: 0 | H25: ='Annual Heights'!G25-'Annual Heights'!F25 -> -14.163 | J25: ='Annual Heights'!I25-'Annual Heights'!F25 -> -13.229 | K25: ='Annual Heights'!J25-'Annual Heights'!F25 -> -12.082 | L25: ='Annual Heights'!K25-'Annual Heights'!F25 -> -14.277 | M25: ='Annual Heights'!L25-'Annual Heights'!F25 -> -28.94 | N25: ='Annual Heights'!M25-'Annual Heights'!F25 -> -41.224
A26: 25 | B26: 540370.92 | C26: 6521238.6 | D26: 7.8008964 | E26: 170.27909 | F26: 1085.343 | G26: 0 | H26: ='Annual Heights'!G26-'Annual Heights'!F26 -> -12.435 | J26: ='Annual Heights'!I26-'Annual Heights'!F26 -> -12.83 | K26: ='Annual Heights'!J26-'Annual Heights'!F26 -> -13.3 | L26: ='Annual Heights'!K26-'Annual Heights'!F26 -> -15.68 | M26: ='Annual Heights'!L26-'Annual Heights'!F26 -> -28.648 | N26: ='Annual Heights'!M26-'Annual Heights'!F26 -> -43.439
A27: 26 | B27: 540362.9 | C27: 6521237.6 | D27: 8.0882706 | E27: 178.36736 | F27: 1085.826 | G27: 0 | H27: ='Annual Heights'!G27-'Annual Heights'!F27 -> -10.436 | I27: ='Annual Heights'!H27-'Annual Heights'!F27 -> -13.207 | J27: ='Annual Heights'!I27-'Annual Heights'!F27 -> -12.259 | K27: ='Annual Heights'!J27-'Annual Heights'!F27 -> -14.674 | L27: ='Annual Heights'!K27-'Annual Heights'!F27 -> -16.639 | M27: ='Annual Heights'!L27-'Annual Heights'!F27 -> -28.066 | N27: ='Annual Heights'!M27-'Annual Heights'!F27 -> -44.364
A28: 27 | B28: 540354.76 | C28: 6521236.2 | D28: 8.2541548 | E28: 186.62151 | F28: 1086.277 | G28: 0 | H28: ='Annual Heights'!G28-'Annual Heights'!F28 -> -9.743 | I28: ='Annual Heights'!H28-'Annual Heights'!F28 -> -11.948 | J28: ='Annual Heights'!I28-'Annual Heights'!F28 -> -12.462 | K28: ='Annual Heights'!J28-'Annual Heights'!F28 -> -16.021 | L28: ='Annual Heights'!K28-'Annual Heights'!F28 -> -17.933 | M28: ='Annual Heights'!L28-'Annual Heights'!F28 -> -28.042 | N28: ='Annual Heights'!M28-'Annual Heights'!F28 -> -46.179
A29: 28 | B29: 540346.95 | C29: 6521235.1 | D29: 7.8771981 | E29: 194.49871 | F29: 1086.137 | G29: 0 | H29: ='Annual Heights'!G29-'Annual Heights'!F29 -> -8.919 | I29: ='Annual Heights'!H29-'Annual Heights'!F29 -> -10.988 | J29: ='Annual Heights'!I29-'Annual Heights'!F29 -> -12.551 | K29: ='Annual Heights'!J29-'Annual Heights'!F29 -> -16.794 | L29: ='Annual Heights'!K29-'Annual Heights'!F29 -> -18.428 | M29: ='Annual Heights'!L29-'Annual Heights'!F29 -> -27.907 | N29: ='Annual Heights'!M29-'Annual Heights'!F29 -> -47.348
A30: 29 | B30: 540339.74 | C30: 6521233.4 | D30: 7.4212216 | E30: 201.91993 | F30: 1085.753 | G30: 0 | H30: ='Annual Heights'!G30-'Annual Heights'!F30 -> -8.381 | I30: ='Annual Heights'!H30-'Annual Heights'!F30 -> -10.498 | J30: ='Annual Heights'!I30-'Annual Heights'!F30 -> -12.671 | K30: ='Annual Heights'!J30-'Annual Heights'!F30 -> -17.723 | L30: ='Annual Heights'!K30-'Annual Heights'!F30 -> -19.063 | M30: ='Annual Heights'!L30-'Annual Heights'!F30 -> -28.01 | N30: ='Annual Heights'!M30-'Annual Heights'!F30 -> -48.528
A31: 30 | B31: 540331.44 | C31: 6521232.1 | D31: 8.4030158 | E31: 210.32295 | F31: 1084.924 | G31: 0 | H31: ='Annual Heights'!G31-'Annual Heights'!F31 -> -7.392 | I31: ='Annual Heights'!H31-'Annual Heights'!F31 -> -9.973 | J31: ='Annual Heights'!I31-'Annual Heights'!F31 -> -12.83 | K31: ='Annual Heights'!J31-'Annual Heights'!F31 -> -18.209 | L31: ='Annual Heights'!K31-'Annual Heights'!F31 -> -19.872 | M31: ='Annual Heights'!L31-'Annual Heights'!F31 -> -28.329 | N31: ='Annual Heights'!M31-'Annual Heights'!F31 -> -50.003
A32: 31 | B32: 540323.51 | C32: 6521231.2 | D32: 7.987322 | E32: 218.31027 | F32: 1083.894 | G32: 0 | H32: ='Annual Heights'!G32-'Annual Heights'!F32 -> -7.576 | I32: ='Annual Heights'!H32-'Annual Heights'!F32 -> -9.758 | J32: ='Annual Heights'!I32-'Annual Heights'!F32 -> -13.209 | K32: ='Annual Heights'!J32-'Annual Heights'!F32 -> -19.117 | L32: ='Annual Heights'!K32-'Annual Heights'!F32 -> -20.559 | M32: ='Annual Heights'!L32-'Annual Heights'!F32 -> -28.437 | N32: ='Annual Heights'!M32-'Annual Heights'!F32 -> -50.553
A33: 32 | B33: 540314.72 | C33: 6521229.7 | D33: 8.9168997 | E33: 227.22717 | F33: 1081.954 | G33: 0 | H33: ='Annual Heights'!G33-'Annual Heights'!F33 -> -6.045 | I33: ='Annual Heights'!H33-'Annual Heights'!F33 -> -8.684 | J33: ='Annual Heights'!I33-'Annual Heights'!F33 -> -13.176 | K33: ='Annual Heights'!J33-'Annual Heights'!F33 -> -19.072 | L33: ='Annual Heights'!K33-'Annual Heights'!F33 -> -21.078 | M33: ='Annual Heights'!L33-'Annual Heights'!F33 -> -28.301 | N33: ='Annual Heights'!M33-'Annual Heights'!F33 -> -49.848
A34: 33 | B34: 540307.52 | C34: 6521228.1 | D34: 7.3615402 | E34: 234.58871 | F34: 1080.184 | G34: 0 | H34: ='Annual Heights'!G34-'Annual Heights'!F34 -> -5.266 | I34: ='Annual Heights'!H34-'Annual Heights'!F34 -> -8.064 | J34: ='Annual Heights'!I34-'Annual Heights'!F34 -> -13.476 | K34: ='Annual Heights'!J34-'Annual Heights'!F34 -> -18.602 | L34: ='Annual Heights'!K34-'Annual Heights'!F34 -> -21.127 | M34: ='Annual Heights'!L34-'Annual Heights'!F34 -> -28.423 | N34: ='Annual Heights'!M34-'Annual Heights'!F34 -> -48.863
A35: 34 | B35: 540301.04 | C35: 6521227.1 | D35: 6.5602537 | E35: 241.14896 | F35: 1078.427 | G35: 0 | H35: ='Annual Heights'!G35-'Annual Heights'!F35 -> -4.818 | I35: ='Annual Heights'!H35-'Annual Heights'!F35 -> -7.385 | J35: ='Annual Heights'!I35-'Annual Heights'!F35 -> -13.885 | K35: ='Annual Heights'!J35-'Annual Heights'!F35 -> -18.788 | L35: ='Annual Heights'!K35-'Annual Heights'!F35 -> -22.138 | M35: ='Annual Heights'!L35-'Annual Heights'!F35 -> -28.617 | N35: ='Annual Heights'!M35-'Annual Heights'!F35 -> -46.578
A36: 35 | B36: 540297.4 | C36: 6521226.5 | D36: 3.6899889 | E36: 244.83895 | F36: 1077.271 | G36: 0 | H36: ='Annual Heights'!G36-'Annual Heights'!F36 -> -3.864 | I36: ='Annual Heights'!H36-'Annual Heights'!F36 -> -7.045 | J36: ='Annual Heights'!I36-'Annual Heights'!F36 -> -13.805 | M36: ='Annual Heights'!L36-'Annual Heights'!F36 -> -29.097 | N36: ='Annual Heights'!M36-'Annual Heights'!F36 -> -44.965
A37: 36 | B37: 540278.82 | C37: 6521224.1 | D37: 18.731457 | E37: 263.57041 | F37: 1064.992 | G37: 0 | H37: ='Annual Heights'!G37-'Annual Heights'!F37 -> 3.493 | I37: ='Annual Heights'!H37-'Annual Heights'!F37 -> 1.305 | J37: ='Annual Heights'!I37-'Annual Heights'!F37 -> -6.345 | K37: ='Annual Heights'!J37-'Annual Heights'!F37 -> -8.074 | L37: ='Annual Heights'!K37-'Annual Heights'!F37 -> -5.427 | N37: ='Annual Heights'!M37-'Annual Heights'!F37 -> -29.811
A38: 37 | B38: 540268.9 | C38: 6521221.1 | D38: 10.36353 | E38: 273.93394 | F38: 1072.118 | G38: 0 | H38: ='Annual Heights'!G38-'Annual Heights'!F38 -> -8.618 | I38: ='Annual Heights'!H38-'Annual Heights'!F38 -> -9.206 | K38: ='Annual Heights'!J38-'Annual Heights'!F38 -> -14.249 | L38: ='Annual Heights'!K38-'Annual Heights'!F38 -> -10.742 | N38: ='Annual Heights'!M38-'Annual Heights'!F38 -> -35.566
A39: 38 | B39: 540264.28 | C39: 6521219.3 | D39: 4.9502538 | E39: 278.88419 | F39: 1073.727 | G39: 0 | H39: ='Annual Heights'!G39-'Annual Heights'!F39 -> -10.654 | I39: ='Annual Heights'!H39-'Annual Heights'!F39 -> -12.513 | K39: ='Annual Heights'!J39-'Annual Heights'!F39 -> -15.32 | L39: ='Annual Heights'!K39-'Annual Heights'!F39 -> -11.786 | M39: ='Annual Heights'!L39-'Annual Heights'!F39 -> -29.159 | N39: ='Annual Heights'!M39-'Annual Heights'!F39 -> -36.773
A40: 39 | B40: 540258.63 | C40: 6521217.4 | D40: 5.9660335 | E40: 284.85023 | F40: 1075.355 | G40: 0 | H40: ='Annual Heights'!G40-'Annual Heights'!F40 -> -12.392 | I40: ='Annual Heights'!H40-'Annual Heights'!F40 -> -16.613 | J40: ='Annual Heights'!I40-'Annual Heights'!F40 -> -16.926 | K40: ='Annual Heights'!J40-'Annual Heights'!F40 -> -15.311 | L40: ='Annual Heights'!K40-'Annual Heights'!F40 -> -12.826 | M40: ='Annual Heights'!L40-'Annual Heights'!F40 -> -29.855 | N40: ='Annual Heights'!M40-'Annual Heights'!F40 -> -38.391
A41: 40 | B41: 540252.87 | C41: 6521215.6 | D41: 6.0374462 | E41: 290.88767 | F41: 1076.453 | G41: 0 | H41: ='Annual Heights'!G41-'Annual Heights'!F41 -> -11.694 | I41: ='Annual Heights'!H41-'Annual Heights'!F41 -> -18.41 | J41: ='Annual Heights'!I41-'Annual Heights'!F41 -> -15.498 | K41: ='Annual Heights'!J41-'Annual Heights'!F41 -> -15.632 | L41: ='Annual Heights'!K41-'Annual Heights'!F41 -> -13.104 | M41: ='Annual Heights'!L41-'Annual Heights'!F41 -> -29.972 | N41: ='Annual Heights'!M41-'Annual Heights'!F41 -> -39.955
A42: 41 | B42: 540245.95 | C42: 6521213.1 | D42: 7.3693661 | E42: 298.25704 | F42: 1077.418 | G42: 0 | H42: ='Annual Heights'!G42-'Annual Heights'!F42 -> -11.042 | I42: ='Annual Heights'!H42-'Annual Heights'!F42 -> -15.856 | J42: ='Annual Heights'!I42-'Annual Heights'!F42 -> -16.03 | K42: ='Annual Heights'!J42-'Annual Heights'!F42 -> -16.052 | L42: ='Annual Heights'!K42-'Annual Heights'!F42 -> -14.196 | M42: ='Annual Heights'!L42-'Annual Heights'!F42 -> -28.874 | N42: ='Annual Heights'!M42-'Annual Heights'!F42 -> -41.428
A43: 42 | B43: 540238.14 | C43: 6521210.6 | D43: 8.20064 | E43: 306.45768 | F43: 1078.416 | G43: 0 | H43: ='Annual Heights'!G43-'Annual Heights'!F43 -> -10.309 | I43: ='Annual Heights'!H43-'Annual Heights'!F43 -> -14.922 | J43: ='Annual Heights'!I43-'Annual Heights'!F43 -> -14.894 | K43: ='Annual Heights'!J43-'Annual Heights'!F43 -> -16.408 | L43: ='Annual Heights'!K43-'Annual Heights'!F43 -> -15.956 | M43: ='Annual Heights'!L43-'Annual Heights'!F43 -> -28.371 | N43: ='Annual Heights'!M43-'Annual Heights'!F43 -> -42.984
A44: 43 | B44: 540230.52 | C44: 6521207.5 | D44: 8.1914856 | E44: 314.64916 | F44: 1079.077 | G44: 0 | H44: ='Annual Heights'!G44-'Annual Heights'!F44 -> -10.066 | I44: ='Annual Heights'!H44-'Annual Heights'!F44 -> -14.947 | J44: ='Annual Heights'!I44-'Annual Heights'!F44 -> -14.178 | K44: ='Annual Heights'!J44-'Annual Heights'!F44 -> -17.342 | L44: ='Annual Heights'!K44-'Annual Heights'!F44 -> -16.704 | M44: ='Annual Heights'!L44-'Annual Heights'!F44 -> -28.02 | N44: ='Annual Heights'!M44-'Annual Heights'!F44 -> -44.499
A45: 44 | B45: 540222.74 | C45: 6521204.1 | D45: 8.4982201 | E45: 323.14738 | F45: 1078.855 | G45: 0 | H45: ='Annual Heights'!G45-'Annual Heights'!F45 -> -8.769 | I45: ='Annual Heights'!H45-'Annual Heights'!F45 -> -13.583 | J45: ='Annual Heights'!I45-'Annual Heights'!F45 -> -13.507 | K45: ='Annual Heights'!J45-'Annual Heights'!F45 -> -18.033 | L45: ='Annual Heights'!K45-'Annual Heights'!F45 -> -17.154 | M45: ='Annual Heights'!L45-'Annual Heights'!F45 -> -27.21 | N45: ='Annual Heights'!M45-'Annual Heights'!F45 -> -45.681
A46: 45 | B46: 540215.13 | C46: 6521201.2 | D46: 8.1552504 | E46: 331.30263 | F46: 1078.702 | G46: 0 | H46: ='Annual Heights'!G46-'Annual Heights'!F46 -> -7.526 | I46: ='Annual Heights'!H46-'Annual Heights'!F46 -> -12.847 | J46: ='Annual Heights'!I46-'Annual Heights'!F46 -> -12.951 | K46: ='Annual Heights'!J46-'Annual Heights'!F46 -> -16.224 | L46: ='Annual Heights'!K46-'Annual Heights'!F46 -> -18.097 | M46: ='Annual Heights'!L46-'Annual Heights'!F46 -> -27.258 | N46: ='Annual Heights'!M46-'Annual Heights'!F46 -> -47.22
A47: 46 | B47: 540207.78 | C47: 6521200.2 | D47: 7.4194277 | E47: 338.72206 | F47: 1077.694 | G47: 0 | H47: ='Annual Heights'!G47-'Annual Heights'!F47 -> -6.525 | I47: ='Annual Heights'!H47-'Annual Heights'!F47 -> -11.47 | J47: ='Annual Heights'!I47-'Annual Heights'!F47 -> -12.355 | K47: ='Annual Heights'!J47-'Annual Heights'!F47 -> -15.317 | L47: ='Annual Heights'!K47-'Annual Heights'!F47 -> -18.199 | M47: ='Annual Heights'!L47-'Annual Heights'!F47 -> -26.976 | N47: ='Annual Heights'!M47-'Annual Heights'!F47 -> -47.741
A48: 47 | B48: 540199.97 | C48: 6521199.4 | D48: 7.852144 | E48: 346.57421 | F48: 1076.533 | G48: 0 | H48: ='Annual Heights'!G48-'Annual Heights'!F48 -> -5.396 | I48: ='Annual Heights'!H48-'Annual Heights'!F48 -> -10.558 | J48: ='Annual Heights'!I48-'Annual Heights'!F48 -> -11.544 | K48: ='Annual Heights'!J48-'Annual Heights'!F48 -> -14.927 | L48: ='Annual Heights'!K48-'Annual Heights'!F48 -> -18.555 | M48: ='Annual Heights'!L48-'Annual Heights'!F48 -> -26.959 | N48: ='Annual Heights'!M48-'Annual Heights'!F48 -> -48.203
A49: 48 | B49: 540191.85 | C49: 6521198.5 | D49: 8.1687554 | E49: 354.74296 | F49: 1075.027 | G49: 0 | H49: ='Annual Heights'!G49-'Annual Heights'!F49 -> -4.636 | I49: ='Annual Heights'!H49-'Annual Heights'!F49 -> -9.248 | J49: ='Annual Heights'!I49-'Annual Heights'!F49 -> -11.164 | L49: ='Annual Heights'!K49-'Annual Heights'!F49 -> -19.048 | M49: ='Annual Heights'!L49-'Annual Heights'!F49 -> -26.239 | N49: ='Annual Heights'!M49-'Annual Heights'!F49 -> -48.748
A50: 49 | B50: 540184.53 | C50: 6521197.1 | D50: 7.4549078 | E50: 362.19787 | F50: 1073.375 | G50: 0 | H50: ='Annual Heights'!G50-'Annual Heights'!F50 -> -3.087 | I50: ='Annual Heights'!H50-'Annual Heights'!F50 -> -8.502 | J50: ='Annual Heights'!I50-'Annual Heights'!F50 -> -10.783 | L50: ='Annual Heights'!K50-'Annual Heights'!F50 -> -19.439 | M50: ='Annual Heights'!L50-'Annual Heights'!F50 -> -26.134 | N50: ='Annual Heights'!M50-'Annual Heights'!F50 -> -47.434
A51: 50 | B51: 540178.3 | C51: 6521196 | D51: 6.3308894 | E51: 368.52876 | F51: 1071.551 | G51: 0 | H51: ='Annual Heights'!G51-'Annual Heights'!F51 -> -2.501 | I51: ='Annual Heights'!H51-'Annual Heights'!F51 -> -7.273 | J51: ='Annual Heights'!I51-'Annual Heights'!F51 -> -10.087 | L51: ='Annual Heights'!K51-'Annual Heights'!F51 -> -19.232 | M51: ='Annual Heights'!L51-'Annual Heights'!F51 -> -25.318 | N51: ='Annual Heights'!M51-'Annual Heights'!F51 -> -46.629
A52: 51 | B52: 540173.46 | C52: 6521194.1 | D52: 5.1954881 | E52: 373.72425 | F52: 1069.946 | G52: 0 | H52: ='Annual Heights'!G52-'Annual Heights'!F52 -> -1.574 | I52: ='Annual Heights'!H52-'Annual Heights'!F52 -> -6.746 | J52: ='Annual Heights'!I52-'Annual Heights'!F52 -> -9.606 | L52: ='Annual Heights'!K52-'Annual Heights'!F52 -> -19.089 | M52: ='Annual Heights'!L52-'Annual Heights'!F52 -> -24.889 | N52: ='Annual Heights'!M52-'Annual Heights'!F52 -> -45.121
A53: 52 | B53: 540166.16 | C53: 6521192 | D53: 7.6035603 | E53: 381.32781 | F53: 1063.783 | G53: 0 | H53: ='Annual Heights'!G53-'Annual Heights'!F53 -> 4.083 | I53: ='Annual Heights'!H53-'Annual Heights'!F53 -> -1.985 | J53: ='Annual Heights'!I53-'Annual Heights'!F53 -> -4.928 | K53: ='Annual Heights'!J53-'Annual Heights'!F53 -> -9.02 | L53: ='Annual Heights'!K53-'Annual Heights'!F53 -> -14.634 | M53: ='Annual Heights'!L53-'Annual Heights'!F53 -> -20.231 | N53: ='Annual Heights'!M53-'Annual Heights'!F53 -> -37.712
A54: 53 | B54: 540161.12 | C54: 6521189.7 | D54: 5.519361 | E54: 386.84717 | F54: 1060.629 | G54: 0 | H54: ='Annual Heights'!G54-'Annual Heights'!F54 -> 5.465 | I54: ='Annual Heights'!H54-'Annual Heights'!F54 -> 0.391 | J54: ='Annual Heights'!I54-'Annual Heights'!F54 -> -2.961 | K54: ='Annual Heights'!J54-'Annual Heights'!F54 -> -6.694 | L54: ='Annual Heights'!K54-'Annual Heights'!F54 -> -12.121 | M54: ='Annual Heights'!L54-'Annual Heights'!F54 -> -18.001 | N54: ='Annual Heights'!M54-'Annual Heights'!F54 -> -33.903
A55: 54 | B55: 540146.33 | C55: 6521191.1 | D55: 14.852856 | E55: 401.70002 | F55: 1063.986 | G55: 0 | H55: ='Annual Heights'!G55-'Annual Heights'!F55 -> -0.011 | I55: ='Annual Heights'!H55-'Annual Heights'!F55 -> -5.634 | J55: ='Annual Heights'!I55-'Annual Heights'!F55 -> -9.207 | K55: ='Annual Heights'!J55-'Annual Heights'!F55 -> -13.524 | L55: ='Annual Heights'!K55-'Annual Heights'!F55 -> -15.612 | M55: ='Annual Heights'!L55-'Annual Heights'!F55 -> -23.749 | N55: ='Annual Heights'!M55-'Annual Heights'!F55 -> -35.815
A56: 55 | B56: 540140.25 | C56: 6521189.1 | D56: 6.3966805 | E56: 408.0967 | F56: 1065.564 | G56: 0 | H56: ='Annual Heights'!G56-'Annual Heights'!F56 -> -2.156 | I56: ='Annual Heights'!H56-'Annual Heights'!F56 -> -9.143 | J56: ='Annual Heights'!I56-'Annual Heights'!F56 -> -11.86 | K56: ='Annual Heights'!J56-'Annual Heights'!F56 -> -16.081 | L56: ='Annual Heights'!K56-'Annual Heights'!F56 -> -16.542 | M56: ='Annual Heights'!L56-'Annual Heights'!F56 -> -25.68 | N56: ='Annual Heights'!M56-'Annual Heights'!F56 -> -36.772
A57: 56 | B57: 540134.41 | C57: 6521187 | D57: 6.2213137 | E57: 414.31802 | F57: 1066.836 | G57: 0 | H57: ='Annual Heights'!G57-'Annual Heights'!F57 -> -4.153 | I57: ='Annual Heights'!H57-'Annual Heights'!F57 -> -11.154 | J57: ='Annual Heights'!I57-'Annual Heights'!F57 -> -14.128 | K57: ='Annual Heights'!J57-'Annual Heights'!F57 -> -16.575 | L57: ='Annual Heights'!K57-'Annual Heights'!F57 -> -17.232 | M57: ='Annual Heights'!L57-'Annual Heights'!F57 -> -26.18 | N57: ='Annual Heights'!M57-'Annual Heights'!F57 -> -38.24
A58: 57 | B58: 540129.25 | C58: 6521185.2 | D58: 5.4595631 | E58: 419.77758 | F58: 1068.184 | G58: 0 | H58: ='Annual Heights'!G58-'Annual Heights'!F58 -> -6.852 | I58: ='Annual Heights'!H58-'Annual Heights'!F58 -> -13.18 | J58: ='Annual Heights'!I58-'Annual Heights'!F58 -> -18.021 | K58: ='Annual Heights'!J58-'Annual Heights'!F58 -> -16.551 | L58: ='Annual Heights'!K58-'Annual Heights'!F58 -> -17.815 | M58: ='Annual Heights'!L58-'Annual Heights'!F58 -> -27.303 | N58: ='Annual Heights'!M58-'Annual Heights'!F58 -> -39.091
A59: 58 | B59: 540122.6 | C59: 6521182.2 | D59: 7.2747805 | E59: 427.05236 | F59: 1069.435 | G59: 0 | H59: ='Annual Heights'!G59-'Annual Heights'!F59 -> -8.658 | I59: ='Annual Heights'!H59-'Annual Heights'!F59 -> -15.332 | K59: ='Annual Heights'!J59-'Annual Heights'!F59 -> -17.292 | L59: ='Annual Heights'!K59-'Annual Heights'!F59 -> -18.18 | M59: ='Annual Heights'!L59-'Annual Heights'!F59 -> -27.815 | N59: ='Annual Heights'!M59-'Annual Heights'!F59 -> -40.942
A60: 59 | B60: 540114.54 | C60: 6521180.3 | D60: 8.293183 | E60: 435.34554 | F60: 1070.115 | G60: 0 | H60: ='Annual Heights'!G60-'Annual Heights'!F60 -> -9.297 | I60: ='Annual Heights'!H60-'Annual Heights'!F60 -> -15.146 | J60: ='Annual Heights'!I60-'Annual Heights'!F60 -> -17.297 | K60: ='Annual Heights'!J60-'Annual Heights'!F60 -> -16.092 | L60: ='Annual Heights'!K60-'Annual Heights'!F60 -> -16.652 | M60: ='Annual Heights'!L60-'Annual Heights'!F60 -> -27.919 | N60: ='Annual Heights'!M60-'Annual Heights'!F60 -> -42.111
A61: 60 | B61: 540107.12 | C61: 6521177.1 | D61: 8.0526679 | E61: 443.39821 | F61: 1070.853 | G61: 0 | H61: ='Annual Heights'!G61-'Annual Heights'!F61 -> -8.997 | I61: ='Annual Heights'!H61-'Annual Heights'!F61 -> -14.374 | J61: ='Annual Heights'!I61-'Annual Heights'!F61 -> -17.179 | K61: ='Annual Heights'!J61-'Annual Heights'!F61 -> -15.643 | L61: ='Annual Heights'!K61-'Annual Heights'!F61 -> -16.973 | M61: ='Annual Heights'!L61-'Annual Heights'!F61 -> -28.973 | N61: ='Annual Heights'!M61-'Annual Heights'!F61 -> -43.708
A62: 61 | B62: 540099.33 | C62: 6521174.8 | D62: 8.143254 | E62: 451.54147 | F62: 1071.269 | G62: 0 | H62: ='Annual Heights'!G62-'Annual Heights'!F62 -> -8.573 | I62: ='Annual Heights'!H62-'Annual Heights'!F62 -> -12.59 | J62: ='Annual Heights'!I62-'Annual Heights'!F62 -> -16.175 | K62: ='Annual Heights'!J62-'Annual Heights'!F62 -> -15.549 | L62: ='Annual Heights'!K62-'Annual Heights'!F62 -> -17.092 | M62: ='Annual Heights'!L62-'Annual Heights'!F62 -> -28.852 | N62: ='Annual Heights'!M62-'Annual Heights'!F62 -> -45.195
A63: 62 | B63: 540092.15 | C63: 6521172.6 | D63: 7.4831082 | E63: 459.02457 | F63: 1071.147 | G63: 0 | H63: ='Annual Heights'!G63-'Annual Heights'!F63 -> -7.959 | I63: ='Annual Heights'!H63-'Annual Heights'!F63 -> -11.128 | J63: ='Annual Heights'!I63-'Annual Heights'!F63 -> -15.332 | K63: ='Annual Heights'!J63-'Annual Heights'!F63 -> -15.281 | L63: ='Annual Heights'!K63-'Annual Heights'!F63 -> -16.468 | M63: ='Annual Heights'!L63-'Annual Heights'!F63 -> -28.763 | N63: ='Annual Heights'!M63-'Annual Heights'!F63 -> -46.095
A64: 63 | B64: 540084.41 | C64: 6521170 | D64: 8.1653498 | E64: 467.18992 | F64: 1071.048 | G64: 0 | H64: ='Annual Heights'!G64-'Annual Heights'!F64 -> -7.226 | I64: ='Annual Heights'!H64-'Annual Heights'!F64 -> -10.946 | J64: ='Annual Heights'!I64-'Annual Heights'!F64 -> -14.623 | K64: ='Annual Heights'!J64-'Annual Heights'!F64 -> -14.945 | L64: ='Annual Heights'!K64-'Annual Heights'!F64 -> -16.42 | M64: ='Annual Heights'!L64-'Annual Heights'!F64 -> -29.135 | N64: ='Annual Heights'!M64-'Annual Heights'!F64 -> -47.294
A65: 64 | B65: 540077.03 | C65: 6521167 | D65: 7.9623439 | E65: 475.15227 | F65: 1070.812 | G65: 0 | H65: ='Annual Heights'!G65-'Annual Heights'!F65 -> -6.793 | I65: ='Annual Heights'!H65-'Annual Heights'!F65 -> -10.732 | J65: ='Annual Heights'!I65-'Annual Heights'!F65 -> -14.237 | K65: ='Annual Heights'!J65-'Annual Heights'!F65 -> -15.019 | L65: ='Annual Heights'!K65-'Annual Heights'!F65 -> -16.445 | M65: ='Annual Heights'!L65-'Annual Heights'!F65 -> -28.877 | N65: ='Annual Heights'!M65-'Annual Heights'!F65 -> -48.68
A66: 65 | B66: 540070.29 | C66: 6521164.5 | D66: 7.2029525 | E66: 482.35522 | F66: 1070.224 | G66: 0 | H66: ='Annual Heights'!G66-'Annual Heights'!F66 -> -6.488 | I66: ='Annual Heights'!H66-'Annual Heights'!F66 -> -10.176 | J66: ='Annual Heights'!I66-'Annual Heights'!F66 -> -13.682 | K66: ='Annual Heights'!J66-'Annual Heights'!F66 -> -14.734 | L66: ='Annual Heights'!K66-'Annual Heights'!F66 -> -16.51 | M66: ='Annual Heights'!L66-'Annual Heights'!F66 -> -29.051 | N66: ='Annual Heights'!M66-'Annual Heights'!F66 -> -49.576
A67: 66 | B67: 540064.09 | C67: 6521162.3 | D67: 6.5853998 | E67: 488.94062 | F67: 1069.398 | G67: 0 | H67: ='Annual Heights'!G67-'Annual Heights'!F67 -> -6.287 | I67: ='Annual Heights'!H67-'Annual Heights'!F67 -> -9.581 | J67: ='Annual Heights'!I67-'Annual Heights'!F67 -> -13.493 | K67: ='Annual Heights'!J67-'Annual Heights'!F67 -> -14.618 | L67: ='Annual Heights'!K67-'Annual Heights'!F67 -> -16.221 | M67: ='Annual Heights'!L67-'Annual Heights'!F67 -> -28.703 | N67: ='Annual Heights'!M67-'Annual Heights'!F67 -> -50.011
A68: 67 | B68: 540056.14 | C68: 6521159.9 | D68: 8.2992156 | E68: 497.23984 | F68: 1068.318 | G68: 0 | H68: ='Annual Heights'!G68-'Annual Heights'!F68 -> -4.817 | I68: ='Annual Heights'!H68-'Annual Heights'!F68 -> -8.9 | J68: ='Annual Heights'!I68-'Annual Heights'!F68 -> -13.2 | K68: ='Annual Heights'!J68-'Annual Heights'!F68 -> -14.603 | L68: ='Annual Heights'!K68-'Annual Heights'!F68 -> -16.967 | M68: ='Annual Heights'!L68-'Annual Heights'!F68 -> -28.614 | N68: ='Annual Heights'!M68-'Annual Heights'!F68 -> -50.395
A69: 68 | B69: 540049.03 | C69: 6521157.7 | D69: 7.4343532 | E69: 504.67419 | F69: 1066.789 | G69: 0 | H69: ='Annual Heights'!G69-'Annual Heights'!F69 -> -4.002 | I69: ='Annual Heights'!H69-'Annual Heights'!F69 -> -8.237 | J69: ='Annual Heights'!I69-'Annual Heights'!F69 -> -12.923 | K69: ='Annual Heights'!J69-'Annual Heights'!F69 -> -14.067 | L69: ='Annual Heights'!K69-'Annual Heights'!F69 -> -16.34 | M69: ='Annual Heights'!L69-'Annual Heights'!F69 -> -28.515 | N69: ='Annual Heights'!M69-'Annual Heights'!F69 -> -50.315
A70: 69 | B70: 540042.06 | C70: 6521155.2 | D70: 7.4144665 | E70: 512.08866 | F70: 1065.509 | G70: 0 | H70: ='Annual Heights'!G70-'Annual Heights'!F70 -> -3.896 | I70: ='Annual Heights'!H70-'Annual Heights'!F70 -> -7.88 | J70: ='Annual Heights'!I70-'Annual Heights'!F70 -> -12.58 | K70: ='Annual Heights'!J70-'Annual Heights'!F70 -> -13.915 | L70: ='Annual Heights'!K70-'Annual Heights'!F70 -> -16.727 | M70: ='Annual Heights'!L70-'Annual Heights'!F70 -> -28.663 | N70: ='Annual Heights'!M70-'Annual Heights'!F70 -> -49.649
A71: 70 | B71: 540035.31 | C71: 6521153 | D71: 7.1157574 | E71: 519.20441 | F71: 1064.087 | G71: 0 | H71: ='Annual Heights'!G71-'Annual Heights'!F71 -> -3.782 | I71: ='Annual Heights'!H71-'Annual Heights'!F71 -> -8.009 | J71: ='Annual Heights'!I71-'Annual Heights'!F71 -> -12.211 | K71: ='Annual Heights'!J71-'Annual Heights'!F71 -> -13.769 | L71: ='Annual Heights'!K71-'Annual Heights'!F71 -> -16.956 | M71: ='Annual Heights'!L71-'Annual Heights'!F71 -> -28.47 | N71: ='Annual Heights'!M71-'Annual Heights'!F71 -> -48.344
... A81: 80 | B81: 539962.99 | C81: 6521129.5 | D81: 8.2211825 | E81: 596.26051 | F81: 1061.932 | G81: 0 | H81: ='Annual Heights'!G81-'Annual Heights'!F81 -> -9.206 | I81: ='Annual Heights'!H81-'Annual Heights'!F81 -> -11.369 | J81: ='Annual Heights'!I81-'Annual Heights'!F81 -> -14.073 | K81: ='Annual Heights'!J81-'Annual Heights'!F81 -> -17.529 | L81: ='Annual Heights'!K81-'Annual Heights'!F81 -> -16.269 | M81: ='Annual Heights'!L81-'Annual Heights'!F81 -> -28.271 | N81: ='Annual Heights'!M81-'Annual Heights'!F81 -> -43.006
A82: 81 | B82: 539956.17 | C82: 6521126.6 | D82: 7.4236719 | E82: 603.68418 | F82: 1062.244 | G82: 0 | H82: ='Annual Heights'!G82-'Annual Heights'!F82 -> -8.072 | I82: ='Annual Heights'!H82-'Annual Heights'!F82 -> -11.017 | J82: ='Annual Heights'!I82-'Annual Heights'!F82 -> -13.591 | K82: ='Annual Heights'!J82-'Annual Heights'!F82 -> -17.256 | L82: ='Annual Heights'!K82-'Annual Heights'!F82 -> -16.417 | M82: ='Annual Heights'!L82-'Annual Heights'!F82 -> -28.578 | N82: ='Annual Heights'!M82-'Annual Heights'!F82 -> -43.582 | O82: ='Annual Heights'!N82-'Annual Heights'!F82 -> -74.126
A83: 82 | B83: 539947.84 | C83: 6521124.9 | D83: 8.5050616 | E83: 612.18924 | F83: 1062.213 | G83: 0 | H83: ='Annual Heights'!G83-'Annual Heights'!F83 -> -7.892 | I83: ='Annual Heights'!H83-'Annual Heights'!F83 -> -10.807 | J83: ='Annual Heights'!I83-'Annual Heights'!F83 -> -13.834 | K83: ='Annual Heights'!J83-'Annual Heights'!F83 -> -17.099 | L83: ='Annual Heights'!K83-'Annual Heights'!F83 -> -16.493 | M83: ='Annual Heights'!L83-'Annual Heights'!F83 -> -29.005 | N83: ='Annual Heights'!M83-'Annual Heights'!F83 -> -44.734 | O83: ='Annual Heights'!N83-'Annual Heights'!F83 -> -74.755
A84: 83 | B84: 539939.57 | C84: 6521123.8 | D84: 8.3404006 | E84: 620.52964 | F84: 1062.003 | G84: 0 | H84: ='Annual Heights'!G84-'Annual Heights'!F84 -> -7.437 | I84: ='Annual Heights'!H84-'Annual Heights'!F84 -> -10.705 | J84: ='Annual Heights'!I84-'Annual Heights'!F84 -> -13.915 | K84: ='Annual Heights'!J84-'Annual Heights'!F84 -> -16.749 | L84: ='Annual Heights'!K84-'Annual Heights'!F84 -> -16.854 | M84: ='Annual Heights'!L84-'Annual Heights'!F84 -> -28.961 | N84: ='Annual Heights'!M84-'Annual Heights'!F84 -> -45.407
A85: 84 | B85: 539931.55 | C85: 6521121.2 | D85: 8.4333064 | E85: 628.96295 | F85: 1061.63 | G85: 0 | H85: ='Annual Heights'!G85-'Annual Heights'!F85 -> -7.506 | I85: ='Annual Heights'!H85-'Annual Heights'!F85 -> -10.861 | J85: ='Annual Heights'!I85-'Annual Heights'!F85 -> -13.955 | K85: ='Annual Heights'!J85-'Annual Heights'!F85 -> -16.92 | L85: ='Annual Heights'!K85-'Annual Heights'!F85 -> -17.167 | M85: ='Annual Heights'!L85-'Annual Heights'!F85 -> -29.277 | N85: ='Annual Heights'!M85-'Annual Heights'!F85 -> -46.244
A86: 85 | B86: 539923.34 | C86: 6521118.3 | D86: 8.7048003 | E86: 637.66775 | F86: 1061.238 | G86: 0 | H86: ='Annual Heights'!G86-'Annual Heights'!F86 -> -7.787 | I86: ='Annual Heights'!H86-'Annual Heights'!F86 -> -10.923 | J86: ='Annual Heights'!I86-'Annual Heights'!F86 -> -14.164 | K86: ='Annual Heights'!J86-'Annual Heights'!F86 -> -16.956 | L86: ='Annual Heights'!K86-'Annual Heights'!F86 -> -17.256 | M86: ='Annual Heights'!L86-'Annual Heights'!F86 -> -30.389 | N86: ='Annual Heights'!M86-'Annual Heights'!F86 -> -47.176
A87: 86 | B87: 539915.98 | C87: 6521115.2 | D87: 7.9734615 | E87: 645.64121 | F87: 1060.48 | G87: 0 | H87: ='Annual Heights'!G87-'Annual Heights'!F87 -> -6.944 | I87: ='Annual Heights'!H87-'Annual Heights'!F87 -> -10.927 | J87: ='Annual Heights'!I87-'Annual Heights'!F87 -> -14.153 | K87: ='Annual Heights'!J87-'Annual Heights'!F87 -> -17.163 | L87: ='Annual Heights'!K87-'Annual Heights'!F87 -> -17.388 | M87: ='Annual Heights'!L87-'Annual Heights'!F87 -> -31.08 | N87: ='Annual Heights'!M87-'Annual Heights'!F87 -> -47.794
A88: 87 | B88: 539908.66 | C88: 6521112.1 | D88: 7.9604734 | E88: 653.60168 | F88: 1059.441 | G88: 0 | H88: ='Annual Heights'!G88-'Annual Heights'!F88 -> -6.395 | I88: ='Annual Heights'!H88-'Annual Heights'!F88 -> -10.405 | J88: ='Annual Heights'!I88-'Annual Heights'!F88 -> -13.641 | K88: ='Annual Heights'!J88-'Annual Heights'!F88 -> -16.936 | L88: ='Annual Heights'!K88-'Annual Heights'!F88 -> -17.422 | M88: ='Annual Heights'!L88-'Annual Heights'!F88 -> -31.276 | N88: ='Annual Heights'!M88-'Annual Heights'!F88 -> -47.85
A89: 88 | B89: 539901.7 | C89: 6521107.9 | D89: 8.1560471 | E89: 661.75773 | F89: 1058.227 | G89: 0 | H89: ='Annual Heights'!G89-'Annual Heights'!F89 -> -6.344 | I89: ='Annual Heights'!H89-'Annual Heights'!F89 -> -9.562 | J89: ='Annual Heights'!I89-'Annual Heights'!F89 -> -13.418 | K89: ='Annual Heights'!J89-'Annual Heights'!F89 -> -16.745 | L89: ='Annual Heights'!K89-'Annual Heights'!F89 -> -17.349 | M89: ='Annual Heights'!L89-'Annual Heights'!F89 -> -31.377 | N89: ='Annual Heights'!M89-'Annual Heights'!F89 -> -47.695
A90: 89 | B90: 539895.71 | C90: 6521104.1 | D90: 7.0622363 | E90: 668.81996 | F90: 1057.001 | G90: 0 | H90: ='Annual Heights'!G90-'Annual Heights'!F90 -> -6.224 | I90: ='Annual Heights'!H90-'Annual Heights'!F90 -> -9.505 | J90: ='Annual Heights'!I90-'Annual Heights'!F90 -> -13.195 | K90: ='Annual Heights'!J90-'Annual Heights'!F90 -> -16.585 | L90: ='Annual Heights'!K90-'Annual Heights'!F90 -> -16.867 | M90: ='Annual Heights'!L90-'Annual Heights'!F90 -> -31.323 | N90: ='Annual Heights'!M90-'Annual Heights'!F90 -> -47.05 | O90: ='Annual Heights'!N90-'Annual Heights'!F90 -> -75.6
A91: 90 | B91: 539889.45 | C91: 6521100.2 | D91: 7.3719811 | E91: 676.19195 | F91: 1055.601 | G91: 0 | H91: ='Annual Heights'!G91-'Annual Heights'!F91 -> -5.484 | I91: ='Annual Heights'!H91-'Annual Heights'!F91 -> -10.026 | J91: ='Annual Heights'!I91-'Annual Heights'!F91 -> -12.761 | K91: ='Annual Heights'!J91-'Annual Heights'!F91 -> -16.202 | L91: ='Annual Heights'!K91-'Annual Heights'!F91 -> -16.835 | M91: ='Annual Heights'!L91-'Annual Heights'!F91 -> -30.954 | N91: ='Annual Heights'!M91-'Annual Heights'!F91 -> -46.19
A92: 91 | B92: 539881.72 | C92: 6521097.4 | D92: 8.2179365 | E92: 684.40988 | F92: 1054.059 | G92: 0 | H92: ='Annual Heights'!G92-'Annual Heights'!F92 -> -5.671 | I92: ='Annual Heights'!H92-'Annual Heights'!F92 -> -9.96 | J92: ='Annual Heights'!I92-'Annual Heights'!F92 -> -12.484 | K92: ='Annual Heights'!J92-'Annual Heights'!F92 -> -16.117 | L92: ='Annual Heights'!K92-'Annual Heights'!F92 -> -16.739 | M92: ='Annual Heights'!L92-'Annual Heights'!F92 -> -30.218 | N92: ='Annual Heights'!M92-'Annual Heights'!F92 -> -45.306
A93: 92 | B93: 539874.85 | C93: 6521097.2 | D93: 6.8668264 | E93: 691.27671 | F93: 1052.85 | G93: 0 | H93: ='Annual Heights'!G93-'Annual Heights'!F93 -> -6.047 | I93: ='Annual Heights'!H93-'Annual Heights'!F93 -> -8.613 | J93: ='Annual Heights'!I93-'Annual Heights'!F93 -> -11.514 | K93: ='Annual Heights'!J93-'Annual Heights'!F93 -> -16.83 | L93: ='Annual Heights'!K93-'Annual Heights'!F93 -> -16.984 | M93: ='Annual Heights'!L93-'Annual Heights'!F93 -> -29.546 | N93: ='Annual Heights'!M93-'Annual Heights'!F93 -> -44.585
A94: 93 | B94: 539867.17 | C94: 6521096.4 | D94: 7.7271673 | E94: 699.00388 | F94: 1051.51 | G94: 0 | H94: ='Annual Heights'!G94-'Annual Heights'!F94 -> -6.62 | I94: ='Annual Heights'!H94-'Annual Heights'!F94 -> -8.184 | J94: ='Annual Heights'!I94-'Annual Heights'!F94 -> -11.622 | L94: ='Annual Heights'!K94-'Annual Heights'!F94 -> -17.584 | M94: ='Annual Heights'!L94-'Annual Heights'!F94 -> -28.901 | N94: ='Annual Heights'!M94-'Annual Heights'!F94 -> -43.384
A95: 94 | B95: 539859.87 | C95: 6521092.9 | D95: 8.1014109 | E95: 707.10529 | F95: 1050.337 | G95: 0 | H95: ='Annual Heights'!G95-'Annual Heights'!F95 -> -7.895 | I95: ='Annual Heights'!H95-'Annual Heights'!F95 -> -9.196 | J95: ='Annual Heights'!I95-'Annual Heights'!F95 -> -11.279 | L95: ='Annual Heights'!K95-'Annual Heights'!F95 -> -17.465 | M95: ='Annual Heights'!L95-'Annual Heights'!F95 -> -28.247 | N95: ='Annual Heights'!M95-'Annual Heights'!F95 -> -41.971
A96: 95 | B96: 539853.36 | C96: 6521089.5 | D96: 7.3558636 | E96: 714.46115 | F96: 1049.527 | G96: 0 | H96: ='Annual Heights'!G96-'Annual Heights'!F96 -> -9.121 | I96: ='Annual Heights'!H96-'Annual Heights'!F96 -> -9.719 | J96: ='Annual Heights'!I96-'Annual Heights'!F96 -> -11.349 | L96: ='Annual Heights'!K96-'Annual Heights'!F96 -> -17.689 | M96: ='Annual Heights'!L96-'Annual Heights'!F96 -> -27.47 | N96: ='Annual Heights'!M96-'Annual Heights'!F96 -> -41.225
A97: 96 | B97: 539847.11 | C97: 6521087.3 | D97: 6.6260315 | E97: 721.08718 | F97: 1049.075 | G97: 0 | H97: ='Annual Heights'!G97-'Annual Heights'!F97 -> -9.3 | I97: ='Annual Heights'!H97-'Annual Heights'!F97 -> -11.209 | J97: ='Annual Heights'!I97-'Annual Heights'!F97 -> -11.751 | L97: ='Annual Heights'!K97-'Annual Heights'!F97 -> -18.193 | M97: ='Annual Heights'!L97-'Annual Heights'!F97 -> -27.071 | N97: ='Annual Heights'!M97-'Annual Heights'!F97 -> -40.977
A98: 97 | B98: 539839.58 | C98: 6521086.4 | D98: 7.5913008 | E98: 728.67848 | F98: 1048.069 | G98: 0 | H98: ='Annual Heights'!G98-'Annual Heights'!F98 -> -7.741 | I98: ='Annual Heights'!H98-'Annual Heights'!F98 -> -9.694 | J98: ='Annual Heights'!I98-'Annual Heights'!F98 -> -11.665 | L98: ='Annual Heights'!K98-'Annual Heights'!F98 -> -18.614 | M98: ='Annual Heights'!L98-'Annual Heights'!F98 -> -26.208 | N98: ='Annual Heights'!M98-'Annual Heights'!F98 -> -40.387
A99: 98 | B99: 539831.26 | C99: 6521085.5 | D99: 8.3553482 | E99: 737.03383 | F99: 1047.02 | G99: 0 | H99: ='Annual Heights'!G99-'Annual Heights'!F99 -> -5.56 | I99: ='Annual Heights'!H99-'Annual Heights'!F99 -> -8.888 | J99: ='Annual Heights'!I99-'Annual Heights'!F99 -> -11.16 | K99: ='Annual Heights'!J99-'Annual Heights'!F99 -> -16.407 | L99: ='Annual Heights'!K99-'Annual Heights'!F99 -> -18.187 | M99: ='Annual Heights'!L99-'Annual Heights'!F99 -> -25.343 | N99: ='Annual Heights'!M99-'Annual Heights'!F99 -> -39.969
A100: 99 | B100: 539823.86 | C100: 6521083.3 | D100: 7.747991 | E100: 744.78182 | F100: 1047.176 | G100: 0 | H100: ='Annual Heights'!G100-'Annual Heights'!F100 -> -4.717 | I100: ='Annual Heights'!H100-'Annual Heights'!F100 -> -10.427 | J100: ='Annual Heights'!I100-'Annual Heights'!F100 -> -12.072 | K100: ='Annual Heights'!J100-'Annual Heights'!F100 -> -16.24 | M100: ='Annual Heights'!L100-'Annual Heights'!F100 -> -25.594 | N100: ='Annual Heights'!M100-'Annual Heights'!F100 -> -40.33
A101: 100 | B101: 539817.6 | C101: 6521078.3 | D101: 8.0117164 | E101: 752.79354 | F101: 1047.711 | G101: 0 | H101: ='Annual Heights'!G101-'Annual Heights'!F101 -> -4.45 | I101: ='Annual Heights'!H101-'Annual Heights'!F101 -> -10.986 | J101: ='Annual Heights'!I101-'Annual Heights'!F101 -> -11.564 | K101: ='Annual Heights'!J101-'Annual Heights'!F101 -> -14.688 | L101: ='Annual Heights'!K101-'Annual Heights'!F101 -> -17.337 | M101: ='Annual Heights'!L101-'Annual Heights'!F101 -> -26.245 | N101: ='Annual Heights'!M101-'Annual Heights'!F101 -> -41.273
A102: 101 | B102: 539810.12 | C102: 6521074.1 | D102: 8.5415054 | E102: 761.33504 | F102: 1048.636 | G102: 0 | H102: ='Annual Heights'!G102-'Annual Heights'!F102 -> -5.011 | I102: ='Annual Heights'!H102-'Annual Heights'!F102 -> -10.181 | J102: ='Annual Heights'!I102-'Annual Heights'!F102 -> -11.936 | K102: ='Annual Heights'!J102-'Annual Heights'!F102 -> -14.866 | L102: ='Annual Heights'!K102-'Annual Heights'!F102 -> -17.142 | M102: ='Annual Heights'!L102-'Annual Heights'!F102 -> -27.129 | N102: ='Annual Heights'!M102-'Annual Heights'!F102 -> -43.001
A103: 102 | B103: 539802.02 | C103: 6521072.1 | D103: 8.3642145 | E103: 769.69926 | F103: 1049.012 | G103: 0 | H103: ='Annual Heights'!G103-'Annual Heights'!F103 -> -5.446 | I103: ='Annual Heights'!H103-'Annual Heights'!F103 -> -9.687 | J103: ='Annual Heights'!I103-'Annual Heights'!F103 -> -12.386 | K103: ='Annual Heights'!J103-'Annual Heights'!F103 -> -15.285 | L103: ='Annual Heights'!K103-'Annual Heights'!F103 -> -17.458 | M103: ='Annual Heights'!L103-'Annual Heights'!F103 -> -27.773 | N103: ='Annual Heights'!M103-'Annual Heights'!F103 -> -44.204
A104: 103 | B104: 539794.02 | C104: 6521068.5 | D104: 8.7512772 | E104: 778.45054 | F104: 1049.32 | G104: 0 | H104: ='Annual Heights'!G104-'Annual Heights'!F104 -> -5.823 | I104: ='Annual Heights'!H104-'Annual Heights'!F104 -> -10.043 | J104: ='Annual Heights'!I104-'Annual Heights'!F104 -> -12.733 | K104: ='Annual Heights'!J104-'Annual Heights'!F104 -> -15.741 | L104: ='Annual Heights'!K104-'Annual Heights'!F104 -> -17.657 | M104: ='Annual Heights'!L104-'Annual Heights'!F104 -> -28.454 | N104: ='Annual Heights'!M104-'Annual Heights'!F104 -> -45.611 | O104: ='Annual Heights'!N104-'Annual Heights'!F104 -> -76.737
A105: 104 | B105: 539784.57 | C105: 6521066.8 | D105: 9.6081986 | E105: 788.05873 | F105: 1049.282 | G105: 0 | H105: ='Annual Heights'!G105-'Annual Heights'!F105 -> -6.259 | I105: ='Annual Heights'!H105-'Annual Heights'!F105 -> -9.826 | J105: ='Annual Heights'!I105-'Annual Heights'!F105 -> -13.248 | L105: ='Annual Heights'!K105-'Annual Heights'!F105 -> -17.973 | M105: ='Annual Heights'!L105-'Annual Heights'!F105 -> -29.549 | N105: ='Annual Heights'!M105-'Annual Heights'!F105 -> -47.062
A106: 105 | B106: 539775.98 | C106: 6521062.3 | D106: 9.6875223 | E106: 797.74626 | F106: 1049.135 | G106: 0 | H106: ='Annual Heights'!G106-'Annual Heights'!F106 -> -7.697 | I106: ='Annual Heights'!H106-'Annual Heights'!F106 -> -10.19 | J106: ='Annual Heights'!I106-'Annual Heights'!F106 -> -13.332 | K106: ='Annual Heights'!J106-'Annual Heights'!F106 -> -17.342 | L106: ='Annual Heights'!K106-'Annual Heights'!F106 -> -18.616 | M106: ='Annual Heights'!L106-'Annual Heights'!F106 -> -29.889 | N106: ='Annual Heights'!M106-'Annual Heights'!F106 -> -48.985
A107: 106 | B107: 539768.08 | C107: 6521060.6 | D107: 8.0769299 | E107: 805.82319 | F107: 1048.777 | G107: 0 | H107: ='Annual Heights'!G107-'Annual Heights'!F107 -> -7.426 | I107: ='Annual Heights'!H107-'Annual Heights'!F107 -> -10.424 | J107: ='Annual Heights'!I107-'Annual Heights'!F107 -> -13.823 | M107: ='Annual Heights'!L107-'Annual Heights'!F107 -> -30.186 | N107: ='Annual Heights'!M107-'Annual Heights'!F107 -> -48.27 | O107: ='Annual Heights'!N107-'Annual Heights'!F107 -> -79.581
A108: 107 | B108: 539760.55 | C108: 6521057.3 | D108: 8.2134795 | E108: 814.03667 | F108: 1048.441 | G108: 0 | H108: ='Annual Heights'!G108-'Annual Heights'!F108 -> -7.814 | J108: ='Annual Heights'!I108-'Annual Heights'!F108 -> -13.951 | M108: ='Annual Heights'!L108-'Annual Heights'!F108 -> -30.933 | N108: ='Annual Heights'!M108-'Annual Heights'!F108 -> -49.141
A109: 108 | B109: 539752.57 | C109: 6521053.3 | D109: 8.9520904 | E109: 822.98876 | F109: 1047.883 | G109: 0 | H109: ='Annual Heights'!G109-'Annual Heights'!F109 -> -7.888 | J109: ='Annual Heights'!I109-'Annual Heights'!F109 -> -14.071 | K109: ='Annual Heights'!J109-'Annual Heights'!F109 -> -17.084 | L109: ='Annual Heights'!K109-'Annual Heights'!F109 -> -19.969 | M109: ='Annual Heights'!L109-'Annual Heights'!F109 -> -31.544 | N109: ='Annual Heights'!M109-'Annual Heights'!F109 -> -49.718
...

Sheet Height Change (Annual)
A1: Point | B1: Easting Stakeout | C1: Northing Stakeout | D1: Point to Point Distance | E1: Cumulative Distance | F1: 01 to 03 | G1: 03 to 04 | H1: 04 to 05 | I1: 05 to 06 | J1: 06 to 07 | K1: 07 to 13 | L1: 13 to 17 | M1: 17 to 26
A2: 1 | B2: 540540.83 | C2: 6521239.5 | D2: 0 | E2: 0 | F2: ='Annual Heights'!G2-'Annual Heights'!F2 -> -2.393 | G2: ='Annual Heights'!H2-'Annual Heights'!G2 -> -7.346 | H2: ='Annual Heights'!I2-'Annual Heights'!H2 -> 5.048 | I2: ='Annual Heights'!J2-'Annual Heights'!I2 -> -5.816 | J2: ='Annual Heights'!K2-'Annual Heights'!J2 -> -3.04
A3: 2 | B3: 540534.14 | C3: 6521239.8 | D3: 6.6976011 | E3: 6.6976011 | F3: ='Annual Heights'!G3-'Annual Heights'!F3 -> -6.57 | G3: ='Annual Heights'!H3-'Annual Heights'!G3 -> -4.134 | H3: ='Annual Heights'!I3-'Annual Heights'!H3 -> 6.441 | I3: ='Annual Heights'!J3-'Annual Heights'!I3 -> -5.281 | J3: ='Annual Heights'!K3-'Annual Heights'!J3 -> -6.277 | K3: ='Annual Heights'!L3-'Annual Heights'!K3 -> -12.556 | L3: ='Annual Heights'!M3-'Annual Heights'!L3 -> -5.775
A4: 3 | B4: 540527.5 | C4: 6521240.4 | D4: 6.6593533 | E4: 13.356954 | F4: ='Annual Heights'!G4-'Annual Heights'!F4 -> -8.144 | G4: ='Annual Heights'!H4-'Annual Heights'!G4 -> -2.567 | H4: ='Annual Heights'!I4-'Annual Heights'!H4 -> 5.583 | I4: ='Annual Heights'!J4-'Annual Heights'!I4 -> -4.202 | J4: ='Annual Heights'!K4-'Annual Heights'!J4 -> -7.133 | K4: ='Annual Heights'!L4-'Annual Heights'!K4 -> -12.349 | L4: ='Annual Heights'!M4-'Annual Heights'!L4 -> -6.067
A5: 4 | B5: 540520.94 | C5: 6521241.2 | D5: 6.612912 | E5: 19.969866 | F5: ='Annual Heights'!G5-'Annual Heights'!F5 -> -9.596 | G5: ='Annual Heights'!H5-'Annual Heights'!G5 -> -0.65 | H5: ='Annual Heights'!I5-'Annual Heights'!H5 -> 4.009 | I5: ='Annual Heights'!J5-'Annual Heights'!I5 -> -3.435 | J5: ='Annual Heights'!K5-'Annual Heights'!J5 -> -6.987 | K5: ='Annual Heights'!L5-'Annual Heights'!K5 -> -11.628 | L5: ='Annual Heights'!M5-'Annual Heights'!L5 -> -7.736
A6: 5 | B6: 540514.51 | C6: 6521241.1 | D6: 6.4326345 | E6: 26.402501 | F6: ='Annual Heights'!G6-'Annual Heights'!F6 -> -10.16 | G6: ='Annual Heights'!H6-'Annual Heights'!G6 -> -0.392 | H6: ='Annual Heights'!I6-'Annual Heights'!H6 -> 3.15 | I6: ='Annual Heights'!J6-'Annual Heights'!I6 -> -2.517 | J6: ='Annual Heights'!K6-'Annual Heights'!J6 -> -7.021 | K6: ='Annual Heights'!L6-'Annual Heights'!K6 -> -11.188 | L6: ='Annual Heights'!M6-'Annual Heights'!L6 -> -9.648
A7: 6 | B7: 540507.98 | C7: 6521241.2 | D7: 6.5272947 | E7: 32.929796 | F7: ='Annual Heights'!G7-'Annual Heights'!F7 -> -11.021 | G7: ='Annual Heights'!H7-'Annual Heights'!G7 -> 0.441 | H7: ='Annual Heights'!I7-'Annual Heights'!H7 -> 1.157 | I7: ='Annual Heights'!J7-'Annual Heights'!I7 -> -1.824 | J7: ='Annual Heights'!K7-'Annual Heights'!J7 -> -5.502 | K7: ='Annual Heights'!L7-'Annual Heights'!K7 -> -12.04 | L7: ='Annual Heights'!M7-'Annual Heights'!L7 -> -11.464
A8: 7 | B8: 540500.85 | C8: 6521241.2 | D8: 7.1310371 | E8: 40.060833 | F8: ='Annual Heights'!G8-'Annual Heights'!F8 -> -10.426 | G8: ='Annual Heights'!H8-'Annual Heights'!G8 -> 0.125 | H8: ='Annual Heights'!I8-'Annual Heights'!H8 -> -0.964 | I8: ='Annual Heights'!J8-'Annual Heights'!I8 -> -1.881 | J8: ='Annual Heights'!K8-'Annual Heights'!J8 -> -4.542 | K8: ='Annual Heights'!L8-'Annual Heights'!K8 -> -11.393 | L8: ='Annual Heights'!M8-'Annual Heights'!L8 -> -12.921
A9: 8 | B9: 540492.94 | C9: 6521241.5 | D9: 7.9219582 | E9: 47.982791 | H9: ='Annual Heights'!I9-'Annual Heights'!H9 -> -2.146 | I9: ='Annual Heights'!J9-'Annual Heights'!I9 -> -1.782 | J9: ='Annual Heights'!K9-'Annual Heights'!J9 -> -3.694 | K9: ='Annual Heights'!L9-'Annual Heights'!K9 -> -10.507 | L9: ='Annual Heights'!M9-'Annual Heights'!L9 -> -15.322
A10: 9 | B10: 540484.94 | C10: 6521241.8 | D10: 7.997877 | E10: 55.980668 | F10: ='Annual Heights'!G10-'Annual Heights'!F10 -> -8.404 | G10: ='Annual Heights'!H10-'Annual Heights'!G10 -> -2.386 | H10: ='Annual Heights'!I10-'Annual Heights'!H10 -> -3.717 | I10: ='Annual Heights'!J10-'Annual Heights'!I10 -> -1.777 | J10: ='Annual Heights'!K10-'Annual Heights'!J10 -> -2.308 | K10: ='Annual Heights'!L10-'Annual Heights'!K10 -> -10.47 | L10: ='Annual Heights'!M10-'Annual Heights'!L10 -> -17.388
A11: 10 | B11: 540478.85 | C11: 6521242.4 | D11: 6.1303544 | E11: 62.111022 | F11: ='Annual Heights'!G11-'Annual Heights'!F11 -> -6.961 | G11: ='Annual Heights'!H11-'Annual Heights'!G11 -> -2.907 | H11: ='Annual Heights'!I11-'Annual Heights'!H11 -> -4.348 | I11: ='Annual Heights'!J11-'Annual Heights'!I11 -> -1.788 | J11: ='Annual Heights'!K11-'Annual Heights'!J11 -> -1.725 | K11: ='Annual Heights'!L11-'Annual Heights'!K11 -> -10.494 | L11: ='Annual Heights'!M11-'Annual Heights'!L11 -> -19.125
A12: 11 | B12: 540471.58 | C12: 6521242.5 | D12: 7.2663296 | E12: 69.377352 | F12: ='Annual Heights'!G12-'Annual Heights'!F12 -> -6.457 | G12: ='Annual Heights'!H12-'Annual Heights'!G12 -> -3.114 | H12: ='Annual Heights'!I12-'Annual Heights'!H12 -> -5.038 | I12: ='Annual Heights'!J12-'Annual Heights'!I12 -> -1.896 | J12: ='Annual Heights'!K12-'Annual Heights'!J12 -> -1.144 | K12: ='Annual Heights'!L12-'Annual Heights'!K12 -> -10.14 | L12: ='Annual Heights'!M12-'Annual Heights'!L12 -> -21.085
A13: 12 | B13: 540464.58 | C13: 6521242.7 | D13: 7.0013602 | E13: 76.378712 | F13: ='Annual Heights'!G13-'Annual Heights'!F13 -> -6.137 | G13: ='Annual Heights'!H13-'Annual Heights'!G13 -> -3.299 | H13: ='Annual Heights'!I13-'Annual Heights'!H13 -> -5.569 | I13: ='Annual Heights'!J13-'Annual Heights'!I13 -> -2.184 | J13: ='Annual Heights'!K13-'Annual Heights'!J13 -> -0.133 | K13: ='Annual Heights'!L13-'Annual Heights'!K13 -> -9.851 | L13: ='Annual Heights'!M13-'Annual Heights'!L13 -> -22.901
A14: 13 | B14: 540457.96 | C14: 6521241.8 | D14: 6.6774453 | E14: 83.056157 | F14: ='Annual Heights'!G14-'Annual Heights'!F14 -> -5.596 | G14: ='Annual Heights'!H14-'Annual Heights'!G14 -> -3.401 | H14: ='Annual Heights'!I14-'Annual Heights'!H14 -> -5.929 | I14: ='Annual Heights'!J14-'Annual Heights'!I14 -> -2.604 | J14: ='Annual Heights'!K14-'Annual Heights'!J14 -> 0.081 | K14: ='Annual Heights'!L14-'Annual Heights'!K14 -> -9.13 | L14: ='Annual Heights'!M14-'Annual Heights'!L14 -> -24.446
A15: 14 | B15: 540451.4 | C15: 6521241.1 | D15: 6.5941993 | E15: 89.650357 | F15: ='Annual Heights'!G15-'Annual Heights'!F15 -> -5.212 | G15: ='Annual Heights'!H15-'Annual Heights'!G15 -> -3.878 | H15: ='Annual Heights'!I15-'Annual Heights'!H15 -> -6.683 | I15: ='Annual Heights'!J15-'Annual Heights'!I15 -> -2.485 | J15: ='Annual Heights'!K15-'Annual Heights'!J15 -> 0.179 | K15: ='Annual Heights'!L15-'Annual Heights'!K15 -> -8.159 | L15: ='Annual Heights'!M15-'Annual Heights'!L15 -> -25.198
A16: 15 | B16: 540444.12 | C16: 6521240.5 | D16: 7.3022025 | E16: 96.952559 | F16: ='Annual Heights'!G16-'Annual Heights'!F16 -> -4.914 | G16: ='Annual Heights'!H16-'Annual Heights'!G16 -> -4.548 | H16: ='Annual Heights'!I16-'Annual Heights'!H16 -> -6.785 | I16: ='Annual Heights'!J16-'Annual Heights'!I16 -> -3.196 | J16: ='Annual Heights'!K16-'Annual Heights'!J16 -> 0.37 | K16: ='Annual Heights'!L16-'Annual Heights'!K16 -> -6.786 | L16: ='Annual Heights'!M16-'Annual Heights'!L16 -> -25.469
A17: 16 | B17: 540436.5 | C17: 6521240.2 | D17: 7.6264052 | E17: 104.57896 | F17: ='Annual Heights'!G17-'Annual Heights'!F17 -> -4.121 | G17: ='Annual Heights'!H17-'Annual Heights'!G17 -> -5.594 | H17: ='Annual Heights'!I17-'Annual Heights'!H17 -> -7.393 | I17: ='Annual Heights'!J17-'Annual Heights'!I17 -> -3.24 | J17: ='Annual Heights'!K17-'Annual Heights'!J17 -> 0.638 | K17: ='Annual Heights'!L17-'Annual Heights'!K17 -> -5.589 | L17: ='Annual Heights'!M17-'Annual Heights'!L17 -> -23.158
A18: 17 | B18: 540428.83 | C18: 6521239.9 | D18: 7.6807823 | E18: 112.25975 | F18: ='Annual Heights'!G18-'Annual Heights'!F18 -> -4.285 | G18: ='Annual Heights'!H18-'Annual Heights'!G18 -> -6.346 | H18: ='Annual Heights'!I18-'Annual Heights'!H18 -> -6.832 | K18: ='Annual Heights'!L18-'Annual Heights'!K18 -> -4.503 | L18: ='Annual Heights'!M18-'Annual Heights'!L18 -> -20.538
A19: 18 | B19: 540421.62 | C19: 6521240 | D19: 7.2073596 | E19: 119.46711 | F19: ='Annual Heights'!G19-'Annual Heights'!F19 -> -4.634 | G19: ='Annual Heights'!H19-'Annual Heights'!G19 -> -6.756 | H19: ='Annual Heights'!I19-'Annual Heights'!H19 -> -5.747 | K19: ='Annual Heights'!L19-'Annual Heights'!K19 -> -4.372 | L19: ='Annual Heights'!M19-'Annual Heights'!L19 -> -17.884
A20: 19 | B20: 540414.1 | C20: 6521240 | D20: 7.5180293 | E20: 126.98514 | F20: ='Annual Heights'!G20-'Annual Heights'!F20 -> -4.137 | G20: ='Annual Heights'!H20-'Annual Heights'!G20 -> -7.749 | H20: ='Annual Heights'!I20-'Annual Heights'!H20 -> -3.826 | I20: ='Annual Heights'!J20-'Annual Heights'!I20 -> -1.454 | J20: ='Annual Heights'!K20-'Annual Heights'!J20 -> -3.182 | K20: ='Annual Heights'!L20-'Annual Heights'!K20 -> -4.86 | L20: ='Annual Heights'!M20-'Annual Heights'!L20 -> -15.783
A21: 20 | B21: 540405.83 | C21: 6521239.7 | D21: 8.2843545 | E21: 135.26949 | F21: ='Annual Heights'!G21-'Annual Heights'!F21 -> -4.36 | I21: ='Annual Heights'!J21-'Annual Heights'!I21 -> 2.197 | J21: ='Annual Heights'!K21-'Annual Heights'!J21 -> -4.352 | K21: ='Annual Heights'!L21-'Annual Heights'!K21 -> -8.401 | L21: ='Annual Heights'!M21-'Annual Heights'!L21 -> -13.985
A22: 21 | B22: 540399.26 | C22: 6521240.1 | D22: 6.5799818 | E22: 141.84947 | F22: ='Annual Heights'!G22-'Annual Heights'!F22 -> -4.794 | I22: ='Annual Heights'!J22-'Annual Heights'!I22 -> 2.924 | J22: ='Annual Heights'!K22-'Annual Heights'!J22 -> -4.091 | K22: ='Annual Heights'!L22-'Annual Heights'!K22 -> -11.148 | L22: ='Annual Heights'!M22-'Annual Heights'!L22 -> -12.729
A23: 22 | B23: 540393.44 | C23: 6521239.1 | D23: 5.9049221 | E23: 147.75439 | F23: ='Annual Heights'!G23-'Annual Heights'!F23 -> -10.581 | I23: ='Annual Heights'!J23-'Annual Heights'!I23 -> 3.264 | J23: ='Annual Heights'!K23-'Annual Heights'!J23 -> -3.787 | K23: ='Annual Heights'!L23-'Annual Heights'!K23 -> -13.756 | L23: ='Annual Heights'!M23-'Annual Heights'!L23 -> -11.3
A24: 23 | B24: 540386.56 | C24: 6521238.7 | D24: 6.887672 | E24: 154.64207 | F24: ='Annual Heights'!G24-'Annual Heights'!F24 -> -14.828 | I24: ='Annual Heights'!J24-'Annual Heights'!I24 -> 2.677 | J24: ='Annual Heights'!K24-'Annual Heights'!J24 -> -2.582 | K24: ='Annual Heights'!L24-'Annual Heights'!K24 -> -15.716 | L24: ='Annual Heights'!M24-'Annual Heights'!L24 -> -10.47
A25: 24 | B25: 540378.72 | C25: 6521238.8 | D25: 7.8361235 | E25: 162.47819 | F25: ='Annual Heights'!G25-'Annual Heights'!F25 -> -14.163 | I25: ='Annual Heights'!J25-'Annual Heights'!I25 -> 1.147 | J25: ='Annual Heights'!K25-'Annual Heights'!J25 -> -2.195 | K25: ='Annual Heights'!L25-'Annual Heights'!K25 -> -14.663 | L25: ='Annual Heights'!M25-'Annual Heights'!L25 -> -12.284
A26: 25 | B26: 540370.92 | C26: 6521238.6 | D26: 7.8008964 | E26: 170.27909 | F26: ='Annual Heights'!G26-'Annual Heights'!F26 -> -12.435 | I26: ='Annual Heights'!J26-'Annual Heights'!I26 -> -0.47 | J26: ='Annual Heights'!K26-'Annual Heights'!J26 -> -2.38 | K26: ='Annual Heights'!L26-'Annual Heights'!K26 -> -12.968 | L26: ='Annual Heights'!M26-'Annual Heights'!L26 -> -14.791
A27: 26 | B27: 540362.9 | C27: 6521237.6 | D27: 8.0882706 | E27: 178.36736 | F27: ='Annual Heights'!G27-'Annual Heights'!F27 -> -10.436 | G27: ='Annual Heights'!H27-'Annual Heights'!G27 -> -2.771 | H27: ='Annual Heights'!I27-'Annual Heights'!H27 -> 0.948 | I27: ='Annual Heights'!J27-'Annual Heights'!I27 -> -2.415 | J27: ='Annual Heights'!K27-'Annual Heights'!J27 -> -1.965 | K27: ='Annual Heights'!L27-'Annual Heights'!K27 -> -11.427 | L27: ='Annual Heights'!M27-'Annual Heights'!L27 -> -16.298
A28: 27 | B28: 540354.76 | C28: 6521236.2 | D28: 8.2541548 | E28: 186.62151 | F28: ='Annual Heights'!G28-'Annual Heights'!F28 -> -9.743 | G28: ='Annual Heights'!H28-'Annual Heights'!G28 -> -2.205 | H28: ='Annual Heights'!I28-'Annual Heights'!H28 -> -0.514 | I28: ='Annual Heights'!J28-'Annual Heights'!I28 -> -3.559 | J28: ='Annual Heights'!K28-'Annual Heights'!J28 -> -1.912 | K28: ='Annual Heights'!L28-'Annual Heights'!K28 -> -10.109 | L28: ='Annual Heights'!M28-'Annual Heights'!L28 -> -18.137
A29: 28 | B29: 540346.95 | C29: 6521235.1 | D29: 7.8771981 | E29: 194.49871 | F29: ='Annual Heights'!G29-'Annual Heights'!F29 -> -8.919 | G29: ='Annual Heights'!H29-'Annual Heights'!G29 -> -2.069 | H29: ='Annual Heights'!I29-'Annual Heights'!H29 -> -1.563 | I29: ='Annual Heights'!J29-'Annual Heights'!I29 -> -4.243 | J29: ='Annual Heights'!K29-'Annual Heights'!J29 -> -1.634 | K29: ='Annual Heights'!L29-'Annual Heights'!K29 -> -9.479 | L29: ='Annual Heights'!M29-'Annual Heights'!L29 -> -19.441
A30: 29 | B30: 540339.74 | C30: 6521233.4 | D30: 7.4212216 | E30: 201.91993 | F30: ='Annual Heights'!G30-'Annual Heights'!F30 -> -8.381 | G30: ='Annual Heights'!H30-'Annual Heights'!G30 -> -2.117 | H30: ='Annual Heights'!I30-'Annual Heights'!H30 -> -2.173 | I30: ='Annual Heights'!J30-'Annual Heights'!I30 -> -5.052 | J30: ='Annual Heights'!K30-'Annual Heights'!J30 -> -1.34 | K30: ='Annual Heights'!L30-'Annual Heights'!K30 -> -8.947 | L30: ='Annual Heights'!M30-'Annual Heights'!L30 -> -20.518
A31: 30 | B31: 540331.44 | C31: 6521232.1 | D31: 8.4030158 | E31: 210.32295 | F31: ='Annual Heights'!G31-'Annual Heights'!F31 -> -7.392 | G31: ='Annual Heights'!H31-'Annual Heights'!G31 -> -2.581 | H31: ='Annual Heights'!I31-'Annual Heights'!H31 -> -2.857 | I31: ='Annual Heights'!J31-'Annual Heights'!I31 -> -5.379 | J31: ='Annual Heights'!K31-'Annual Heights'!J31 -> -1.663 | K31: ='Annual Heights'!L31-'Annual Heights'!K31 -> -8.457 | L31: ='Annual Heights'!M31-'Annual Heights'!L31 -> -21.674
A32: 31 | B32: 540323.51 | C32: 6521231.2 | D32: 7.987322 | E32: 218.31027 | F32: ='Annual Heights'!G32-'Annual Heights'!F32 -> -7.576 | G32: ='Annual Heights'!H32-'Annual Heights'!G32 -> -2.182 | H32: ='Annual Heights'!I32-'Annual Heights'!H32 -> -3.451 | I32: ='Annual Heights'!J32-'Annual Heights'!I32 -> -5.908 | J32: ='Annual Heights'!K32-'Annual Heights'!J32 -> -1.442 | K32: ='Annual Heights'!L32-'Annual Heights'!K32 -> -7.878 | L32: ='Annual Heights'!M32-'Annual Heights'!L32 -> -22.116
A33: 32 | B33: 540314.72 | C33: 6521229.7 | D33: 8.9168997 | E33: 227.22717 | F33: ='Annual Heights'!G33-'Annual Heights'!F33 -> -6.045 | G33: ='Annual Heights'!H33-'Annual Heights'!G33 -> -2.639 | H33: ='Annual Heights'!I33-'Annual Heights'!H33 -> -4.492 | I33: ='Annual Heights'!J33-'Annual Heights'!I33 -> -5.896 | J33: ='Annual Heights'!K33-'Annual Heights'!J33 -> -2.006 | K33: ='Annual Heights'!L33-'Annual Heights'!K33 -> -7.223 | L33: ='Annual Heights'!M33-'Annual Heights'!L33 -> -21.547
A34: 33 | B34: 540307.52 | C34: 6521228.1 | D34: 7.3615402 | E34: 234.58871 | F34: ='Annual Heights'!G34-'Annual Heights'!F34 -> -5.266 | G34: ='Annual Heights'!H34-'Annual Heights'!G34 -> -2.798 | H34: ='Annual Heights'!I34-'Annual Heights'!H34 -> -5.412 | I34: ='Annual Heights'!J34-'Annual Heights'!I34 -> -5.126 | J34: ='Annual Heights'!K34-'Annual Heights'!J34 -> -2.525 | K34: ='Annual Heights'!L34-'Annual Heights'!K34 -> -7.296 | L34: ='Annual Heights'!M34-'Annual Heights'!L34 -> -20.44
A35: 34 | B35: 540301.04 | C35: 6521227.1 | D35: 6.5602537 | E35: 241.14896 | F35: ='Annual Heights'!G35-'Annual Heights'!F35 -> -4.818 | G35: ='Annual Heights'!H35-'Annual Heights'!G35 -> -2.567 | H35: ='Annual Heights'!I35-'Annual Heights'!H35 -> -6.5 | I35: ='Annual Heights'!J35-'Annual Heights'!I35 -> -4.903 | J35: ='Annual Heights'!K35-'Annual Heights'!J35 -> -3.35 | K35: ='Annual Heights'!L35-'Annual Heights'!K35 -> -6.479 | L35: ='Annual Heights'!M35-'Annual Heights'!L35 -> -17.961
A36: 35 | B36: 540297.4 | C36: 6521226.5 | D36: 3.6899889 | E36: 244.83895 | F36: ='Annual Heights'!G36-'Annual Heights'!F36 -> -3.864 | G36: ='Annual Heights'!H36-'Annual Heights'!G36 -> -3.181 | H36: ='Annual Heights'!I36-'Annual Heights'!H36 -> -6.76 | L36: ='Annual Heights'!M36-'Annual Heights'!L36 -> -15.868
A37: 36 | B37: 540278.82 | C37: 6521224.1 | D37: 18.731457 | E37: 263.57041 | F37: ='Annual Heights'!G37-'Annual Heights'!F37 -> 3.493 | G37: ='Annual Heights'!H37-'Annual Heights'!G37 -> -2.188 | H37: ='Annual Heights'!I37-'Annual Heights'!H37 -> -7.65 | I37: ='Annual Heights'!J37-'Annual Heights'!I37 -> -1.729 | J37: ='Annual Heights'!K37-'Annual Heights'!J37 -> 2.647
A38: 37 | B38: 540268.9 | C38: 6521221.1 | D38: 10.36353 | E38: 273.93394 | F38: ='Annual Heights'!G38-'Annual Heights'!F38 -> -8.618 | G38: ='Annual Heights'!H38-'Annual Heights'!G38 -> -0.588 | J38: ='Annual Heights'!K38-'Annual Heights'!J38 -> 3.507
A39: 38 | B39: 540264.28 | C39: 6521219.3 | D39: 4.9502538 | E39: 278.88419 | F39: ='Annual Heights'!G39-'Annual Heights'!F39 -> -10.654 | G39: ='Annual Heights'!H39-'Annual Heights'!G39 -> -1.859 | J39: ='Annual Heights'!K39-'Annual Heights'!J39 -> 3.534 | K39: ='Annual Heights'!L39-'Annual Heights'!K39 -> -17.373 | L39: ='Annual Heights'!M39-'Annual Heights'!L39 -> -7.614
A40: 39 | B40: 540258.63 | C40: 6521217.4 | D40: 5.9660335 | E40: 284.85023 | F40: ='Annual Heights'!G40-'Annual Heights'!F40 -> -12.392 | G40: ='Annual Heights'!H40-'Annual Heights'!G40 -> -4.221 | H40: ='Annual Heights'!I40-'Annual Heights'!H40 -> -0.313 | I40: ='Annual Heights'!J40-'Annual Heights'!I40 -> 1.615 | J40: ='Annual Heights'!K40-'Annual Heights'!J40 -> 2.485 | K40: ='Annual Heights'!L40-'Annual Heights'!K40 -> -17.029 | L40: ='Annual Heights'!M40-'Annual Heights'!L40 -> -8.536
A41: 40 | B41: 540252.87 | C41: 6521215.6 | D41: 6.0374462 | E41: 290.88767 | F41: ='Annual Heights'!G41-'Annual Heights'!F41 -> -11.694 | G41: ='Annual Heights'!H41-'Annual Heights'!G41 -> -6.716 | H41: ='Annual Heights'!I41-'Annual Heights'!H41 -> 2.912 | I41: ='Annual Heights'!J41-'Annual Heights'!I41 -> -0.134 | J41: ='Annual Heights'!K41-'Annual Heights'!J41 -> 2.528 | K41: ='Annual Heights'!L41-'Annual Heights'!K41 -> -16.868 | L41: ='Annual Heights'!M41-'Annual Heights'!L41 -> -9.983
A42: 41 | B42: 540245.95 | C42: 6521213.1 | D42: 7.3693661 | E42: 298.25704 | F42: ='Annual Heights'!G42-'Annual Heights'!F42 -> -11.042 | G42: ='Annual Heights'!H42-'Annual Heights'!G42 -> -4.814 | H42: ='Annual Heights'!I42-'Annual Heights'!H42 -> -0.174 | I42: ='Annual Heights'!J42-'Annual Heights'!I42 -> -0.022 | J42: ='Annual Heights'!K42-'Annual Heights'!J42 -> 1.856 | K42: ='Annual Heights'!L42-'Annual Heights'!K42 -> -14.678 | L42: ='Annual Heights'!M42-'Annual Heights'!L42 -> -12.554
A43: 42 | B43: 540238.14 | C43: 6521210.6 | D43: 8.20064 | E43: 306.45768 | F43: ='Annual Heights'!G43-'Annual Heights'!F43 -> -10.309 | G43: ='Annual Heights'!H43-'Annual Heights'!G43 -> -4.613 | H43: ='Annual Heights'!I43-'Annual Heights'!H43 -> 0.028 | I43: ='Annual Heights'!J43-'Annual Heights'!I43 -> -1.514 | J43: ='Annual Heights'!K43-'Annual Heights'!J43 -> 0.452 | K43: ='Annual Heights'!L43-'Annual Heights'!K43 -> -12.415 | L43: ='Annual Heights'!M43-'Annual Heights'!L43 -> -14.613
A44: 43 | B44: 540230.52 | C44: 6521207.5 | D44: 8.1914856 | E44: 314.64916 | F44: ='Annual Heights'!G44-'Annual Heights'!F44 -> -10.066 | G44: ='Annual Heights'!H44-'Annual Heights'!G44 -> -4.881 | H44: ='Annual Heights'!I44-'Annual Heights'!H44 -> 0.769 | I44: ='Annual Heights'!J44-'Annual Heights'!I44 -> -3.164 | J44: ='Annual Heights'!K44-'Annual Heights'!J44 -> 0.638 | K44: ='Annual Heights'!L44-'Annual Heights'!K44 -> -11.316 | L44: ='Annual Heights'!M44-'Annual Heights'!L44 -> -16.479
A45: 44 | B45: 540222.74 | C45: 6521204.1 | D45: 8.4982201 | E45: 323.14738 | F45: ='Annual Heights'!G45-'Annual Heights'!F45 -> -8.769 | G45: ='Annual Heights'!H45-'Annual Heights'!G45 -> -4.814 | H45: ='Annual Heights'!I45-'Annual Heights'!H45 -> 0.076 | I45: ='Annual Heights'!J45-'Annual Heights'!I45 -> -4.526 | J45: ='Annual Heights'!K45-'Annual Heights'!J45 -> 0.879 | K45: ='Annual Heights'!L45-'Annual Heights'!K45 -> -10.056 | L45: ='Annual Heights'!M45-'Annual Heights'!L45 -> -18.471
A46: 45 | B46: 540215.13 | C46: 6521201.2 | D46: 8.1552504 | E46: 331.30263 | F46: ='Annual Heights'!G46-'Annual Heights'!F46 -> -7.526 | G46: ='Annual Heights'!H46-'Annual Heights'!G46 -> -5.321 | H46: ='Annual Heights'!I46-'Annual Heights'!H46 -> -0.104 | I46: ='Annual Heights'!J46-'Annual Heights'!I46 -> -3.273 | J46: ='Annual Heights'!K46-'Annual Heights'!J46 -> -1.873 | K46: ='Annual Heights'!L46-'Annual Heights'!K46 -> -9.161 | L46: ='Annual Heights'!M46-'Annual Heights'!L46 -> -19.962
A47: 46 | B47: 540207.78 | C47: 6521200.2 | D47: 7.4194277 | E47: 338.72206 | F47: ='Annual Heights'!G47-'Annual Heights'!F47 -> -6.525 | G47: ='Annual Heights'!H47-'Annual Heights'!G47 -> -4.945 | H47: ='Annual Heights'!I47-'Annual Heights'!H47 -> -0.885 | I47: ='Annual Heights'!J47-'Annual Heights'!I47 -> -2.962 | J47: ='Annual Heights'!K47-'Annual Heights'!J47 -> -2.882 | K47: ='Annual Heights'!L47-'Annual Heights'!K47 -> -8.777 | L47: ='Annual Heights'!M47-'Annual Heights'!L47 -> -20.765
A48: 47 | B48: 540199.97 | C48: 6521199.4 | D48: 7.852144 | E48: 346.57421 | F48: ='Annual Heights'!G48-'Annual Heights'!F48 -> -5.396 | G48: ='Annual Heights'!H48-'Annual Heights'!G48 -> -5.162 | H48: ='Annual Heights'!I48-'Annual Heights'!H48 -> -0.986 | I48: ='Annual Heights'!J48-'Annual Heights'!I48 -> -3.383 | J48: ='Annual Heights'!K48-'Annual Heights'!J48 -> -3.628 | K48: ='Annual Heights'!L48-'Annual Heights'!K48 -> -8.404 | L48: ='Annual Heights'!M48-'Annual Heights'!L48 -> -21.244
A49: 48 | B49: 540191.85 | C49: 6521198.5 | D49: 8.1687554 | E49: 354.74296 | F49: ='Annual Heights'!G49-'Annual Heights'!F49 -> -4.636 | G49: ='Annual Heights'!H49-'Annual Heights'!G49 -> -4.612 | H49: ='Annual Heights'!I49-'Annual Heights'!H49 -> -1.916 | K49: ='Annual Heights'!L49-'Annual Heights'!K49 -> -7.191 | L49: ='Annual Heights'!M49-'Annual Heights'!L49 -> -22.509
A50: 49 | B50: 540184.53 | C50: 6521197.1 | D50: 7.4549078 | E50: 362.19787 | F50: ='Annual Heights'!G50-'Annual Heights'!F50 -> -3.087 | G50: ='Annual Heights'!H50-'Annual Heights'!G50 -> -5.415 | H50: ='Annual Heights'!I50-'Annual Heights'!H50 -> -2.281 | K50: ='Annual Heights'!L50-'Annual Heights'!K50 -> -6.695 | L50: ='Annual Heights'!M50-'Annual Heights'!L50 -> -21.3
A51: 50 | B51: 540178.3 | C51: 6521196 | D51: 6.3308894 | E51: 368.52876 | F51: ='Annual Heights'!G51-'Annual Heights'!F51 -> -2.501 | G51: ='Annual Heights'!H51-'Annual Heights'!G51 -> -4.772 | H51: ='Annual Heights'!I51-'Annual Heights'!H51 -> -2.814 | K51: ='Annual Heights'!L51-'Annual Heights'!K51 -> -6.086 | L51: ='Annual Heights'!M51-'Annual Heights'!L51 -> -21.311
A52: 51 | B52: 540173.46 | C52: 6521194.1 | D52: 5.1954881 | E52: 373.72425 | F52: ='Annual Heights'!G52-'Annual Heights'!F52 -> -1.574 | G52: ='Annual Heights'!H52-'Annual Heights'!G52 -> -5.172 | H52: ='Annual Heights'!I52-'Annual Heights'!H52 -> -2.86 | K52: ='Annual Heights'!L52-'Annual Heights'!K52 -> -5.8 | L52: ='Annual Heights'!M52-'Annual Heights'!L52 -> -20.232
A53: 52 | B53: 540166.16 | C53: 6521192 | D53: 7.6035603 | E53: 381.32781 | F53: ='Annual Heights'!G53-'Annual Heights'!F53 -> 4.083 | G53: ='Annual Heights'!H53-'Annual Heights'!G53 -> -6.068 | H53: ='Annual Heights'!I53-'Annual Heights'!H53 -> -2.943 | I53: ='Annual Heights'!J53-'Annual Heights'!I53 -> -4.092 | J53: ='Annual Heights'!K53-'Annual Heights'!J53 -> -5.614 | K53: ='Annual Heights'!L53-'Annual Heights'!K53 -> -5.597 | L53: ='Annual Heights'!M53-'Annual Heights'!L53 -> -17.481
A54: 53 | B54: 540161.12 | C54: 6521189.7 | D54: 5.519361 | E54: 386.84717 | F54: ='Annual Heights'!G54-'Annual Heights'!F54 -> 5.465 | G54: ='Annual Heights'!H54-'Annual Heights'!G54 -> -5.074 | H54: ='Annual Heights'!I54-'Annual Heights'!H54 -> -3.352 | I54: ='Annual Heights'!J54-'Annual Heights'!I54 -> -3.733 | J54: ='Annual Heights'!K54-'Annual Heights'!J54 -> -5.427 | K54: ='Annual Heights'!L54-'Annual Heights'!K54 -> -5.88 | L54: ='Annual Heights'!M54-'Annual Heights'!L54 -> -15.902
A55: 54 | B55: 540146.33 | C55: 6521191.1 | D55: 14.852856 | E55: 401.70002 | F55: ='Annual Heights'!G55-'Annual Heights'!F55 -> -0.011 | G55: ='Annual Heights'!H55-'Annual Heights'!G55 -> -5.623 | H55: ='Annual Heights'!I55-'Annual Heights'!H55 -> -3.573 | I55: ='Annual Heights'!J55-'Annual Heights'!I55 -> -4.317 | J55: ='Annual Heights'!K55-'Annual Heights'!J55 -> -2.088 | K55: ='Annual Heights'!L55-'Annual Heights'!K55 -> -8.137 | L55: ='Annual Heights'!M55-'Annual Heights'!L55 -> -12.066
A56: 55 | B56: 540140.25 | C56: 6521189.1 | D56: 6.3966805 | E56: 408.0967 | F56: ='Annual Heights'!G56-'Annual Heights'!F56 -> -2.156 | G56: ='Annual Heights'!H56-'Annual Heights'!G56 -> -6.987 | H56: ='Annual Heights'!I56-'Annual Heights'!H56 -> -2.717 | I56: ='Annual Heights'!J56-'Annual Heights'!I56 -> -4.221 | J56: ='Annual Heights'!K56-'Annual Heights'!J56 -> -0.461 | K56: ='Annual Heights'!L56-'Annual Heights'!K56 -> -9.138 | L56: ='Annual Heights'!M56-'Annual Heights'!L56 -> -11.092
A57: 56 | B57: 540134.41 | C57: 6521187 | D57: 6.2213137 | E57: 414.31802 | F57: ='Annual Heights'!G57-'Annual Heights'!F57 -> -4.153 | G57: ='Annual Heights'!H57-'Annual Heights'!G57 -> -7.001 | H57: ='Annual Heights'!I57-'Annual Heights'!H57 -> -2.974 | I57: ='Annual Heights'!J57-'Annual Heights'!I57 -> -2.447 | J57: ='Annual Heights'!K57-'Annual Heights'!J57 -> -0.657 | K57: ='Annual Heights'!L57-'Annual Heights'!K57 -> -8.948 | L57: ='Annual Heights'!M57-'Annual Heights'!L57 -> -12.06
A58: 57 | B58: 540129.25 | C58: 6521185.2 | D58: 5.4595631 | E58: 419.77758 | F58: ='Annual Heights'!G58-'Annual Heights'!F58 -> -6.852 | G58: ='Annual Heights'!H58-'Annual Heights'!G58 -> -6.328 | H58: ='Annual Heights'!I58-'Annual Heights'!H58 -> -4.841 | I58: ='Annual Heights'!J58-'Annual Heights'!I58 -> 1.47 | J58: ='Annual Heights'!K58-'Annual Heights'!J58 -> -1.264 | K58: ='Annual Heights'!L58-'Annual Heights'!K58 -> -9.488 | L58: ='Annual Heights'!M58-'Annual Heights'!L58 -> -11.788
A59: 58 | B59: 540122.6 | C59: 6521182.2 | D59: 7.2747805 | E59: 427.05236 | F59: ='Annual Heights'!G59-'Annual Heights'!F59 -> -8.658 | G59: ='Annual Heights'!H59-'Annual Heights'!G59 -> -6.674 | J59: ='Annual Heights'!K59-'Annual Heights'!J59 -> -0.888 | K59: ='Annual Heights'!L59-'Annual Heights'!K59 -> -9.635 | L59: ='Annual Heights'!M59-'Annual Heights'!L59 -> -13.127
A60: 59 | B60: 540114.54 | C60: 6521180.3 | D60: 8.293183 | E60: 435.34554 | F60: ='Annual Heights'!G60-'Annual Heights'!F60 -> -9.297 | G60: ='Annual Heights'!H60-'Annual Heights'!G60 -> -5.849 | H60: ='Annual Heights'!I60-'Annual Heights'!H60 -> -2.151 | I60: ='Annual Heights'!J60-'Annual Heights'!I60 -> 1.205 | J60: ='Annual Heights'!K60-'Annual Heights'!J60 -> -0.56 | K60: ='Annual Heights'!L60-'Annual Heights'!K60 -> -11.267 | L60: ='Annual Heights'!M60-'Annual Heights'!L60 -> -14.192
A61: 60 | B61: 540107.12 | C61: 6521177.1 | D61: 8.0526679 | E61: 443.39821 | F61: ='Annual Heights'!G61-'Annual Heights'!F61 -> -8.997 | G61: ='Annual Heights'!H61-'Annual Heights'!G61 -> -5.377 | H61: ='Annual Heights'!I61-'Annual Heights'!H61 -> -2.805 | I61: ='Annual Heights'!J61-'Annual Heights'!I61 -> 1.536 | J61: ='Annual Heights'!K61-'Annual Heights'!J61 -> -1.33 | K61: ='Annual Heights'!L61-'Annual Heights'!K61 -> -12 | L61: ='Annual Heights'!M61-'Annual Heights'!L61 -> -14.735
A62: 61 | B62: 540099.33 | C62: 6521174.8 | D62: 8.143254 | E62: 451.54147 | F62: ='Annual Heights'!G62-'Annual Heights'!F62 -> -8.573 | G62: ='Annual Heights'!H62-'Annual Heights'!G62 -> -4.017 | H62: ='Annual Heights'!I62-'Annual Heights'!H62 -> -3.585 | I62: ='Annual Heights'!J62-'Annual Heights'!I62 -> 0.626 | J62: ='Annual Heights'!K62-'Annual Heights'!J62 -> -1.543 | K62: ='Annual Heights'!L62-'Annual Heights'!K62 -> -11.76 | L62: ='Annual Heights'!M62-'Annual Heights'!L62 -> -16.343
A63: 62 | B63: 540092.15 | C63: 6521172.6 | D63: 7.4831082 | E63: 459.02457 | F63: ='Annual Heights'!G63-'Annual Heights'!F63 -> -7.959 | G63: ='Annual Heights'!H63-'Annual Heights'!G63 -> -3.169 | H63: ='Annual Heights'!I63-'Annual Heights'!H63 -> -4.204 | I63: ='Annual Heights'!J63-'Annual Heights'!I63 -> 0.051 | J63: ='Annual Heights'!K63-'Annual Heights'!J63 -> -1.187 | K63: ='Annual Heights'!L63-'Annual Heights'!K63 -> -12.295 | L63: ='Annual Heights'!M63-'Annual Heights'!L63 -> -17.332
A64: 63 | B64: 540084.41 | C64: 6521170 | D64: 8.1653498 | E64: 467.18992 | F64: ='Annual Heights'!G64-'Annual Heights'!F64 -> -7.226 | G64: ='Annual Heights'!H64-'Annual Heights'!G64 -> -3.72 | H64: ='Annual Heights'!I64-'Annual Heights'!H64 -> -3.677 | I64: ='Annual Heights'!J64-'Annual Heights'!I64 -> -0.322 | J64: ='Annual Heights'!K64-'Annual Heights'!J64 -> -1.475 | K64: ='Annual Heights'!L64-'Annual Heights'!K64 -> -12.715 | L64: ='Annual Heights'!M64-'Annual Heights'!L64 -> -18.159
A65: 64 | B65: 540077.03 | C65: 6521167 | D65: 7.9623439 | E65: 475.15227 | F65: ='Annual Heights'!G65-'Annual Heights'!F65 -> -6.793 | G65: ='Annual Heights'!H65-'Annual Heights'!G65 -> -3.939 | H65: ='Annual Heights'!I65-'Annual Heights'!H65 -> -3.505 | I65: ='Annual Heights'!J65-'Annual Heights'!I65 -> -0.782 | J65: ='Annual Heights'!K65-'Annual Heights'!J65 -> -1.426 | K65: ='Annual Heights'!L65-'Annual Heights'!K65 -> -12.432 | L65: ='Annual Heights'!M65-'Annual Heights'!L65 -> -19.803
A66: 65 | B66: 540070.29 | C66: 6521164.5 | D66: 7.2029525 | E66: 482.35522 | F66: ='Annual Heights'!G66-'Annual Heights'!F66 -> -6.488 | G66: ='Annual Heights'!H66-'Annual Heights'!G66 -> -3.688 | H66: ='Annual Heights'!I66-'Annual Heights'!H66 -> -3.506 | I66: ='Annual Heights'!J66-'Annual Heights'!I66 -> -1.052 | J66: ='Annual Heights'!K66-'Annual Heights'!J66 -> -1.776 | K66: ='Annual Heights'!L66-'Annual Heights'!K66 -> -12.541 | L66: ='Annual Heights'!M66-'Annual Heights'!L66 -> -20.525
A67: 66 | B67: 540064.09 | C67: 6521162.3 | D67: 6.5853998 | E67: 488.94062 | F67: ='Annual Heights'!G67-'Annual Heights'!F67 -> -6.287 | G67: ='Annual Heights'!H67-'Annual Heights'!G67 -> -3.294 | H67: ='Annual Heights'!I67-'Annual Heights'!H67 -> -3.912 | I67: ='Annual Heights'!J67-'Annual Heights'!I67 -> -1.125 | J67: ='Annual Heights'!K67-'Annual Heights'!J67 -> -1.603 | K67: ='Annual Heights'!L67-'Annual Heights'!K67 -> -12.482 | L67: ='Annual Heights'!M67-'Annual Heights'!L67 -> -21.308
A68: 67 | B68: 540056.14 | C68: 6521159.9 | D68: 8.2992156 | E68: 497.23984 | F68: ='Annual Heights'!G68-'Annual Heights'!F68 -> -4.817 | G68: ='Annual Heights'!H68-'Annual Heights'!G68 -> -4.083 | H68: ='Annual Heights'!I68-'Annual Heights'!H68 -> -4.3 | I68: ='Annual Heights'!J68-'Annual Heights'!I68 -> -1.403 | J68: ='Annual Heights'!K68-'Annual Heights'!J68 -> -2.364 | K68: ='Annual Heights'!L68-'Annual Heights'!K68 -> -11.647 | L68: ='Annual Heights'!M68-'Annual Heights'!L68 -> -21.781
A69: 68 | B69: 540049.03 | C69: 6521157.7 | D69: 7.4343532 | E69: 504.67419 | F69: ='Annual Heights'!G69-'Annual Heights'!F69 -> -4.002 | G69: ='Annual Heights'!H69-'Annual Heights'!G69 -> -4.235 | H69: ='Annual Heights'!I69-'Annual Heights'!H69 -> -4.686 | I69: ='Annual Heights'!J69-'Annual Heights'!I69 -> -1.144 | J69: ='Annual Heights'!K69-'Annual Heights'!J69 -> -2.273 | K69: ='Annual Heights'!L69-'Annual Heights'!K69 -> -12.175 | L69: ='Annual Heights'!M69-'Annual Heights'!L69 -> -21.8
A70: 69 | B70: 540042.06 | C70: 6521155.2 | D70: 7.4144665 | E70: 512.08866 | F70: ='Annual Heights'!G70-'Annual Heights'!F70 -> -3.896 | G70: ='Annual Heights'!H70-'Annual Heights'!G70 -> -3.984 | H70: ='Annual Heights'!I70-'Annual Heights'!H70 -> -4.7 | I70: ='Annual Heights'!J70-'Annual Heights'!I70 -> -1.335 | J70: ='Annual Heights'!K70-'Annual Heights'!J70 -> -2.812 | K70: ='Annual Heights'!L70-'Annual Heights'!K70 -> -11.936 | L70: ='Annual Heights'!M70-'Annual Heights'!L70 -> -20.986
A71: 70 | B71: 540035.31 | C71: 6521153 | D71: 7.1157574 | E71: 519.20441 | F71: ='Annual Heights'!G71-'Annual Heights'!F71 -> -3.782 | G71: ='Annual Heights'!H71-'Annual Heights'!G71 -> -4.227 | H71: ='Annual Heights'!I71-'Annual Heights'!H71 -> -4.202 | I71: ='Annual Heights'!J71-'Annual Heights'!I71 -> -1.558 | J71: ='Annual Heights'!K71-'Annual Heights'!J71 -> -3.187 | K71: ='Annual Heights'!L71-'Annual Heights'!K71 -> -11.514 | L71: ='Annual Heights'!M71-'Annual Heights'!L71 -> -19.874
... A81: 80 | B81: 539962.99 | C81: 6521129.5 | D81: 8.2211825 | E81: 596.26051 | F81: ='Annual Heights'!G81-'Annual Heights'!F81 -> -9.206 | G81: ='Annual Heights'!H81-'Annual Heights'!G81 -> -2.163 | H81: ='Annual Heights'!I81-'Annual Heights'!H81 -> -2.704 | I81: ='Annual Heights'!J81-'Annual Heights'!I81 -> -3.456 | J81: ='Annual Heights'!K81-'Annual Heights'!J81 -> 1.26 | K81: ='Annual Heights'!L81-'Annual Heights'!K81 -> -12.002 | L81: ='Annual Heights'!M81-'Annual Heights'!L81 -> -14.735
A82: 81 | B82: 539956.17 | C82: 6521126.6 | D82: 7.4236719 | E82: 603.68418 | F82: ='Annual Heights'!G82-'Annual Heights'!F82 -> -8.072 | G82: ='Annual Heights'!H82-'Annual Heights'!G82 -> -2.945 | H82: ='Annual Heights'!I82-'Annual Heights'!H82 -> -2.574 | I82: ='Annual Heights'!J82-'Annual Heights'!I82 -> -3.665 | J82: ='Annual Heights'!K82-'Annual Heights'!J82 -> 0.839 | K82: ='Annual Heights'!L82-'Annual Heights'!K82 -> -12.161 | L82: ='Annual Heights'!M82-'Annual Heights'!L82 -> -15.004 | M82: ='Annual Heights'!$N$82-'Annual Heights'!$M$82 -> -30.544
A83: 82 | B83: 539947.84 | C83: 6521124.9 | D83: 8.5050616 | E83: 612.18924 | F83: ='Annual Heights'!G83-'Annual Heights'!F83 -> -7.892 | G83: ='Annual Heights'!H83-'Annual Heights'!G83 -> -2.915 | H83: ='Annual Heights'!I83-'Annual Heights'!H83 -> -3.027 | I83: ='Annual Heights'!J83-'Annual Heights'!I83 -> -3.265 | J83: ='Annual Heights'!K83-'Annual Heights'!J83 -> 0.606 | K83: ='Annual Heights'!L83-'Annual Heights'!K83 -> -12.512 | L83: ='Annual Heights'!M83-'Annual Heights'!L83 -> -15.729 | M83: ='Annual Heights'!$N$83-'Annual Heights'!$M$83 -> -30.021
A84: 83 | B84: 539939.57 | C84: 6521123.8 | D84: 8.3404006 | E84: 620.52964 | F84: ='Annual Heights'!G84-'Annual Heights'!F84 -> -7.437 | G84: ='Annual Heights'!H84-'Annual Heights'!G84 -> -3.268 | H84: ='Annual Heights'!I84-'Annual Heights'!H84 -> -3.21 | I84: ='Annual Heights'!J84-'Annual Heights'!I84 -> -2.834 | J84: ='Annual Heights'!K84-'Annual Heights'!J84 -> -0.105 | K84: ='Annual Heights'!L84-'Annual Heights'!K84 -> -12.107 | L84: ='Annual Heights'!M84-'Annual Heights'!L84 -> -16.446
A85: 84 | B85: 539931.55 | C85: 6521121.2 | D85: 8.4333064 | E85: 628.96295 | F85: ='Annual Heights'!G85-'Annual Heights'!F85 -> -7.506 | G85: ='Annual Heights'!H85-'Annual Heights'!G85 -> -3.355 | H85: ='Annual Heights'!I85-'Annual Heights'!H85 -> -3.094 | I85: ='Annual Heights'!J85-'Annual Heights'!I85 -> -2.965 | J85: ='Annual Heights'!K85-'Annual Heights'!J85 -> -0.247 | K85: ='Annual Heights'!L85-'Annual Heights'!K85 -> -12.11 | L85: ='Annual Heights'!M85-'Annual Heights'!L85 -> -16.967
A86: 85 | B86: 539923.34 | C86: 6521118.3 | D86: 8.7048003 | E86: 637.66775 | F86: ='Annual Heights'!G86-'Annual Heights'!F86 -> -7.787 | G86: ='Annual Heights'!H86-'Annual Heights'!G86 -> -3.136 | H86: ='Annual Heights'!I86-'Annual Heights'!H86 -> -3.241 | I86: ='Annual Heights'!J86-'Annual Heights'!I86 -> -2.792 | J86: ='Annual Heights'!K86-'Annual Heights'!J86 -> -0.3 | K86: ='Annual Heights'!L86-'Annual Heights'!K86 -> -13.133 | L86: ='Annual Heights'!M86-'Annual Heights'!L86 -> -16.787
A87: 86 | B87: 539915.98 | C87: 6521115.2 | D87: 7.9734615 | E87: 645.64121 | F87: ='Annual Heights'!G87-'Annual Heights'!F87 -> -6.944 | G87: ='Annual Heights'!H87-'Annual Heights'!G87 -> -3.983 | H87: ='Annual Heights'!I87-'Annual Heights'!H87 -> -3.226 | I87: ='Annual Heights'!J87-'Annual Heights'!I87 -> -3.01 | J87: ='Annual Heights'!K87-'Annual Heights'!J87 -> -0.225 | K87: ='Annual Heights'!L87-'Annual Heights'!K87 -> -13.692 | L87: ='Annual Heights'!M87-'Annual Heights'!L87 -> -16.714
A88: 87 | B88: 539908.66 | C88: 6521112.1 | D88: 7.9604734 | E88: 653.60168 | F88: ='Annual Heights'!G88-'Annual Heights'!F88 -> -6.395 | G88: ='Annual Heights'!H88-'Annual Heights'!G88 -> -4.01 | H88: ='Annual Heights'!I88-'Annual Heights'!H88 -> -3.236 | I88: ='Annual Heights'!J88-'Annual Heights'!I88 -> -3.295 | J88: ='Annual Heights'!K88-'Annual Heights'!J88 -> -0.486 | K88: ='Annual Heights'!L88-'Annual Heights'!K88 -> -13.854 | L88: ='Annual Heights'!M88-'Annual Heights'!L88 -> -16.574
A89: 88 | B89: 539901.7 | C89: 6521107.9 | D89: 8.1560471 | E89: 661.75773 | F89: ='Annual Heights'!G89-'Annual Heights'!F89 -> -6.344 | G89: ='Annual Heights'!H89-'Annual Heights'!G89 -> -3.218 | H89: ='Annual Heights'!I89-'Annual Heights'!H89 -> -3.856 | I89: ='Annual Heights'!J89-'Annual Heights'!I89 -> -3.327 | J89: ='Annual Heights'!K89-'Annual Heights'!J89 -> -0.604 | K89: ='Annual Heights'!L89-'Annual Heights'!K89 -> -14.028 | L89: ='Annual Heights'!M89-'Annual Heights'!L89 -> -16.318
A90: 89 | B90: 539895.71 | C90: 6521104.1 | D90: 7.0622363 | E90: 668.81996 | F90: ='Annual Heights'!G90-'Annual Heights'!F90 -> -6.224 | G90: ='Annual Heights'!H90-'Annual Heights'!G90 -> -3.281 | H90: ='Annual Heights'!I90-'Annual Heights'!H90 -> -3.69 | I90: ='Annual Heights'!J90-'Annual Heights'!I90 -> -3.39 | J90: ='Annual Heights'!K90-'Annual Heights'!J90 -> -0.282 | K90: ='Annual Heights'!L90-'Annual Heights'!K90 -> -14.456 | L90: ='Annual Heights'!M90-'Annual Heights'!L90 -> -15.727 | M90: ='Annual Heights'!$N$90-'Annual Heights'!$M$90 -> -28.55
A91: 90 | B91: 539889.45 | C91: 6521100.2 | D91: 7.3719811 | E91: 676.19195 | F91: ='Annual Heights'!G91-'Annual Heights'!F91 -> -5.484 | G91: ='Annual Heights'!H91-'Annual Heights'!G91 -> -4.542 | H91: ='Annual Heights'!I91-'Annual Heights'!H91 -> -2.735 | I91: ='Annual Heights'!J91-'Annual Heights'!I91 -> -3.441 | J91: ='Annual Heights'!K91-'Annual Heights'!J91 -> -0.633 | K91: ='Annual Heights'!L91-'Annual Heights'!K91 -> -14.119 | L91: ='Annual Heights'!M91-'Annual Heights'!L91 -> -15.236
A92: 91 | B92: 539881.72 | C92: 6521097.4 | D92: 8.2179365 | E92: 684.40988 | F92: ='Annual Heights'!G92-'Annual Heights'!F92 -> -5.671 | G92: ='Annual Heights'!H92-'Annual Heights'!G92 -> -4.289 | H92: ='Annual Heights'!I92-'Annual Heights'!H92 -> -2.524 | I92: ='Annual Heights'!J92-'Annual Heights'!I92 -> -3.633 | J92: ='Annual Heights'!K92-'Annual Heights'!J92 -> -0.622 | K92: ='Annual Heights'!L92-'Annual Heights'!K92 -> -13.479 | L92: ='Annual Heights'!M92-'Annual Heights'!L92 -> -15.088
A93: 92 | B93: 539874.85 | C93: 6521097.2 | D93: 6.8668264 | E93: 691.27671 | F93: ='Annual Heights'!G93-'Annual Heights'!F93 -> -6.047 | G93: ='Annual Heights'!H93-'Annual Heights'!G93 -> -2.566 | H93: ='Annual Heights'!I93-'Annual Heights'!H93 -> -2.901 | I93: ='Annual Heights'!J93-'Annual Heights'!I93 -> -5.316 | J93: ='Annual Heights'!K93-'Annual Heights'!J93 -> -0.154 | K93: ='Annual Heights'!L93-'Annual Heights'!K93 -> -12.562 | L93: ='Annual Heights'!M93-'Annual Heights'!L93 -> -15.039
A94: 93 | B94: 539867.17 | C94: 6521096.4 | D94: 7.7271673 | E94: 699.00388 | F94: ='Annual Heights'!G94-'Annual Heights'!F94 -> -6.62 | G94: ='Annual Heights'!H94-'Annual Heights'!G94 -> -1.564 | H94: ='Annual Heights'!I94-'Annual Heights'!H94 -> -3.438 | K94: ='Annual Heights'!L94-'Annual Heights'!K94 -> -11.317 | L94: ='Annual Heights'!M94-'Annual Heights'!L94 -> -14.483
A95: 94 | B95: 539859.87 | C95: 6521092.9 | D95: 8.1014109 | E95: 707.10529 | F95: ='Annual Heights'!G95-'Annual Heights'!F95 -> -7.895 | G95: ='Annual Heights'!H95-'Annual Heights'!G95 -> -1.301 | H95: ='Annual Heights'!I95-'Annual Heights'!H95 -> -2.083 | K95: ='Annual Heights'!L95-'Annual Heights'!K95 -> -10.782 | L95: ='Annual Heights'!M95-'Annual Heights'!L95 -> -13.724
A96: 95 | B96: 539853.36 | C96: 6521089.5 | D96: 7.3558636 | E96: 714.46115 | F96: ='Annual Heights'!G96-'Annual Heights'!F96 -> -9.121 | G96: ='Annual Heights'!H96-'Annual Heights'!G96 -> -0.598 | H96: ='Annual Heights'!I96-'Annual Heights'!H96 -> -1.63 | K96: ='Annual Heights'!L96-'Annual Heights'!K96 -> -9.781 | L96: ='Annual Heights'!M96-'Annual Heights'!L96 -> -13.755
A97: 96 | B97: 539847.11 | C97: 6521087.3 | D97: 6.6260315 | E97: 721.08718 | F97: ='Annual Heights'!G97-'Annual Heights'!F97 -> -9.3 | G97: ='Annual Heights'!H97-'Annual Heights'!G97 -> -1.909 | H97: ='Annual Heights'!I97-'Annual Heights'!H97 -> -0.542 | K97: ='Annual Heights'!L97-'Annual Heights'!K97 -> -8.878 | L97: ='Annual Heights'!M97-'Annual Heights'!L97 -> -13.906
A98: 97 | B98: 539839.58 | C98: 6521086.4 | D98: 7.5913008 | E98: 728.67848 | F98: ='Annual Heights'!G98-'Annual Heights'!F98 -> -7.741 | G98: ='Annual Heights'!H98-'Annual Heights'!G98 -> -1.953 | H98: ='Annual Heights'!I98-'Annual Heights'!H98 -> -1.971 | K98: ='Annual Heights'!L98-'Annual Heights'!K98 -> -7.594 | L98: ='Annual Heights'!M98-'Annual Heights'!L98 -> -14.179
A99: 98 | B99: 539831.26 | C99: 6521085.5 | D99: 8.3553482 | E99: 737.03383 | F99: ='Annual Heights'!G99-'Annual Heights'!F99 -> -5.56 | G99: ='Annual Heights'!H99-'Annual Heights'!G99 -> -3.328 | H99: ='Annual Heights'!I99-'Annual Heights'!H99 -> -2.272 | I99: ='Annual Heights'!J99-'Annual Heights'!I99 -> -5.247 | J99: ='Annual Heights'!K99-'Annual Heights'!J99 -> -1.78 | K99: ='Annual Heights'!L99-'Annual Heights'!K99 -> -7.156 | L99: ='Annual Heights'!M99-'Annual Heights'!L99 -> -14.626
A100: 99 | B100: 539823.86 | C100: 6521083.3 | D100: 7.747991 | E100: 744.78182 | F100: ='Annual Heights'!G100-'Annual Heights'!F100 -> -4.717 | G100: ='Annual Heights'!H100-'Annual Heights'!G100 -> -5.71 | H100: ='Annual Heights'!I100-'Annual Heights'!H100 -> -1.645 | I100: ='Annual Heights'!J100-'Annual Heights'!I100 -> -4.168 | L100: ='Annual Heights'!M100-'Annual Heights'!L100 -> -14.736
A101: 100 | B101: 539817.6 | C101: 6521078.3 | D101: 8.0117164 | E101: 752.79354 | F101: ='Annual Heights'!G101-'Annual Heights'!F101 -> -4.45 | G101: ='Annual Heights'!H101-'Annual Heights'!G101 -> -6.536 | H101: ='Annual Heights'!I101-'Annual Heights'!H101 -> -0.578 | I101: ='Annual Heights'!J101-'Annual Heights'!I101 -> -3.124 | J101: ='Annual Heights'!K101-'Annual Heights'!J101 -> -2.649 | K101: ='Annual Heights'!L101-'Annual Heights'!K101 -> -8.908 | L101: ='Annual Heights'!M101-'Annual Heights'!L101 -> -15.028
A102: 101 | B102: 539810.12 | C102: 6521074.1 | D102: 8.5415054 | E102: 761.33504 | F102: ='Annual Heights'!G102-'Annual Heights'!F102 -> -5.011 | G102: ='Annual Heights'!H102-'Annual Heights'!G102 -> -5.17 | H102: ='Annual Heights'!I102-'Annual Heights'!H102 -> -1.755 | I102: ='Annual Heights'!J102-'Annual Heights'!I102 -> -2.93 | J102: ='Annual Heights'!K102-'Annual Heights'!J102 -> -2.276 | K102: ='Annual Heights'!L102-'Annual Heights'!K102 -> -9.987 | L102: ='Annual Heights'!M102-'Annual Heights'!L102 -> -15.872
A103: 102 | B103: 539802.02 | C103: 6521072.1 | D103: 8.3642145 | E103: 769.69926 | F103: ='Annual Heights'!G103-'Annual Heights'!F103 -> -5.446 | G103: ='Annual Heights'!H103-'Annual Heights'!G103 -> -4.241 | H103: ='Annual Heights'!I103-'Annual Heights'!H103 -> -2.699 | I103: ='Annual Heights'!J103-'Annual Heights'!I103 -> -2.899 | J103: ='Annual Heights'!K103-'Annual Heights'!J103 -> -2.173 | K103: ='Annual Heights'!L103-'Annual Heights'!K103 -> -10.315 | L103: ='Annual Heights'!M103-'Annual Heights'!L103 -> -16.431
A104: 103 | B104: 539794.02 | C104: 6521068.5 | D104: 8.7512772 | E104: 778.45054 | F104: ='Annual Heights'!G104-'Annual Heights'!F104 -> -5.823 | G104: ='Annual Heights'!H104-'Annual Heights'!G104 -> -4.22 | H104: ='Annual Heights'!I104-'Annual Heights'!H104 -> -2.69 | I104: ='Annual Heights'!J104-'Annual Heights'!I104 -> -3.008 | J104: ='Annual Heights'!K104-'Annual Heights'!J104 -> -1.916 | K104: ='Annual Heights'!L104-'Annual Heights'!K104 -> -10.797 | L104: ='Annual Heights'!M104-'Annual Heights'!L104 -> -17.157 | M104: ='Annual Heights'!$N$104-'Annual Heights'!$M$104 -> -31.126
A105: 104 | B105: 539784.57 | C105: 6521066.8 | D105: 9.6081986 | E105: 788.05873 | F105: ='Annual Heights'!G105-'Annual Heights'!F105 -> -6.259 | G105: ='Annual Heights'!H105-'Annual Heights'!G105 -> -3.567 | H105: ='Annual Heights'!I105-'Annual Heights'!H105 -> -3.422 | K105: ='Annual Heights'!L105-'Annual Heights'!K105 -> -11.576 | L105: ='Annual Heights'!M105-'Annual Heights'!L105 -> -17.513
A106: 105 | B106: 539775.98 | C106: 6521062.3 | D106: 9.6875223 | E106: 797.74626 | F106: ='Annual Heights'!G106-'Annual Heights'!F106 -> -7.697 | G106: ='Annual Heights'!H106-'Annual Heights'!G106 -> -2.493 | H106: ='Annual Heights'!I106-'Annual Heights'!H106 -> -3.142 | I106: ='Annual Heights'!J106-'Annual Heights'!I106 -> -4.01 | J106: ='Annual Heights'!K106-'Annual Heights'!J106 -> -1.274 | K106: ='Annual Heights'!L106-'Annual Heights'!K106 -> -11.273 | L106: ='Annual Heights'!M106-'Annual Heights'!L106 -> -19.096
A107: 106 | B107: 539768.08 | C107: 6521060.6 | D107: 8.0769299 | E107: 805.82319 | F107: ='Annual Heights'!G107-'Annual Heights'!F107 -> -7.426 | G107: ='Annual Heights'!H107-'Annual Heights'!G107 -> -2.998 | H107: ='Annual Heights'!I107-'Annual Heights'!H107 -> -3.399 | L107: ='Annual Heights'!M107-'Annual Heights'!L107 -> -18.084 | M107: ='Annual Heights'!$N$107-'Annual Heights'!$M$107 -> -31.311
A108: 107 | B108: 539760.55 | C108: 6521057.3 | D108: 8.2134795 | E108: 814.03667 | F108: ='Annual Heights'!G108-'Annual Heights'!F108 -> -7.814 | L108: ='Annual Heights'!M108-'Annual Heights'!L108 -> -18.208
A109: 108 | B109: 539752.57 | C109: 6521053.3 | D109: 8.9520904 | E109: 822.98876 | F109: ='Annual Heights'!G109-'Annual Heights'!F109 -> -7.888 | I109: ='Annual Heights'!J109-'Annual Heights'!I109 -> -3.013 | J109: ='Annual Heights'!K109-'Annual Heights'!J109 -> -2.885 | K109: ='Annual Heights'!L109-'Annual Heights'!K109 -> -11.575 | L109: ='Annual Heights'!M109-'Annual Heights'!L109 -> -18.174
...
